Workbook

Sheet 招標公告
F1: "登入"後查詢招標公告，複製"友善列印"
F2: ※全選A~D欄，按"跨欄置中"後再貼上

Sheet 請填這
A1: 開標日期： | C1: =LEFT(INDEX(招標公告!C:C,MATCH("開標時間",招標公告!B:B,0),1),3)&"年"&MID(INDEX(招標公告!C:C,MATCH("開標時間",招標公告!B:B,0),1),5,2)&"月"&MID(INDEX(招標公告!C:C,MATCH("開標時間",招標公告!B:B,0),1),8,2)&"日" -> #N/A
A2: 案 號 | C2: =INDEX(招標公告!C:C,MATCH("標案案號",招標公告!B:B,0),1) -> #N/A | G2: 開標次別 | H2: =INDEX(招標公告!C:C,MATCH("新增公告傳輸次數",招標公告!B:B,0),1) -> #N/A
A3: 標的名稱及數量摘要 | C3: =INDEX(招標公告!C:C,MATCH("標案名稱",招標公告!B:B,0),1) -> #N/A | G3: 招標方式 | H3: =INDEX(招標公告!C:C,MATCH("招標方式",招標公告!B:B,0),1) -> #N/A
A4: 刊登政府採購公報日期 | C4: =INDEX(招標公告!C:C,MATCH("機關自定公告日",招標公告!B:B,0),1) -> #N/A | E4: 預算金額 | F4: =INDEX(招標公告!C:C,MATCH("預算金額",招標公告!B:B,0),1) -> #N/A | G4: 上網日期 | H4: =LEFT(INDEX(招標公告!C:C,MATCH("招標公告傳輸時間",招標公告!B:B,0),1),9) -> #N/A
A5: 投標廠商 | C5: 標價 | E5: 優先減價 | G5: 第1次比減 | H5: 第2次比減 | I5: 第3次比減
E6: 第1次減價 | G6: 第2次減價 | H6: 第3次減價 | I6: 第4次減價
A7: 1 | B7: 嗨 | K7: 投標廠商家數 | M7: 7
A8: 2 | B8: 有限公司 | K8: 開標前合格 | M8: 7
A9: 3 | B9: 有限公司 | K9: 審標合格 | M9: 7
A10: 4 | B10: 有限公司 | K10: 審標不合格 | M10: 0
A11: 5 | B11: 有限公司
A12: 6 | B12: 拉拉
A13: 7 | B13: 有限公司
B15: 預算*80%= | C15: =LEFT(F4,LEN(F4)-1)*0.8 -> #N/A
B17: 得標廠商 | C17: 決標金額 | F17: 平均報價 | G17: =AVERAGE(C7:D13) -> #DIV/0! | H17: 底價
B18: ○○ | C18: =MIN(C7:I13) -> 0 | F18: 比例 | G18: =C18/G17 -> #DIV/0! | H18: 比例 | I18: =C18/I17 -> #DIV/0!
H19: 超底價 | I19: =I18-1 -> #DIV/0!
B20: 決標過程常用辭庫 | D20: 參考內容
B21: 報價低 | C21: 1家 | D21: ="本案計1家廠商參與投標，經資格審查廠商文件符合規定，廠商報價新臺幣"&TEXT(C18,"#,###")&"元整，因廠商報價低於底價80%以下，現場由主持人請廠商提出說明，經廠商提出說明後尚屬合理，考量廠商未有政府採購法第五十八條顯不合理之情形，由主持人宣布照價決標。" -> 本案計1家廠商參與投標，經資格審查廠商文件符合規定，廠商報價新臺幣元整，因廠商報價低於底價80%以下，現場由主持人請廠商提出說明，經廠商提出說明後尚屬合理，考量廠商未有政府採購法第五十八條顯不合理之情形，由主持人宣布照價決標。
C22: N家 | D22: ="本案計"&M9&"家廠商參與投標，經資格審查"&M9&"家廠商文件符合規定，最低標廠商報價新臺幣"&TEXT(C18,"#,###")&"元整，因廠商報價低於底價80%以下，現場由主持人請最低標廠商提出說明，經廠商提出說明後尚屬合理，考量廠商未有政府採購法第五十八條顯不合理之情形，由主持人宣布照價決標。" -> 本案計7家廠商參與投標，經資格審查7家廠商文件符合規定，最低標廠商報價新臺幣元整，因廠商報價低於底價80%以下，現場由主持人請最低標廠商提出說明，經廠商提出說明後尚屬合理，考量廠商未有政府採購法第五十八條顯不合理之情形，由主持人宣布照價決標。
B23: 比減過程 #53-1 | C23: 1家-決標 | D23: ="本案僅1家廠商參與投標，審標結果廠商文件符合規定，因廠商報價新臺幣"&TEXT(C7,"#,###")&"元整並高於底價，經主持人與廠商約定減價4次，於第○次減價廠商報價新臺幣"&TEXT(MIN(C7:I7),"#,###")&"元整，在底價以內，由主持人當場宣布決標。" -> 本案僅1家廠商參與投標，審標結果廠商文件符合規定，因廠商報價新臺幣元整並高於底價，經主持人與廠商約定減價4次，於第○次減價廠商報價新臺幣元整，在底價以內，由主持人當場宣布決標。
C24: 1家-保留 | D24: ="1. 本案計1家廠商參與投標，審標結果廠商文件符合規定，因廠商報價新臺幣"&TEXT(C7,"#,###")&"元整並高於底價，經主持人與廠商約定減價4次，於第○次減價廠商報價表示○○○○，報價仍高於底價比例約為"&ROUND(I19*100,2)&"%(未逾8%)，考量廠商報價尚屬合理為免影響本工程完工期程，由主持人宣布保留決標。 2. 本案經簽准同意後，以發文日期為決標日期。" -> #DIV/0!
C25: 1家-廢標 | D25: ="本案僅1家廠商參與投標，審標結果廠商文件符合規定，因廠商報價新臺幣"&TEXT(C7,"#,###")&"元整並高於底價，經主持人與廠商約定減價4次，於第4次減價廠商報價新臺幣"&TEXT(I7,"#,###")&"元整，仍高於底價，由主持人當場宣布廢標。" -> 本案僅1家廠商參與投標，審標結果廠商文件符合規定，因廠商報價新臺幣元整並高於底價，經主持人與廠商約定減價4次，於第4次減價廠商報價新臺幣元整，仍高於底價，由主持人當場宣布廢標。
C26: N家-決標 | D26: ="本案"&M8&"家廠商參與投標，審標結果"&M9&"家廠商文件符合規定，因最低標廠商報價新臺幣"&TEXT(MIN(C7:C11),"#,###")&"元整，在底價以內，由主持人當場宣布決標。" -> 本案7家廠商參與投標，審標結果7家廠商文件符合規定，因最低標廠商報價新臺幣元整，在底價以內，由主持人當場宣布決標。
C27: N家-優-決 | D27: ="本案"&M8&"家廠商參與投標，審標結果"&M9&"家廠商文件符合規定，因最低標廠商報價新臺幣"&TEXT(MIN(C7:C11),"#,###")&"元整高於底價，經最低標廠商優先減價報價新臺幣"&TEXT(MIN(E7:E11),"#,###")&"元整，在底價以內，由主持人當場宣布決標。" -> 本案7家廠商參與投標，審標結果7家廠商文件符合規定，因最低標廠商報價新臺幣元整高於底價，經最低標廠商優先減價報價新臺幣元整，在底價以內，由主持人當場宣布決標。
C28: N家-優-比減-決 | D28: ="本案"&M9&"家廠商參與投標，審標結果"&M10&"家廠商文件符合規定，因最低標廠商報價新臺幣"&TEXT(MIN(C7:C11),"#,###")&"元整高於底價，經最低標廠商優先減價報價新臺幣"&TEXT(MIN(E7:E11),"#,###")&"元整，仍高於底價，經主持人請各投標廠商比減價格，於第○次比減編號○號廠商報價新臺幣"&C18&"元整，在底價以內，由主持人當場宣布決標。" -> 本案7家廠商參與投標，審標結果0家廠商文件符合規定，因最低標廠商報價新臺幣元整高於底價，經最低標廠商優先減價報價新臺幣元整，仍高於底價，經主持人請各投標廠商比減價格，於第○次比減編號○號廠商報價新臺幣0元整，在底價以內，由主持人當場宣布決標。
C29: N家-保留 | D29: ="本案"&M9&"家廠商參與投標，審標結果"&M10&"家廠商文件符合規定，因最低標廠商報價新臺幣"&TEXT(MIN(C7:C11),"#,###")&"元整高於底價，經最低標廠商優先減價報價新臺幣"&TEXT(MIN(E7:E11),"#,###")&"元整，仍高於底價，經主持人請各投標廠商比減價格，於第○次比減編號○號廠商報價新臺幣"&C18&"元整，報價仍高於底價比例約為"&ROUND(I19*100,2)&"%(未逾8%)，考量廠商報價尚屬合理為免影響本工程完工期程，由主持人宣布保留決標。 2. 本案經簽准同意後，以發文日期為決標日期。" -> #DIV/0!
B30: 保留決標 (預算尚未通過立法程序) | D30: 經主持人宣布保留決標，於預算完成立法程序後決標生效。
B31: 廢標
B32: 一、 | D32: 本案無符合招標文件規定之投標廠商，由主持人當場宣布廢標。
B33: 二、 | D33: 本案合於招標文件規定之投標廠商僅有1家，因廠商標價高於底價， 有限公司第2次減價書面表示不願再減，由主持人當場宣布廢標。
B34: 三、 | D34: 本案合於招標文件規定之投標廠商僅有1家，因廠商標價高於底價，故進行減價程序，振鑫營造股份有限公司經3次書面減價，皆未入 底價，主持人當場依政府採購法宣布廢標。
B35: 四、 | D35: 第1次減價金額為新臺幣2，850，000元整，第2次減價金額為新臺幣2，790，000元整，第3次減價金額為新臺幣2，720，000元整，皆未入底價，故主持人當場宣布廢標。
B36: 五、 | D36: 享展工業有限公司報價單價為新臺幣699元，高於底價且廠商未到場，故依據投標須知第85條規定，由主持人當場宣布廢標。

Sheet 簽到表
A1: 澎湖縣政府採購案件參與開標廠商簽到表
A3: 標案案號： | C3: =請填這!C2 -> #N/A
A4: 標案案名： | C4: =請填這!C3 -> #N/A
A5: 開會時間： | C5: =請填這!C1&"上午10時30分" -> #N/A
A6: 開會地點： | C6: 工務處開標室
A8: 投標廠商名稱 | F8: 廠商代表簽名 | H8: 公司統一編號

Sheet 2家以上
A1: 澎湖縣政府 | C1: 開標 /決標紀錄
A2: ="開標時間："&請填這!C1&"上午10時30分" -> #N/A | H2: 地點:工務處開標室
A3: 案號 | D3: =請填這!C2 -> #N/A | H3: 開標次別 | J3: =請填這!H2 -> #N/A
A4: 標的名稱及 數量摘要 | D4: =請填這!C3 -> #N/A | H4: 招標方式 | J4: =請填這!H3 -> #N/A
A5: 刊登政府採購公報日期 | D5: =請填這!C4 -> #N/A | F5: 預算金額 | G5: =請填這!F4 -> #N/A | H5: 上網日期 | J5: =請填這!H4 -> #N/A
A6: 投 標 廠 商 | D6: 標 價 | F6: 優先減價後之標價 | G6: 第1次比減價 格後之標價 | H6: 第2次比減價 格後之標價 | J6: 第3次比減價 格後之標價
A7: ="1." -> 1. | B7: =請填這!B7 -> 嗨 | D7: =請填這!C7 -> 0 | F7: =請填這!E7 -> 0 | G7: =請填這!G7 -> 0 | H7: =請填這!H7 -> 0 | J7: =請填這!I7 -> 0
A8: ="2." -> 2. | B8: =請填這!B8 -> 有限公司 | D8: =請填這!C8 -> 0 | F8: =請填這!E8 -> 0 | G8: =請填這!G8 -> 0 | H8: =請填這!H8 -> 0 | J8: =請填這!I8 -> 0
A9: ="3." -> 3. | B9: =請填這!B9 -> 有限公司 | D9: =請填這!C9 -> 0 | F9: =請填這!E9 -> 0 | G9: =請填這!G9 -> 0 | H9: =請填這!H9 -> 0 | J9: =請填這!I9 -> 0
A10: ="4." -> 4. | B10: =請填這!B10 -> 有限公司 | D10: =請填這!C10 -> 0 | F10: =請填這!E10 -> 0 | G10: =請填這!G10 -> 0 | H10: =請填這!H10 -> 0 | J10: =請填這!I10 -> 0
A11: ="5." -> 5. | B11: =請填這!B11 -> 有限公司 | D11: =請填這!C11 -> 0 | F11: =請填這!E11 -> 0 | G11: =請填這!G11 -> 0 | H11: =請填這!H11 -> 0 | J11: =請填這!I11 -> 0
A12: ="6." -> 6. | B12: =請填這!B12 -> 拉拉 | D12: =請填這!C12 -> 0 | F12: =請填這!E12 -> 0 | G12: =請填這!G12 -> 0 | H12: =請填這!H12 -> 0 | J12: =請填這!I12 -> 0
A13: ="7." -> 7. | B13: =請填這!B13 -> 有限公司 | D13: =請填這!C13 -> 0 | F13: =請填這!E13 -> 0 | G13: =請填這!G13 -> 0 | H13: =請填這!H13 -> 0 | J13: =請填這!I13 -> 0
A14: 以下空白 | D14: =請填這!D14
A15: 審 標 結 果 | C15: 一、 | D15: ="本案投標廠商計"&請填這!M7&"家，開標前合格投標廠商計"&請填這!M8&"家，審標結果"&請填這!M9&"符合招標文件規定，其餘"&請填這!M10&"家不合格。" -> 本案投標廠商計7家，開標前合格投標廠商計7家，審標結果7符合招標文件規定，其餘0家不合格。
A17: 決 標 原 則 | C17: 依政府採購法第52條第1項第1款。
A18: 得 標 廠 商 | C18: =請填這!B18 -> ○○
A19: 決 標 金 額 | C19: 新臺幣 | E19: =請填這!C18 -> 0
A20: 其 他 | C20: 底 價: | E20: =請填這!I17 -> 0
A21: 決 標 過 程 | C21: 一、 | D21: =請填這!B18&"報價（減價後）新臺幣"&TEXT(請填這!C18,"#,###")&"元整最低，且在底價以內，經主持人當場宣布決標。" -> ○○報價（減價後）新臺幣元整最低，且在底價以內，經主持人當場宣布決標。
E24: （註明減價/比減價格/超底價決標/協商/綜合評選之過程）
A25: 備 註
E26: （超底價決標時須另註明超底價之金額、比率及必須決標之緊急情事）
A27: 主 持 人 | G27: 監 辦 主、會計
A28: 會 辦 人 員 記 錄 | G28: 監 辦 有關單位

Sheet 1家
A1: 澎湖縣政府 | C1: 開標 /決標紀錄
A2: ="開標時間："&請填這!C1&"上午10時30分" -> #N/A | H2: 地點:工務處開標室
A3: 案號 | D3: =請填這!C2 -> #N/A | H3: 開標次別 | J3: =請填這!H2 -> #N/A
A4: 標的名稱及 數量摘要 | D4: =請填這!C3 -> #N/A | H4: 招標方式 | J4: =請填這!H3 -> #N/A
A5: 刊登政府採購公報日期 | D5: =請填這!C4 -> #N/A | F5: 預算金額 | G5: =請填這!F4 -> #N/A | H5: 上網日期 | J5: =請填這!H4 -> #N/A
A6: 投 標 廠 商 | D6: 標 價 | F6: 第1次減價 後之標價 | G6: 第2次減價 後之標價 | H6: 第3次減價 後之標價 | J6: 第4次減價 後之標價
A7: ="1." -> 1. | B7: =請填這!B7 -> 嗨 | D7: =請填這!C7 -> 0 | F7: =請填這!E7 -> 0 | G7: =請填這!G7 -> 0 | H7: =請填這!H7 -> 0 | J7: =請填這!I7 -> 0
B8: 以下空白
D12: =請填這!D14
A13: 審 標 結 果 | C13: 一、 | D13: ="本案投標廠商計"&請填這!M7&"家，開標前合格投標廠商計"&請填這!M8&"家，審標結果"&請填這!M9&"符合招標文件規定，其餘"&請填這!M10&"家不合格。" -> 本案投標廠商計7家，開標前合格投標廠商計7家，審標結果7符合招標文件規定，其餘0家不合格。
A15: 決 標 原 則 | C15: 依政府採購法第52條第1項第1款。
A16: 得 標 廠 商 | C16: =請填這!B18 -> ○○
A17: 決 標 金 額 | C17: 新臺幣 | E17: =請填這!C18 -> 0
A18: 其 他 | C18: 底 價: | E18: =請填這!I17 -> 0
A19: 決 標 過 程 | C19: 一、 | D19: =請填這!B18&"報價（減價後）新臺幣"&TEXT(請填這!C18,"#,###")&"元整最低，且在底價以內，經主持人當場宣布決標。" -> ○○報價（減價後）新臺幣元整最低，且在底價以內，經主持人當場宣布決標。
D21: 本案僅1家廠商參與投標,因廠商報價高於底價，經主持人與廠商約定減價4次，於第○次減價廠商報價新臺幣○元整，合於底價，由主持人宣布決標。
E22: （註明減價/比減價格/超底價決標/協商/綜合評選之過程）
A23: 備 註
E24: （超底價決標時須另註明超底價之金額、比率及必須決標之緊急情事）
A25: 主 持 人 | G25: 監 辦 主、會計
A26: 會 辦 人 員 記 錄 | G26: 監 辦 有關單位

Sheet 保留-N家
A1: 澎湖縣政府 | C1: 開標 /保留決標紀錄
A2: ="開標時間："&請填這!C1&"上午10時30分" -> #N/A | H2: 地點:工務處開標室
A3: 案 號 | D3: =請填這!C2 -> #N/A | H3: 開標次別 | J3: =請填這!H2 -> #N/A
A4: 標的名稱及 數量摘要 | D4: =請填這!C3 -> #N/A | H4: 招標方式 | J4: =請填這!H3 -> #N/A
A5: 刊登政府採購公報日期 | D5: =請填這!C4 -> #N/A | F5: 預算金額 | G5: =請填這!F4 -> #N/A | H5: 上網日期 | J5: =請填這!H4 -> #N/A
A6: 投 標 廠 商 | D6: 標 價 | F6: 優先減價後之標價 | G6: 第1次比減價 格後之標價 | H6: 第2次比減價 格後之標價 | J6: 第3次比減價 格後之標價
A7: ="1." -> 1. | B7: =請填這!B7 -> 嗨 | D7: =請填這!C7 -> 0 | F7: =請填這!E7 -> 0 | G7: =請填這!G7 -> 0 | H7: =請填這!H7 -> 0 | J7: =請填這!I7 -> 0
A8: ="2." -> 2. | B8: =請填這!B8 -> 有限公司 | D8: =請填這!C8 -> 0 | F8: =請填這!E8 -> 0 | G8: =請填這!G8 -> 0 | H8: =請填這!H8 -> 0 | J8: =請填這!I8 -> 0
A9: ="3." -> 3. | B9: =請填這!B9 -> 有限公司 | D9: =請填這!C9 -> 0 | F9: =請填這!E9 -> 0 | G9: =請填這!G9 -> 0 | H9: =請填這!H9 -> 0 | J9: =請填這!I9 -> 0
A10: ="4." -> 4. | B10: =請填這!B10 -> 有限公司 | D10: =請填這!C10 -> 0 | F10: =請填這!E10 -> 0 | G10: =請填這!G10 -> 0 | H10: =請填這!H10 -> 0 | J10: =請填這!I10 -> 0
A11: ="5." -> 5. | B11: =請填這!B11 -> 有限公司 | D11: =請填這!C11 -> 0 | F11: =請填這!E11 -> 0 | G11: =請填這!G11 -> 0 | H11: =請填這!H11 -> 0 | J11: =請填這!I11 -> 0
A12: ="6." -> 6. | B12: =請填這!B12 -> 拉拉 | D12: =請填這!C12 -> 0 | F12: =請填這!E12 -> 0 | G12: =請填這!G12 -> 0 | H12: =請填這!H12 -> 0 | J12: =請填這!I12 -> 0
A13: ="7." -> 7. | B13: =請填這!B13 -> 有限公司 | D13: =請填這!C13 -> 0 | F13: =請填這!E13 -> 0 | G13: =請填這!G13 -> 0 | H13: =請填這!H13 -> 0 | J13: =請填這!I13 -> 0
A14: 以下空白 | D14: =請填這!D14
A15: 審 標 結 果 | C15: 一、 | D15: ="本案投標廠商計"&請填這!M7&"家，開標前合格投標廠商計"&請填這!M8&"家，審標結果"&請填這!M9&"符合招標文件規定，其餘"&請填這!M10&"家不合格。" -> 本案投標廠商計7家，開標前合格投標廠商計7家，審標結果7符合招標文件規定，其餘0家不合格。
A17: 決 標 原 則 | C17: 依政府採購法第52條第1項第1款。
A18: 保留得標廠商 | C18: =請填這!B18 -> ○○
A19: 保留決標金額 | C19: 新臺幣 | E19: =請填這!C18 -> 0
A20: 其 他 | C20: 底 價: | E20: 於核准後公開於決標公告。
A21: 決 標 過 程 | C21: 一、 | D21: =請填這!B18&"報價（減價後）新臺幣"&TEXT(請填這!C18,"#,###")&"元整最低，且在底價以內，經主持人當場第53條第2項宣布保留決標。" -> ○○報價（減價後）新臺幣元整最低，且在底價以內，經主持人當場第53條第2項宣布保留決標。
C23: 二、 | D23: 本案於預算完成立法程序後決標生效，並以發文日期為決標日期。
E24: （註明減價/比減價格/超底價決標/協商/綜合評選之過程）
A25: 備 註
E26: （超底價決標時須另註明超底價之金額、比率及必須決標之緊急情事）
A27: 主 持 人 | G27: 監 辦 主、會計
A28: 會 辦 人 員 記 錄 | G28: 監 辦 有關單位

Sheet 保留 -1家
A1: 澎湖縣政府 | C1: 開標 /保留決標紀錄
A2: ="開標時間："&請填這!C1&"上午10時30分" -> #N/A | H2: 地點:工務處開標室
A3: 案 號 | D3: =請填這!C2 -> #N/A | H3: 開標次別 | J3: =請填這!H2 -> #N/A
A4: 標的名稱及 數量摘要 | D4: =請填這!C3 -> #N/A | H4: 招標方式 | J4: =請填這!H3 -> #N/A
A5: 刊登政府採購公報日期 | D5: =請填這!C4 -> #N/A | F5: 預算金額 | G5: =請填這!F4 -> #N/A | H5: 上網日期 | J5: =請填這!H4 -> #N/A
A6: 投 標 廠 商 | D6: 標 價 | F6: 第1次減價 格後之標價 | G6: 第2次減價 格後之標價 | H6: 第3次減價 格後之標價 | J6: 第4次減價 格後之標價
A7: ="1." -> 1. | B7: =請填這!B7 -> 嗨 | D7: =請填這!C7 -> 0 | F7: =請填這!E7 -> 0 | G7: =請填這!G7 -> 0 | H7: =請填這!H7 -> 0 | J7: =請填這!I7 -> 0
B8: 以下空白
A14: 審 標 結 果 | C14: 一、 | D14: ="本案投標廠商計"&請填這!M7&"家，開標前合格投標廠商計"&請填這!M8&"家，審標結果"&請填這!M9&"符合招標文件規定，其餘"&請填這!M10&"家不合格。" -> 本案投標廠商計7家，開標前合格投標廠商計7家，審標結果7符合招標文件規定，其餘0家不合格。
A16: 決 標 原 則 | C16: 依政府採購法第52條第1項第1款。
A17: 保留得標廠商 | C17: =請填這!B18 -> ○○
A18: 保留決標金額 | C18: 新臺幣 | E18: =請填這!C18 -> 0
A19: 其 他 | C19: 底 價: | E19: 於核准後公開於決標公告。
A20: 決 標 過 程 | C20: 一、 | D20: =請填這!B18&"報價（減價後）新臺幣"&TEXT(請填這!C18,"#,###")&"元整最低，且在底價以內，經主持人當場第53條第2項宣布保留決標。" -> ○○報價（減價後）新臺幣元整最低，且在底價以內，經主持人當場第53條第2項宣布保留決標。
C22: 二、 | D22: 本案於預算完成立法程序後決標生效，並以發文日期為決標日期。
E23: （註明減價/比減價格/超底價決標/協商/綜合評選之過程）
A24: 備 註
E25: （超底價決標時須另註明超底價之金額、比率及必須決標之緊急情事）
A26: 主 持 人 | G26: 監 辦 主、會計
A27: 會 辦 人 員 記 錄 | G27: 監 辦 有關單位

Sheet 流標
B1: 澎湖縣政府 | F1: 流標紀錄
A3: ="開標時間："&請填這!C1&"上午10時30分" -> #N/A | H3: 地點:工務處開標室
A4: 案 號 | D4: =請填這!C2 -> #N/A | H4: 開標次別 | J4: =請填這!H2 -> #N/A
A5: 標的名稱及數量摘要 | D5: =請填這!C3 -> #N/A | H5: 招標方式 | J5: =請填這!H3 -> #N/A
A6: 刊登政府採購公報日期 | D6: =請填這!C4 -> #N/A | F6: 預算金額 | G6: =請填這!F4 -> #N/A | H6: 上網日期 | J6: =請填這!H4 -> #N/A
A7: 投 標 廠 商 | D7: 標 價 | F7: 優先減價後 之標價 | G7: 第1次比減價 格後之標價 | H7: 第2次比減價 格後之標價 | J7: 第3次比減價 格後之標價
A8: ="1." -> 1. | B8: =請填這!B7 -> 嗨
A9: ="2." -> 2. | B9: =請填這!B8 -> 有限公司
B10: 以下空白
A14: 審 標 結 果 | C14: 一、 | D14: 本案無投標廠商，由主持人宣布流標。/投標廠商未達3家，經主持人當場宣布流標。
A16: 決 標 原 則 | C16: 依政府採購法第52條第1項第1款。
A17: 得 標 廠 商
A18: 決 標 金 額
A19: 其 他
A20: 決 標 過 程
E21: （註明減價/比減價格/超底價決標/協商/綜合評選之過程）
A22: 備 註
E23: （超底價決標時須另註明超底價之金額、比率及必須決標之緊急情事）
A24: 主 持 人 | G24: 監 辦 主、會計
A25: 會辦人員/記錄 | G25: 監 辦 有關單位

Sheet 廢標
A1: 澎湖縣政府 | C1: 開標 /廢標紀錄
A2: ="開標時間："&請填這!C1&"上午10時30分" -> #N/A | H2: 地點:工務處開標室
A3: 案 號 | D3: =請填這!C2 -> #N/A | H3: 開標次別 | J3: =請填這!H2 -> #N/A
A4: 標的名稱及數量摘要 | D4: =請填這!C3 -> #N/A | H4: 招標方式 | J4: =請填這!H3 -> #N/A
A5: 刊登政府採購公報日期 | D5: =請填這!C4 -> #N/A | F5: 預算金額 | G5: =請填這!F4 -> #N/A | H5: 上網日期 | J5: =請填這!H4 -> #N/A
A6: 投 標 廠 商 | D6: 標 價 | F6: 優先減價後之標價 | G6: 第1次比減價 格後之標價 | H6: 第2次比減價 格後之標價 | J6: 第3次比減價 格後之標價
A7: ="1." -> 1. | B7: =請填這!B7 -> 嗨 | D7: =請填這!C7 -> 0 | F7: =請填這!E7 -> 0 | G7: =請填這!G7 -> 0 | H7: =請填這!H7 -> 0 | J7: =請填這!I7 -> 0
A8: ="2." -> 2. | B8: =請填這!B8 -> 有限公司 | D8: =請填這!C8 -> 0 | F8: =請填這!E8 -> 0 | G8: =請填這!G8 -> 0 | H8: =請填這!H8 -> 0 | J8: =請填這!I8 -> 0
A9: ="3." -> 3. | B9: =請填這!B9 -> 有限公司 | D9: =請填這!C9 -> 0 | F9: =請填這!E9 -> 0 | G9: =請填這!G9 -> 0 | H9: =請填這!H9 -> 0 | J9: =請填這!I9 -> 0
A10: ="4." -> 4. | B10: =請填這!B10 -> 有限公司 | D10: =請填這!C10 -> 0 | F10: =請填這!E10 -> 0 | G10: =請填這!G10 -> 0 | H10: =請填這!H10 -> 0 | J10: =請填這!I10 -> 0
A11: ="5." -> 5. | B11: =請填這!B11 -> 有限公司 | D11: =請填這!C11 -> 0 | F11: =請填這!E11 -> 0 | G11: =請填這!G11 -> 0 | H11: =請填這!H11 -> 0 | J11: =請填這!I11 -> 0
A12: ="6." -> 6. | B12: =請填這!B12 -> 拉拉 | D12: =請填這!C12 -> 0 | F12: =請填這!E12 -> 0 | G12: =請填這!G12 -> 0 | H12: =請填這!H12 -> 0 | J12: =請填這!I12 -> 0
A13: ="7." -> 7. | B13: =請填這!B13 -> 有限公司 | D13: =請填這!C13 -> 0 | F13: =請填這!E13 -> 0 | G13: =請填這!G13 -> 0 | H13: =請填這!H13 -> 0 | J13: =請填這!I13 -> 0
B14: 以下空白 | D14: =請填這!D14
A15: 審 標 結 果 | C15: 一、 | D15: ="本案投標廠商計"&請填這!M7&"家，開標前合格投標廠商計"&請填這!M8&"家，審標結果"&請填這!M9&"符合招標文件規定，其餘"&請填這!M10&"家不合格。" -> 本案投標廠商計7家，開標前合格投標廠商計7家，審標結果7符合招標文件規定，其餘0家不合格。
A17: 決 標 原 則 | C17: 依政府採購法第52條第1項第1款。
A18: 得 標 廠 商 | C18: 無
A19: 決 標 金 額 | C19: 新臺幣 | E19: =請填這!C18 -> 0
A20: 其 他 | C20: 底 價: | E20: 新臺幣
A21: 決 標 過 程 | C21: 一、 | D21: 無可決標對象，經主持人當場宣布廢標。
E24: （註明減價/比減價格/超底價決標/協商/綜合評選之過程）
A25: 備 註
E26: （超底價決標時須另註明超底價之金額、比率及必須決標之緊急情事）
A27: 主 持 人 | G27: 監 辦 主、會計
A28: 會 辦 人 員 記 錄 | G28: 監 辦 有關單位

Sheet 減價單-1家
D1: 編號
A3: 減 價 單
A6: 採購標的： | B6: =請填這!C3 -> #N/A
A8: 第1次減價價格
A9: 標價總額：新臺幣 仟 佰 拾 萬 仟 佰 拾 元整
F11: 印
I12: 印 | J12: (加蓋廠商及負責人印章)
A16: 第2次減價價格
A17: 標價總額：新臺幣 仟 佰 拾 萬 仟 佰 拾 元整
F19: 印
I20: 印 | J20: (加蓋廠商及負責人印章)
A24: 第3次減價價格
A25: 標價總額：新臺幣 仟 佰 拾 萬 仟 佰 拾 元整
F27: 印
I28: 印 | J28: (加蓋廠商及負責人印章)
A32: 第4次減價價格
A33: 標價總額：新臺幣 仟 佰 拾 萬 仟 佰 拾 元整
F35: 印
I36: 印 | J36: (加蓋廠商及負責人印章)
B41: ="中華民國"&請填這!C1 -> #N/A

Sheet 減價單-N家
D1: 編號
A3: 減 價 單
A6: 採購標的： | B6: =請填這!C3 -> #N/A
A8: 第1次比價價格
A9: 標價總額：新臺幣 仟 佰 拾 萬 仟 佰 拾 元整
F11: 印
I12: 印 | J12: (加蓋廠商及負責人印章)
A16: 第2次比價價格
A17: 標價總額：新臺幣 仟 佰 拾 萬 仟 佰 拾 元整
F19: 印
I20: 印 | J20: (加蓋廠商及負責人印章)
A24: 第3次比價價格
A25: 標價總額：新臺幣 仟 佰 拾 萬 仟 佰 拾 元整
F27: 印
I28: 印 | J28: (加蓋廠商及負責人印章)
B41: ="中華民國"&請填這!C1 -> #N/A

Sheet 低投標理由書
A1: 廠商低投標理由書
A4: =" 本廠商參與澎湖縣政府「"&請填這!C3&"」第"&請填這!H2&"次招標之標價，有政府採購法施行細則第79條標價偏低之情況，其說明理由如下：" -> #N/A
C30: 此致
A32: 澎湖縣政府
D34: 投標廠商： | I34: (蓋章)
D36: 負責人或代表人： | I36: (蓋章)
B40: ="中華民國"&請填這!C1 -> #N/A
A42: 備註： | B42: 請依行政院公共工程委員會於100年8月22日工程企字第10000261094號函頒修正之「依政府採購法第58調處理總標價低於底價80%案件之執行程序」辦理。
H46: 100年8月修正版

Sheet 授權書
A1: 投標廠商授權書
G2: （ 請勿裝入投標封內）
A4: =" 本廠商投標「"&請填這!C3&"」茲授權下列代理人全權代理本廠商「參與開標或提出說明、減價、比減價格、協商、更改原報內容或重新報價」及相關事宜，該代理人資料如下：" -> #N/A
A10: 代理人姓名：
A12: 身分證字號：
D17: 委任人
D19: 廠商名稱： | G19: 印章：
D24: 負責人名稱： | G24: 印章：
A28: 注意事項： 廠商負責人或代理人參與開標或提出說明、減價、比減價格、協商、更改原報內容或重新報價及相關事宜時，應依下列規定出示身分證明文件及本授權書： 1.投標廠商若由負責人出席，應出示身分證明文件，無須出示授權書，參與上開作業時，得以簽名代替蓋章，或蓋投標廠商及負責人印章確認。 2.投標廠商若委由代理人出席，則應填寫並出示本授權書及身分證明文件，參與上開作業時，得以簽名(簽代理人姓名)代替蓋章，或蓋投標廠商及負責人印章確認。 3.外國廠商投標，如委由代理人出席者，本授權書應經公證或認證；代理人為外國人士者，身分證字號欄請填寫護照號碼。
