Workbook
Name \c: #REF!
Name \c: #REF!
Name \c: #REF!
Name \c: #REF!
Name \c: #REF!
Name \c: #REF!
Name \c: #REF!
Name \c: #REF!
Name \c: #REF!
Name \c: #REF!
Name \c: #REF!
Name \c: #REF!
Name \c: #REF!
Name \c: #REF!
Name \C1: #REF!
Name \C1: #REF!
Name \C1: #REF!
Name \C1: #REF!
Name \C1: #REF!
Name \C1: #REF!
Name \C1: #REF!
Name \C1: #REF!
Name \C1: #REF!
Name \C1: #REF!
Name \C1: #REF!
Name \C1: #REF!
Name \C1: #REF!
Name \C1: #REF!
Name \d: #REF!
Name \d: #REF!
Name \d: #REF!
Name \d: #REF!
Name \d: #REF!
Name \d: #REF!
Name \d: #REF!
Name \d: #REF!
Name \d: #REF!
Name \d: #REF!
Name \d: #REF!
Name \d: #REF!
Name \d: #REF!
Name \d: #REF!
Name \d: #REF!
Name \d: #REF!
Name \l: #REF!
Name \l: #REF!
Name \l: #REF!
Name \l: #REF!
Name \l: #REF!
Name \l: #REF!
Name \l: #REF!
Name \l: #REF!
Name \l: #REF!
Name \l: #REF!
Name \l: #REF!
Name \l: #REF!
Name \l: #REF!
Name \l: #REF!
Name \l: #REF!
Name \l: #REF!

Sheet 一覽表
A1: 民政課公務統計報表程式一覽表
A2: 表 號 | B2: 表 名 | C2: 表 期
A3: 1734-01-05-3 | B3: 澎湖縣望安鄉民防團隊年度訓練成果 | C3: 年報
A4: 30293-03-01-3 | B4: 澎湖縣望安鄉辦理調解業務概況 | C4: 年報
A5: 30293-03-02-3 | B5: 澎湖縣望安鄉調解委員會組織概況 | C5: 年報
A6: 30293-03-03-3 | B6: 澎湖縣望安鄉辦理調解方式概況 | C6: 年報
A7: 30293-01-01-3 | B7: 澎湖縣望安鄉公共造產成果概況 | C7: 年報
A8: 30293-01-02-3 | B8: 澎湖縣望安鄉公共造產經營事業概況 | C8: 年報
A9: 30294-04-01-3 | B9: 澎湖縣望安鄉公墓設施概況 | C9: 年報
A10: 30294-04-02-3 | B10: 澎湖縣望安鄉骨灰(骸)存放設施概況 | C10: 年報
A11: 30294-04-03-3 | B11: 澎湖縣望安鄉殯葬管理業務概況 | C11: 年報
A12: 社會課公務統計報表程式一覽表
A13: 表 號 | B13: 表 名 | C13: 表 期
A14: 10720-03-01-3 | B14: 澎湖縣望安鄉遭受災害救助情形 | C14: 季報
A15: 10730-04-07-3 | B15: 澎湖縣望安鄉獨居老人服務概況 | C15: 季報
A16: 11140-01-01-3 | B16: 澎湖縣望安鄉推行社區發展工作概況 | C16: 年報
A17: 10730-04-03-3 | B17: 澎湖縣望安鄉老人福利服務成果(一)-活動中心及長青學苑 | C17: 半年報
A18: 財經課公務統計報表程式一覽表
A19: 表 號 | B19: 表 名 | C19: 表 期
A20: 11242-02-04-3 | B20: 澎湖縣望安鄉實施耕地三七五減租成果增減原因 | C20: 年報
A21: 11242-02-02-3 | B21: 澎湖縣望安鄉實施耕地三七五減租後承租人承買耕地面積及人數 | C21: 年報
A22: 11242-02-01-3 | B22: 澎湖縣望安鄉實施耕地三七五減租成果 | C22: 年報
A23: 11242-05-01-3 | B23: 澎湖縣望安鄉各級租佃委員會調解調處案件 | C23: 年報
A24: 1140-00-04-3 | B24: 澎湖縣望安鄉天然災害水土保持設施損失情形 | C24: 年報
A25: 11243-01-01-3 | B25: 澎湖縣望安鄉農耕土地面積 | C25: 年報
A26: 1113-05-01-3 | B26: 澎湖縣望安鄉治山防災整體治理工程 | C26: 年報
A27: 2234-01-01-3 | B27: 澎湖縣望安鄉森林災害報告 | C27: 即刻報
A28: 20902-00-02-3 | B28: 澎湖縣望安鄉公庫收支 | C28: 月報
A29: 工務課公務統計報表程式一覽表
A30: 表 號 | B30: 表 名 | C30: 表 期
A31: 2229-02-01-3 | B31: 澎湖縣望安鄉農路改善及維護工程 | C31: 年報
A32: 清潔隊公務統計報表程式一覽表
A33: 表 號 | B33: 表 名 | C33: 表 期
A34: 11252-01-02-3 | B34: 澎湖縣望安鄉資源回收量 | C34: 月報
A35: 11251-01-01-3 | B35: 澎湖縣望安鄉一般垃圾及廚餘清理狀況 | C35: 月報
A36: 11251-01-03-3 | B36: 澎湖縣望安鄉垃圾回收清除車輛數 | C36: 半年報
A37: 11251-04-02-3 | B37: 澎湖縣望安鄉垃圾處理場(廠)數 | C37: 半年報
A38: 11299-90-01-3 | B38: 澎湖縣望安鄉公共場所一般環境衛生管理工作成果 | C38: 半年報
A39: 30910-01-01-3 | B39: 澎湖縣望安鄉環保人員概況 | C39: 半年報
A40: 30910-02-01-3 | B40: 澎湖縣望安鄉環境保護預算 | C40: 年報
...

Sheet 1734-01-05-3
A1: 公開類 | N1: 編製機關 | P1: 澎湖縣望安鄉公所(民政課)
A2: 年 報 | B2: 每年11月15日前編報 | N2: 表 號 | P2: 1734-01-05-3
A3: 澎 湖 縣 望 安 鄉 民 防 團 隊 年 度 訓 練 成 果
A4: 中華民國 年
C5: 常 年 訓 練 | H5: 基 本 訓 練 | M5: 幹 部 訓 練
C6: 法定 應到 人數 | D6: 未到人數 | E6: 實到人數 | F6: 實到人數占 法定應到人數比率 | G6: 訓練場次 | H6: 法定 應到 人數 | I6: 未到人數 | J6: 實到人數 | K6: 實到人數占 法定應到人數比率 | L6: 訓練場次 | M6: 法定 應到 人數 | N6: 未到人數 | O6: 實到人數 | P6: 實到人數占 法定應到人數比率 | Q6: 訓練場次
C7: (人) | D7: (人) | E7: (人) | F7: (％) | G7: (場) | H7: (人) | I7: (人) | J7: (人) | K7: (％) | L7: (場) | M7: (人) | N7: (人) | O7: (人) | P7: (％) | Q7: (場)
A8: 合 計
A9: 民 防 總 隊 編 組 | B9: 民防
B10: 義勇警察
B11: 交通義勇警察
B12: 村(里)社區守望相助巡守
B13: 山地義勇警察
B14: 戰時災民收容救濟 | P14: =IF(P15=1,C5,M5) -> 常 年 訓 練
B15: 醫護 | P15: 1
B16: 環境保護 | M16: 法定應到人數 | N16: 未到人數 | O16: 實到人數 | P16: 實到人數占 法定應到人數比率 | Q16: 訓練場次
B17: 工程搶修 | M17: =C7 -> (人) | N17: =D7 -> (人) | O17: =E7 -> (人) | P17: =F7 -> (％) | Q17: =G7 -> (場)
A18: 民防團編組 | B18: 團部
B19: 婦女中隊
B20: 民防分團
B21: 勤務組
A22: 防護團及 聯合防護 團編組 | B22: 防護團
B23: 聯合防護團
A24: 備 註
A26: 填表 | C26: 審核 | G26: 主辦業務人員 | K26: 機關長官 | Q26: 中華民國 年 月 日編製
G27: 主辦統計人員
A28: 資料來源：各民防團隊之編組機關（構）。
A29: 填表說明：1.本表編製1式3份，先送主計室會核，並經機關長官核章後，1份送主計室，1份自存，1份報送縣政府主計處，
A30: 本表應於規定期限內由網際網路線上傳送至內政部警政署警政統計資料庫。
A31: 2.實到人數占應到人數比率採四捨五入法計列至小數以下兩位數。
A32: 澎湖縣望安鄉民防團隊年度訓練成果編製說明
A34: 一、統計範圍及對象：凡納入本鄉轄區內民防團隊按民防總隊編組、民防團編組、防護團及聯合防護團編組之人數及其受訓情形均為統計對象。
A35: 二、統計標準時間：以每年1月至10月底之事實為準。
A36: 三、分類標準：按民防總隊編組、民防團編組、防護團及聯合防護團編組分。
A37: 四、統計項目定義：
A38: (一)民防總隊：指由直轄市、縣（市）政府編組，綜理轄內全般民防任務，包括下設之民防、義勇警察、交通義勇警察、村(里)社區守望相助巡守、山 地義勇警察、戰時災民收容救濟、醫護、環境保護、工程搶修等大、中、分、小隊(站、分站、支站) 之民防團隊。
A39: (二)民防團：指由鄉(鎮、市、區)公所編組，負責推行轄區民防業務，包括疏散避難宣慰中隊、民防分團、勤務組之民防團隊。
A40: (三)防護團：指由工作人數達100人以上之機關(構)、學校、團體、公司、廠場編組，負責本單位自衛自救任務之民防團隊。
... A49: 六、編送對象：本表編製1式3份，先送主計室會核，並經機關首長核章後，1份送主計室，1份自存外，1份報送澎湖縣政府警察局。

Sheet 11242-02-04-3
A1: 公 開 類 | M1: 編製機關 | N1: 澎湖縣望安鄉公所(財經課)
A2: 年 報 | C2: 每年終了後1個月內編報 | M2: 表 號 | N2: 11242-02-04-3
A3: 澎湖縣望安鄉實施耕地三七五減租成果增減原因
A4: 中華民國 年
A5: 增減原因 | C5: 承租人人數 | G5: 出租人人數 | K5: 土地筆數 | L5: 租約件數 | M5: 租 約 面 積 (公頃)
C6: 計 | D6: 男 | E6: 女 | F6: 非自然人 | G6: 計 | H6: 男 | I6: 女 | J6: 非自然人 | K6: (筆) | L6: (件)
A7: 上年底原有數
A8: 增加原因 | B8: 合計
B9: 新訂租約
B10: 租約變更
B11: 分(補)訂租約
B12: 農(市)地重劃變更
B13: 更正
B14: 其他
A15: 減少原因 | B15: 合計
B16: 承租人承買
B17: 收回變更使用
B18: 軍公徵收及公共設施使用
B19: 租約變更
B20: 收回自耕
B21: 終止(註銷)租約
B22: 農(市)地重劃變更
B23: 權屬變更
B24: 更正
B25: 其他
A26: 本年底應有數
A27: 填表 | E27: 審核 | J27: 業務主管人員 | L27: 機關首長
J29: 主辦統計人員
A30: 資料來源：依據本公所填報資料編製。 | M30: 中華民國 年 月 日編製
A31: 填表說明：本表編製3份，於完成會核程序並經機關長官核章後，1份送澎湖縣政府財政處，1份送主計室，1份自存。
A33: 澎湖縣望安鄉實施耕地三七五減租成果增減原因編製說明
A34: 一、統計範圍及對象：凡在本鄉境內訂有三七五租約之土地，均為統計之對象。
A35: 二、統計標準時間：靜態資料以每年12月底之事實為準，動態資料以每年1月1日至12月底之事實為準。
A36: 三、分類標準：橫項目按增減原因,縱項目按佃農、地主戶數、土地筆數、租約件數及訂約面積分。
A37: (一)按增減原因分。
A38: (二)按承租人人數、出租人人數、土地筆數、租約件數及租約面積分。
A39: 四、統計項目定義：
A40: (一)承租人:向出租人承租田地以為耕種之承耕者。
A41: (二)出租人:土地所有權人。
A42: (三)田：水田。
...

Sheet 11242-02-02-3
A1: 公 開 類 | F1: 編製機關 | G1: 澎湖縣望安鄉公所(財經課)
A2: 年 報 | B2: 每年終了後1個月內編報 | F2: 表 號 | G2: 11242-02-02-3
A3: 澎湖縣望安鄉實施耕地三七五減租後承租人承買耕地面積及人數
A4: 中華民國 年
A5: 鄉鎮市區別 | B5: 承 買 耕 地 面 積 (公頃) | F5: 承買耕地承租人人數
F6: (人)
B7: 本年 | D7: 累計至本年底止 | F7: 本年 | G7: 累計至本年底止
A8: 總 計
A27: 填表 | B27: 審核 | D27: 業務主管人員 | F27: 機關首長
D28: 主辦統計人員
G32: 中華民國 年 月 日編製
A34: 資料來源：依據本公所填報資料編製。
A35: 填表說明：本表編製3份，於完成會核程序並經機關長官核章後，1份送澎湖縣政府財政處，1份送主計室，1份自存。
A36: 澎湖縣望安鄉實施耕地三七五減租後承租人承買耕地面積及人數編製說明
A37: 一、統計範圍及對象：凡依據耕地三七五減租條例規定之執行案件均為統計之對象。
A38: 二、統計標準時間：以每年12月底之事實為準。
A39: 三、分類標準：縱項目按購買耕地面積及購買耕地佃農戶數分類。
A40: (一)按鄉鎮市區別分。
A41: (二)按承買耕地面積及承買耕地承租人人數分。
A42: 四、統計項目定義：
A43: (一)承買耕地面積：承租人購買其所訂定三七五租約土地之面積。
A44: (二)承租人：向出租人承租田地以為耕種之承耕者。
A45: 五、資料蒐集方法及編製程序：依據本公所填報資料編製。
A46: 六、編送對象：本表編製3份，1份送本所主計室，1份送澎湖縣政府財政處，1份自存。

Sheet 11242-02-01-3
A1: 公 開 類 | L1: 編製機關 | M1: 澎湖縣望安鄉公所(財經課)
A2: 年 報 | B2: 每年終了後1個月內編報 | L2: 表 號 | M2: 11242-02-01-3
A3: 澎湖縣望安鄉實施耕地三七五減租成果
A4: 中華民國 年底
A5: 鄉鎮市區別 | B5: 承租人人數 | F5: 出租人人數 | J5: 土地筆數 | K5: 租約件數 | L5: 租 約 面 積 (公頃)
B6: 計 | C6: 男 | D6: 女 | E6: 非自然人 | F6: 計 | G6: 男 | H6: 女 | I6: 非自然人 | J6: (筆) | K6: (件)
A7: 總計
A22: 填表 | C22: 審核 | I22: 業務主管人員 | L22: 機關首長
I24: 主辦統計人員
L26: 中華民國 年 月 日編製
A30: 資料來源：依據本公所填報資料編製。
A31: 填表說明：本表編製3份，於完成會核程序並經機關長官核章後，1份送澎湖縣政府財政處，1份送主計室，1份自存。
A32: 澎湖縣望安鄉實施耕地三七五減租成果編製說明
A33: 一、統計範圍及對象：凡依據本所耕地三七五減租條例規定之執行案件均為統計之對象。
A34: 二、統計標準時間：以每年1月1日至12月底及實施三七五減租至當年12月底之靜態資料為準。
A35: 三、分類標準：
A36: (一)按鄉鎮市區別分。
A37: (二)地主：按承租人人數、出租人人數、土地筆數、租約件數及租約面積分類。
A38: 四、統計項目定義：
A39: (一)承租人：向地主承租田地以為耕種之承耕者。
A40: (二)出租人：土地所有權人。
A41: 五、資料蒐集方法及編製程序：依據本公所填報資料編製。
A42: 六、編送對象：本表編製3份，1份送本所主計室，1份送澎湖縣政府財政處，1份自存。

Sheet 11242-05-01-3
A1: 公開類 | Q1: 編製機關 | S1: 澎湖縣望安鄉公所(財經課)
A2: 年 報 | C2: 每年終了後1個月內編報 | Q2: 表 號 | S2: 11242-05-01-3
A3: 澎湖縣望安鄉各級租佃委員會調解調處案件
A4: 中華民國 年 | T4: 單位:件
A5: 租佃委員會別 | D5: 總計 | F5: 租額糾紛 | H5: 災歉減免地租 | J5: 正產副產糾紛 | L5: 租期糾紛 | N5: 租約面積糾紛 | P5: 田寮或基地租佃糾紛 | R5: 減租條例 第16條糾紛 | T5: 其他
D6: 成立 | E6: 不成立 | F6: 成立 | G6: 不成立 | H6: 成立 | I6: 不成立 | J6: 成立 | K6: 不成立 | L6: 成立 | M6: 不成立 | N6: 成立 | O6: 不成立 | P6: 成立 | Q6: 不成立 | R6: 成立 | S6: 不成立 | T6: 成立 | U6: 不成立
A7: 總 計
A8: 市、縣(市)租佃委員會
A9: 鄉鎮市區租佃委員會 | B9: 合計
A20: 備 註
A21: 填表 | E21: 審核 | I21: 業務主管人員 | O21: 機關首長
I22: 主辦統計人員
A25: 資料來源：依據本所租佃委員會調解調處案件登記簿資料彙編。 | P25: 中華民國 年 月 日編製
A26: 填表說明：本表編製3份，1份送本所主計室，1份送澎湖縣政府財政處，1份自存。
A27: 澎湖縣望安鄉各級租佃委員會調解調處案件編製說明
A28: 一、統計範圍及對象：凡在本鄉境內各級租佃委員會調解調處案件，均為統計對象。
A29: 二、統計標準時間：以當年1月1日至12月底之事實為準。
A30: 三、分類標準：
A31: (一)以糾紛類別分為:租額糾紛、災歉減免地租、正產副產糾紛、租期糾紛、租約面積糾紛、田寮或基地租佃糾紛、減租條例第16條糾紛及其他等項。
A32: (二)以組織分為:市、縣(市) 租佃委員會 、鄉鎮市區租佃委員會。
A33: 四、統計項目定義：不屬表列各類調處案件應全部列入「其他」內，但必須在備註欄內說明為何種案件及其個別數量。
A34: 五、資料蒐集方法及編製程序：依據本鄉租佃委員會調解調處案件登記簿資料彙編。
A35: 六、編送對象：本表編製3份，1份送本所主計室，1份送澎湖縣政府財政處，1份自存。

Sheet 30293-03-01-3
A1: 公 開 類 | Q1: 編製機關 | S1: 澎湖縣望安鄉公所(民政課)
A2: 年 報 | D2: 每年終了後2個月內編報 | Q2: 表 號 | S2: 30293-03-01-3
A3: 澎湖縣望安鄉辦理調解業務概況
A4: 中華民國 年
A5: 區域別 | B5: 調解委員人數(人) | C5: 結案件數總計 (件) | F5: 民事結案件數 (件)
F6: 合計 | H6: 債權、債務 | J6: 物權 | L6: 親屬 | N6: 繼承 | P6: 商事 | R6: 營建工程 | T6: 其他
C7: 合計 | D7: 成立 | E7: 不成立 | F7: 成立 | G7: 不成立 | H7: 成立 | I7: 不成立 | J7: 成立 | K7: 不成立 | L7: 成立 | M7: 不成立 | N7: 成立 | O7: 不成立 | P7: 成立 | Q7: 不成立 | R7: 成立 | S7: 不成立 | T7: 成立 | U7: 不成立
A8: 望安鄉
A15: 公 開 類 | Q15: 編製機關 | S15: 澎湖縣望安鄉公所(民政課)
A16: 年 報 | D16: 每年終了後2個月內編報 | Q16: 表 號 | S16: 30293-03-01-03
A17: 澎湖縣望安鄉辦理調解業務概況(續完)
A18: 中華民國 年
A19: 區域別 | B19: 刑事結案件數 (件) | U19: 年底正在調解中未結案件數
B20: 合計 | E20: 妨害風化 | G20: 妨害婚姻及家庭 | I20: 傷害 | K20: 妨害自由名譽信用及秘密 | N20: 竊盜及侵佔詐欺 | Q20: 毀棄損壞 | S20: 其他
B21: 成立 | D21: 不成立 | E21: 成立 | F21: 不成立 | G21: 成立 | H21: 不成立 | I21: 成立 | J21: 不成立 | K21: 成立 | M21: 不成立 | N21: 成立 | P21: 不成立 | Q21: 成立 | R21: 不成立 | S21: 成立 | T21: 不成立
A22: 望安鄉
A27: 填表 | F27: 審核 | L27: 業務主管人員 | P27: 機關首長
L29: 主辦統計人員
P31: 中華民國 年 月 日編製
A32: 資料來源：依據本所業務登記資料彙編。
A33: 編製說明：本表編製3份，1份送本所主計室，1份送澎湖縣政府民政處，1份自存。
A34: 澎湖縣望安鄉辦理調解業務概況編製說明
A35: 一、統計範圍及對象：凡依據本所調解條例之執行案件，均為統計對象。
A36: 二、統計標準時間：動態資料以當年1月至12月之事實為準；靜態資料以當年12月底之事實為準。
A37: 三、分類標準：橫項依「區域別」分；縱項依「結案件數總計」、「民事結案件數」、「刑事結案件數」及「年底正在調解中未結案件數」分。
A38: 四、統計項目定義：
A39: （一）民事結案件數：按債權、債務、物權、親屬、繼承、商事、營建工程及其他分。
A40: （二）刑事結案件數：按妨害風化、妨害婚姻及家庭、傷害、妨害自由名譽信用及秘密、竊盜及侵占詐欺、毀棄損壞及其他分。
A41: （三）成立：指當年調解成立之件數。
A42: （四）不成立：指1次或多次調解未達成協議不再調解之當年結案之件數。
A43: （五）本表結案件數總計應與「3311-04-03-3澎湖縣望安鄉辦理調解方式概況」之調解方式合計欄相符。
... A45: 六、編送對象：本表編製3份，1份送本所主計室，1份送澎湖縣政府民政處，1份自存。

Sheet 30293-03-02-3
A1: 公 開 類 | U1: 編製機關 | W1: 澎湖縣望安鄉公所(民政課)
A2: 年 報 | D2: 每年終了後2個月內編報 | U2: 表 號 | W2: 30293-03-02-3
A3: 澎湖縣望安鄉調解委員會組織概況
B4: 中華民國 年底 | W4: 單位：個；人
A5: 鄉鎮市 區別 | B5: 鄉鎮市區數 | C5: 委員總人數 | D5: 性別 | F5: 年齡 | J5: 教育程度 | P5: 行業 | T5: 服務公職 | V5: 委員年資
D6: 男 | E6: 女 | F6: 未滿40歲 | G6: 40-50歲未滿 | H6: 50-60歲未滿 | I6: 60歲以上 | J6: 研究所(含)以上 | K6: 大專校院 | L6: 專科學校 | M6: 高中(職) | N6: 國中 | O6: 國小(含)以下 | P6: 農、林、漁、牧業 | Q6: 製造業、水電、燃氣業及營造業 | R6: 商業 | S6: 服務業及其他 | T6: 曾任公職 | U6: 未曾任公職 | V6: 未滿4年 | W6: 4-未滿8年 | X6: 8-未滿16年 | Y6: 16年以上
A7: 望安鄉
A19: 備 註
A20: 填表 | G20: 審核 | M20: 業務主管人員 | T20: 機關長官
M21: 主辦統計人員
T22: 中華民國 年 月 日編製
A23: 資料來源：依據本所業務登記資料彙編。
A24: 編製說明：本表編製3份，1份送本所主計室，1份送澎湖縣政府民政處，1份自存。
A25: 澎湖縣望安鄉調解委員會組織概況編製說明
A26: 一、統計範圍及對象：凡本所之調解委員會組織均為統計對象。
A27: 二、統計標準時間：以當年12月底之事實為準。
A28: 三、分類標準：橫項依「區域別」分；縱項依「鄉鎮市區數」、「委員總人數」、「性別」、「年齡」、「教育程度」、「行業」、「服務公職」及
A29: 「委員年資」分。
A30: 四、統計項目定義（或說明）：
A31: （一）年齡計算方式：以足歲計算。
A32: （二）年資係指在調解委員會任職之年資，以足年計列，但中途離職者，應將該段年資扣除。
A33: 五、資料蒐集方法及編製程序：依據本所業務登記資料彙編。
A34: 六、編送對象：本表編製3份，1份送本所主計室，1份送澎湖縣政府民政處，1份自存。

Sheet 30293-03-03-3
A1: 公 開 類 | N1: 編製機關 | P1: 澎湖縣望安鄉公所(民政課)
A2: 年 報 | B2: 每年終了後2個月內編報 | N2: 表 號 | P2: 30293-03-03-3
A3: 澎湖縣望安鄉辦理調解方式概況
A4: 中華民國 年 | Q4: 單位：件
A5: 區域別 | B5: 調 解 方 式 | N5: 協 同 調 解
B6: 合 計 | F6: 委 員 集 體 開 會 調 解 | J6: 委 員 獨 任 調 解
B7: 計 | C7: 成立 | D7: 成立比率 (%) | E7: 不成立 | F7: 計 | G7: 成立 | H7: 成立比率 (%) | I7: 不成立 | J7: 計 | K7: 成立 | L7: 成立比率 (%) | M7: 不成立 | N7: 計 | O7: 成立 | P7: 成立比率 (%) | Q7: 不成立
A9: 望安鄉
A15: 填表 | E15: 審核 | I15: 業務主管人員 | M15: 機關首長
I16: 主辦統計人員
A18: 資料來源：依據本所業務登記資料彙編。 編製說明：本表編製3份，1份送本所主計室，1份送澎湖縣政府民政處，1份自存。 | M18: 編製日期： 年 月 日
A19: 澎湖縣望安鄉辦理調解方式概況編製說明
A20: 一、統計範圍及對象：凡依據本所調解條例之執行案件經辦理結案者，均為統計對象。
A21: 二、統計標準時間：以當年1月至12月之事實為準。
A22: 三、分類標準：橫項依「區域別」分；縱項依「調解方式」及「協同調解」分。
A23: 四、統計項目定義：
A24: （一）委員集體開會調解：責任區3人以上為主體之調解案件為委員集體開會調解案件。
A25: （二）委員獨任調解：係指責任區1人為主體進行之調解，惟依法須有女性委員或主席參與者，仍以委員獨任調解計算之。
A26: （三）協同調解：指調解件數中，有相關單位人士參與協同調解者。
A27: （四）成立：指當年調解成立之件數。
A28: （五）不成立：指1次或多次調解未達成協議不再調解之當年結案之件數。
A29: （六）本表調解方式合計欄應與「3311-04-01-3澎湖縣望安鄉辦理調解業務概況」之結案件數總計相符。
A30: 五、資料蒐集方法及編製程序：依據本所業務登記資料彙編。
A31: 六、編送對象：本表編製3份，1份送本所主計室，1份送澎湖縣政府民政處，1份自存。

Sheet 30293-01-01-3
A1: 公開類 | N1: 編製機關 | P1: 澎湖縣望安鄉公所(民政課)
A2: 年報 | B2: 每年4月15日前編報 | N2: 表 號 | P2: 30293-01-01-3
A4: 澎湖縣望安鄉公共造產成果概況
D6: 中華民國 年 | Q6: 單位：新臺幣千元
A7: 造產項目 | B7: 造產種類 | C7: 年底現存量 | E7: 本 年 收 入 | H7: 本 年 支 出 | K7: 事業賸餘 | L7: 事業外賸餘 | M7: 本年賸餘 | N7: 解繳庫數 （含縣市或鄉鎮市區） | O7: 留存事業機關賸餘金額 | P7: 年底現存造產價值估計 | Q7: 歷年累計 總投資額
C8: 單位 | D8: 數 量 | E8: 合 計 | F8: 事業收入 | G8: 事業外收入 | H8: 合 計 | I8: 事業費用 | J8: 事業外費用 | K8: (損失) | L8: (損失) | M8: (短絀)
E9: (1)+(2) | F9: (1) | G9: (2) | H9: (3)+(4) | I9: (3) | J9: (4) | K9: (5)=(1)-(3) | L9: (6)=(2)-(4) | M9: (7)=(5)+(6)
A10: 總 計
A21: 附 註 | B21: 一、累計賸餘分配：A+B________________ 解繳縣市或鄉鎮市庫數：A___________ 留存事業機關賸餘金額：B___________ | F21: 二、造產區域內總土地面積：__________平方公尺 1.觀光育樂事業：__________平方公尺 2.商場：__________________平方公尺 | J21: 3.停車場：__________平方公尺 4.造林：____________平方公尺 5.果樹：____________平方公尺 6.行道樹：______________公里 | M21: 7.作物：___________平方公尺 8.畜牧：___________平方公尺 9.水產：___________平方公尺 10.其他：__________平方公尺
A22: 備 註
A23: 填表 | E23: 審核 | I23: 業務主管人員 | M23: 機關長官
I24: 主辦統計人員
A25: 資料來源：依據本公所資料彙編。
A26: 填表說明： | B26: 1.本年賸餘（短絀）＝本年收入合計－本年支出合計＝事業賸餘（損失）＋事業外賸餘（損失）。
B27: 2.本表編製3份，於完成會核程序並經機關長官核章後，1份送主計室，1份自存，1份送澎湖縣政府民政處。
A29: 澎湖縣望安鄉公共造產成果概況編製說明
A30: 一、統計範圍及對象：凡本鄉依據公共造產獎助及管理辦法之執行案件，均為統計對象。
A31: 二、統計標準時間：動態資料以當年1月至12月之事實為準；靜態資料以當年12月底之事實為準。
A32: 三、分類標準：橫項依「造產項目」分；縱項依「造產種類」、「年底現存量」、「本年收入」、「本年支出」、「事業賸餘（損失)」
A33: 、「事業外賸餘（損失)」、「本年賸餘（短絀）」、「解繳庫數」、「留存事業機關賸餘金額」、「年底現存造產價值估計」及
A34: 「歷年累計總投資額」分。
A35: 四、統計科目定義：
A36: （一）公共造產：指因時、因地，就公墓納骨堂、觀光育樂事業、游泳池、商業市場、停車場、造林、果樹、行道樹、作物、畜牧、水產
A37: 及其他有利地方繁榮兼具經濟價值、便利經營之各種事業選擇經營之。
A38: （二）造產項目：按(1)公墓納骨堂(2)觀光育樂事業(3)游泳池(4)商業市場(5)停車場(6)造林(7)果樹(8)行道樹(9)作物(10)畜牧(11)水
A39: 產(12)其他等12項目分別填寫。
A40: （三）造產種類及現存量單位：係指實施公共造產12大造產項目所屬事業名稱或種類名稱：
... A54: 10.畜牧：凡與畜牧類有關之畜產者，如養豬、養牛、養羊、養鹿、…等均屬之；以上各種類以頭為現存量之單位。

Sheet 30293-01-02-3
A1: 公開類 | Q1: 編製機關 | S1: 澎湖縣望安鄉公所(民政課)
A2: 年報 | B2: 每年4月15日前編報 | Q2: 表 號 | S2: 30293-01-02-3
A4: 澎湖縣望安鄉公共造產經營事業概況
C6: 中華民國 年底 | U6: 單位：平方公尺
A7: 鄉鎮市區別 | B7: 面積 總計 | C7: 公墓納骨堂 | E7: 觀光育樂事業 | G7: 游泳池 | I7: 商業市場 | K7: 停 車 場 | M7: 造 林 | N7: 果 樹 | O7: 行 道 樹 | P7: 作 物 | Q7: 畜 牧 | S7: 水 產 | T7: 其 他
C8: 處數 (處) | D8: 面積 | E8: 處數 (處) | F8: 面積 | G8: 處數 (處) | H8: 面積 | I8: 處數 (處) | J8: 面積 | K8: 處數 (處) | L8: 面積 | M8: 面 積 | N8: 面 積 | O8: 長度 〈公里〉 | P8: 面 積 | Q8: 頭數(頭) | R8: 面積 | S8: 面積 | T8: 處數 (處) | U8: 面積
A23: 備 註
A24: 填表 | E24: 審核 | K24: 業務主管人員 | Q24: 機關長官
K25: 主辦統計人員
A26: 資料來源：依據本公所資料彙編。
A27: 填表說明：本表編製3份，於完成會核程序並經機關長官核章後，1份送主計室，1份自存，1份送澎湖縣政府民政處。
A30: 澎湖縣望安鄉公共造產經營事業概況編製說明
A31: 一、統計範圍及對象：凡本鄉依據公共造產獎助及管理辦法之執行案件，均為統計對象。
A32: 二、統計標準時間：以當年12月底之事實為準。
A33: 三、分類標準：橫項依「鄉鎮市區別」分；縱項依「公墓納骨堂」、「觀光育樂事業」、「游泳池」、「商業市
A34: 場」、「停車場」、「造林」、「果樹」、「行道樹」、「作物」、「畜牧」、「水產」及「其他」分。
A35: 四、統計科目定義：公共造產：係指因時、因地，就公墓納骨堂、觀光育樂事業、游泳池、商業市場、停車場、
A36: 造林、果樹、行道樹、作物、畜牧、水產及其他等有利地方繁榮兼具經濟價值、便利經營之各種事業選擇經
A37: 營之。
A38: 五、資料蒐集方法及編製程序：依據本公所資料彙編。
A39: 六、編送對象：本表編製3份，於完成會核程序並經機關長官核章後，1份送主計室，1份自存，1份送澎湖縣政府
A40: 民政處。

Sheet 30294-04-01-3
A1: 公開類 | T1: 編製機關 | V1: 澎湖縣望安鄉公所(民政課)
A2: 年 報 | B2: 每年終了後4個月內編報 | T2: 表 號 | V2: 30294-04-01-3
A3: 澎湖縣望安鄉公墓設施概況
A4: 中華民國 年
B5: 公私立別 | C5: 總 計 | G5: 經 規 劃 並 啟 用 者 | S5: 未 經 規 劃 者
C6: 年底處數 | F6: 年底土地面積 (平方公尺) | G6: 年底處數 | H6: 年底土 地面積 (平方公尺) | I6: 年底已 使用面積 (平方公尺) | J6: 年底未 使用面積 (平方公尺) | K6: 年底可使用墓基總數(座) | L6: 年底已使用墓基總數(座) | M6: 本年墓基使用數(座) | N6: 年底尚未使用墓基數(座) | O6: 本年埋葬數 | Q6: 本年遷出數 | S6: 年底處數 | T6: 年底土 地面積 (平方公尺) | U6: 本年埋葬數 | W6: 本年遷出數
C7: 合計 | D7: 開放中 | E7: 已停用 | O7: 屍體數(具) | P7: 骨灰數(個) | Q7: 骨骸數(個) | R7: 骨灰數(個) | U7: 屍體數(具) | V7: 骨灰數(個) | W7: 骨骸數(個) | X7: 骨灰數(個)
A8: 總計 | B8: 合計
B9: 公立
B10: 私立
B11: 合計
B12: 公立
B13: 私立
B14: 合計
B15: 公立
B16: 私立
A17: 備 註
A18: 填表 | G18: 審核 | L18: 業務主管人員 | T18: 機關首長
L20: 主辦統計人員
A21: 資料來源：依據本所業務登記資料彙編。 | S21: 中華民國 年 月 日編製
A22: 填表說明：1.本表編製3份，1份送本所主計室，1份送澎湖縣政府民政處，1份自存。
B23: 2.所轄如有以土葬之墓基供埋葬骨灰使用，則會產生1墓基有多個骨灰盒(罐)之情況，年度埋葬數會大於年度墓基使用數。
A24: 澎湖縣望安鄉公墓設施概況編製說明
A25: 一、統計範圍及對象：凡本所所轄範圍內，依法設置及管理之公私立公墓，均為統計對象。
A26: 二、統計標準時間：動態資料以當年1月至12月之事實為準；靜態資料以當年12月底之事實為準。
A27: 三、分類標準：橫項依「公私立別」分；縱項依「經規劃並啟用者」及「未經規劃者」分。
A28: 四、統計項目定義：
A29: （一）公墓：係指公立或私立供公眾營葬屍體、埋藏骨灰或供樹葬之設施（含已禁葬公墓）。
A30: （二）經規劃：已完成墓基、對外通道、公共衛生設備、排水系統、墓道標誌、停車場及其他必要之設施者。
A31: （三）未經規劃：指未具備前（二）項之各種公共設施。
A32: （四）開放中：係指設施營運中，受理民眾申請埋葬或骨灰（骸）存放。
A33: （五）已停用：係指設施已禁葬或不再提供骨灰（骸）存放服務。
A34: （六）年底可使用墓基總數：指當年底公墓內可供埋葬之總墓基座數。
A35: （七）本年墓基使用數：指公墓內本年實際埋葬使用之墓基座數。
... A42: 六、編送對象：本表編製3份，1份送本所主計室，1份送澎湖縣政府民政處，1份自存。

Sheet 30294-04-02-3
A1: 公 開 類 | Q1: 編製機關 | R1: 澎湖縣望安鄉公所(民政課)
A2: 年 報 | C2: 每年終了後4個月內編報 | Q2: 表 號 | R2: 30294-04-02-3
A3: 澎湖縣望安鄉骨灰(骸)存放設施概況
A4: 中華民國 年
B5: 公私立別 | C5: 年底處數 | F5: 年 底 最 大 容 量 | I5: 年底已使用量 （含本年納入數量） | L5: 年 底 尚 未 使 用 量 | O5: 本 年 納 入 數 量 | R5: 本 年 遷 出 數 量
C6: 合計 | D6: 開放中 | E6: 已停用 | F6: 合 計 （位） | G6: 骨 骸 （位） | H6: 骨 灰 （位） | I6: 合 計 （位） | J6: 骨 骸 （位） | K6: 骨 灰 （位） | L6: 合 計 （位） | M6: 骨 骸 （位） | N6: 骨 灰 （位） | O6: 合 計 （位） | P6: 骨 骸 （位） | Q6: 骨 灰 （位） | R6: 合 計 （位） | S6: 骨 骸 （位） | T6: 骨 灰 （位）
A7: 總計 | B7: 合計
B8: 公立
B9: 私立
B10: 計
B11: 公立
B12: 私立
B13: 計
B14: 公立
B15: 私立
B16: 計
B17: 公立
B18: 私立
A19: 填表 | F19: 審核 | K19: 業務主管人員 | P19: 機關首長
K20: 主辦統計人員
A22: 資料來源：依據本所業務登記資料彙編。 | R22: 中華民國 年 月 日編製
A23: 填表說明：本表編製3份，1份送本所主計室，1份送澎湖縣政府民政處，1份自存。
A24: 澎湖縣望安鄉骨灰(骸)存放設施概況編製說明
A25: 一、統計範圍及對象：凡本所所轄範圍內，依法設置及管理之公私立骨灰(骸)存放設施，均為統計對象。
A26: 二、統計標準時間：動態資料以當年1月至12月之事實為準；靜態資料以當年12月底之事實為準。
A27: 三、分類標準：橫項依「公私立別」分；縱項依「年底處數」、「年底最大容量」、「年底已使用量」、「年底尚未使用量」、「本年納入數量」
A28: 及「本年遷出數量」分。
A29: 四、統計項目定義：
A30: （一）骨灰(骸)存放設施：指供存放骨灰(骸)之納骨堂(塔)、納骨牆或其他形式之存放設施，但不包括未依法設置供家族使用之靈骨堂、
A31: 無主墳墓之萬善堂、宗教建築物附設之靈骨堂。
A32: （二）年底處數
A33: 1.開放中：係指設施營運中，受理民眾申請骨灰（骸）存放。
A34: 2.已停用：係指設施不再提供骨灰（骸）存放服務。
... A38: 六、編送對象：本表編製3份，1份送本所主計室，1份送澎湖縣政府民政處，1份自存。

Sheet 30294-04-03-3
A1: 公 開 類 | R1: 編製機關 | T1: 澎湖縣望安鄉公所(民政課)
A2: 年 報 | B2: 每年終了後4個月內編報 | R2: 表 號 | T2: 30294-04-03-3
A3: 澎湖縣望安鄉殯葬管理業務概況
A4: 中華民國 年底
B5: 本年環保葬件數（件） | H5: 年底公立公墓收費狀況 | J5: 年底公立公墓 管理人員 | N5: 年底公立各級單位 殯葬業務承辦人員 | R5: 本年核發埋葬火化 許可證明 | V5: 本年殯葬設施違反殯葬法規處分件數（件）
B6: 非公墓內（灑葬） | F6: 公墓內
B7: 公園、 綠地等 | D7: 海洋 | F7: 樹葬 | H7: 有收費 公墓數 （個） | I7: 未收費 公墓數 （個） | J7: 專任 （人） | L7: 兼任 (人) | M7: 兼任 （人） | N7: 專任 （人） | P7: 兼任 (人) | Q7: 兼任 （人） | R7: 埋葬屍體（件） | T7: 火化屍體或骨骸（件）
B9: 男 | C9: 女 | D9: 男 | E9: 女 | F9: 男 | G9: 女 | H9: 男 | I9: 女 | J9: 男 | K9: 女 | L9: 男 | M9: 女 | N9: 男 | O9: 女 | P9: 男 | Q9: 女 | R9: 男 | S9: 女 | T9: 男 | U9: 女
A10: 總計
A17: 備 註
A18: 填表 | G18: 審核 | J18: 業務主管人員 | R18: 機關首長
J20: 主辦統計人員
S22: 中華民國 年 月 日編製
A23: 資料來源：依據本所業務登記資料彙編。
A24: 填表說明：1. 本表編製3份，1份送本所主計室，1份送澎湖縣政府民政處，1份自存。
A25: 2.本年環保葬件數、本年殯葬設施違反法規處分件數係指公、私立殯葬管理業務均為統計範圍。
A28: 澎湖縣望安鄉殯葬管理業務概況編製說明
A30: 一、統計範圍及對象：凡本所依法所為殯葬管理業務，均為統計對象。
A31: 二、統計標準時間：動態資料以當年1月至12月之事實為準；靜態資料以當年12月底之事實為準。
A32: 三、分類標準：縱項依「本年環保葬件數」、「年底公立公墓收費狀況」、「年底公立公墓管理人員」、「年底公立各級單位殯葬業務承辦人員」
A33: 、「本年核發埋葬火化許可證明」及「本年殯葬設施違反殯葬法規處分件數」分。
A34: 四、統計項目定義：
A35: （一）公墓：係指公立或私立供公眾營葬屍體、埋藏骨灰或供樹葬之設施。
A36: （二）公墓管理人員：即從事公墓清潔、維護、管理及違規案件查報之工作人員。「專任」係指專職於公墓管理工作正式職員；「兼任」則為
A37: 兼職人員，可能包括殯葬管理單位之業務承辦人、公墓約聘人員、臨時工等。
... A42: 六、編送對象：本表編製3份，1份送本所主計室，1份送澎湖縣政府民政處，1份自存。

Sheet 10720-03-01-3
A1: 公 開 類 | B1: 澎湖縣政府(社會局) | C1: 季 報 | D1: 每季終了後20日內編送 | E1: 10720-03-01-2 | F1: 澎湖縣遭受災害救助情形 | G1: 中華民國104年第4季( 10月至12月 )
A2: 依據各公所報送本府資料彙編。 | B2: 民國104年10月18日 16:30:10 印製 | C2: 1.本表編製2份，於完成會核程序並經機關長官核章後，1份送主計處（室），1份自存外，應由網際網路線上傳送至衛生福利部統計處資料庫。 2.風災須註明颱風名稱。 3.每發生1次災害填寫一欄資料，同1鄉鎮市（區）如發生2次以上同種類災害，需填報2欄以上資料。 4.有關「空投」人統計請納入「受災人數/其他」統計。 5.「收容所/所數」：指災害發生時，各鄉、鎮、市(區)實際開設收容場所總數。
A3: 公 開 類 | Q3: 編製機關 | R3: 澎湖縣望安鄉公所(社會課)
A4: 半年報 | B4: 每半年終了後20日內編送 | C4: 每半年終了後20日內編送 | Q4: 表 號 | R4: 10720-03-01-3
A5: 澎湖縣望安鄉遭受災害救助情形
A6: 中華民國 年 半年( 月至 月)
A7: 災害區域 (鄉鎮市區) | C7: 災害種類 | D7: 災害發生日期 (年/月/日) | E7: 收容所 | G7: 受災人數(人) | K7: 住宅毀損受遷救助 | O7: 財物受損影響生計者(戶) | Q7: 救助金額(元)
E8: 所數 | F8: 臨時收容災民數 | G8: 死亡 | H8: 失蹤 | I8: 重傷 | J8: 其他 | K8: 戶 | M8: 人 | Q8: 總計 | R8: 現金 | S8: 實物
K9: 一般戶 | L9: 原住民戶 | M9: 一般戶 | N9: 原住民 | O9: 一般戶 | P9: 原住民戶
A10: 望安鄉
A11: =IF(LEN(B11)>0,B11,"")
A12: =IF(LEN(B12)>0,B12,"")
A13: =IF(LEN(B13)>0,B13,"")
A14: =IF(LEN(B14)>0,B14,"")
A15: =IF(LEN(B15)>0,B15,"")
A16: =IF(LEN(B16)>0,B16,"")
A17: =IF(LEN(B17)>0,B17,"")
A18: =IF(LEN(B18)>0,B18,"")
A19: =IF(LEN(B19)>0,B19,"")
A20: =IF(LEN(B20)>0,B20,"")
A21: =IF(LEN(B21)>0,B21,"")
A22: =IF(LEN(B22)>0,B22,"")
... A29: =IF(LEN(B29)>0,B29,"")
A30: 備 註
A31: =IF(LEN(A2)>0,"填表 審核 業務主管人員 機關長官 中華民國 年 月 日編製 主辦統計人員","") -> 填表 審核 業務主管人員 機關長官 中華民國 年 月 日編製 主辦統計人員
A32: =IF(LEN(A2)>0,"資料來源：","") -> 資料來源： | C32: 依據本所業務登記資料彙編。
A33: =IF(LEN(A2)>0,"填表說明：","") -> 填表說明： | C33: 1.本表編製2份，於完成會核程序並經機關長官核章後，1份送主計室，1份自存外，應由網際網路線上傳送至衛生福利部統計處資料庫。 2.風災須註明颱風名稱。 3.每發生1次災害填寫一欄資料，如發生2次以上同種類災害，需填報2欄以上資料。 4.有關「空投」人統計請納入「受災人數/其他」統計。 5.「收容所/所數」：指災害發生時，本鄉實際開設收容場所總數。

Sheet 10730-04-07-3
A1: 公開類
A2: 季報 | B2: 每季終了後1個月內編送
A3: 澎湖縣望安鄉獨居老人服務概況
A4: 中華民國 年第 季( 月至 月) | AM4: 單位:人、人次
A5: 項目別 | C5: 期底獨居老人人數(人) (含具原住民身分) | L5: 期底具原住民身分 獨居老人人數 | O5: 期底安裝緊急救援裝置人數(人) | X5: 本 期 服 務 成 果 (人次)
C6: 總 計 | F6: 中(低)收入 | I6: 一 般 戶 | O6: 總計 | R6: 中(低)收入 | U6: 一 般 戶 | X6: 總計 | AA6: 關懷訪視 | AD6: 電話問安 | AG6: 就醫協助 | AJ6: 生活協助 | AM6: 送餐服務
C7: 合計 | D7: 男 | E7: 女 | F7: 合計 | G7: 男 | H7: 女 | I7: 合計 | J7: 男 | K7: 女 | L7: 合計 | M7: 男 | N7: 女 | O7: 合計 | P7: 男 | Q7: 女 | R7: 合計 | S7: 男 | T7: 女 | U7: 合計 | V7: 男 | W7: 女 | X7: 合計 | Y7: 男 | Z7: 女 | AA7: 合計 | AB7: 男 | AC7: 女 | AD7: 合計 | AE7: 男 | AF7: 女 | AG7: 合計 | AH7: 男 | AI7: 女 | AJ7: 合計 | AK7: 男 | AL7: 女 | AM7: 合計 | AN7: 男 | AO7: 女
A8: 望安鄉 | B8: 合計
B9: 65～69歲
B10: 70～74歲
B11: 75～79歲
B12: 80～84歲
B13: 85歲以上
A14: 填表 | F14: 審核 | L14: 業務主管人員 | V14: 機關首長 | AK14: 中華民國 年 月 日編製
L15: 主辦統計人員
A17: 資料來源：依據各村(里)所報獨居老人資料彙編。
A18: 填表說明：本表編製3份，1份送主計室，1份送縣政府社會處彙整，1份自存。
A19: 澎湖縣望安鄉獨居老人服務概況編製說明
A20: 一、統計範圍及對象：凡經本所評估需關懷服務之老人（65歲以上一人獨自居住、直系血親卑親屬未居住於同縣市、夫妻同住且均年滿65歲，或同住者無照顧能力之老人等），均為統計對象。
A21: 二、統計標準時間：靜態資料以3月底、6月底、9月底、12月底之事實為準；動態資料第1季以1至3月、第2季以4至6月、第3季以7至9月、第4季以10至12月之事實為準。
A22: 三、分類標準：橫項「期底獨居老人人數」及「期底具原住民身分獨居老人人數」依「鄉鎮市區別及年齡別」分，「期底安裝緊急救援裝置人數」及「本期服務成果」則依「鄉鎮市區別」分；
A23: 「期底具原住民身分獨居老人人數」、「本期服務成果」及「本期轉介長期照顧」則依「性別」分。
A24: 四、統計項目定義：
A25: (一)期底獨居老人人數：係指經本所評估需關懷服務之老人期底人數，包含65歲以上一人獨自居住、直系血親卑親屬未居住於同縣市、夫妻同住且均年滿65歲，或同住者無照顧能力之老人
A26: 等。其中「中（低）收入」係指符合低收入戶及家庭總收入分配全家人口，每人每月未超過最低生活費2.5倍者。
A27: (二)期底具原住民身分獨居老人人數：依指戶籍登記具原住民身分之獨居老人期底人數。
A28: (三)期底安裝緊急救援裝置人數：指為協助獨居老人於遇有突發或緊急危難時，能獲得及時救援所安裝緊急救援裝置之期底人數，不含服務期間拆機人數。
... A37: 六、編送對象：本表編製3份，1份送主計室，1份送縣政府社會處彙整，1份自存。

Sheet 11140-01-01-3
A1: 公開類 | T1: 編製機關 | V1: 澎湖縣望安鄉公所(社會課) | AK1: 編製機關 | AM1: 澎湖縣望安鄉公所(社會課)
A2: 年度報 | B2: 每年終了後2個月內編送 | T2: 表 號 | V2: 11140-01-01-3 | Y2: 年度報 | Z2: 每年終了後2個月內編送 | AK2: 表 號 | AM2: 11140-01-01-3
A3: 澎湖縣望安鄉推行社區發展工作概況 | Y3: 澎湖縣望安鄉推行社區發展工作概況（續）
A4: 中華民國 年 | Y4: 中華民國 年
A5: 鄉鎮市區 | B5: 已劃定社區數 | C5: 社區發展協會數 | D5: 社區 戶數 | E5: 社區 人口數 | F5: 理監事人數 | R5: 社區發展協會會員數 | U5: 設置社區生產建設基金 | V5: 實際使用經費(元) | Y5: 鄉鎮市區 | Z5: 社區活動中心(幢) | AD5: 社區發展工作項目
F6: 合計 | I6: 理事長 | L6: 理事(不含理事長) | O6: 監事 | V6: 合 計 | W6: 政府 補助款 | X6: 社區 自籌款 | AD6: 教育訓練 | AF6: 社區內部組織 | AK6: 社區照顧 關懷據點 | AL6: 長期照 顧據點 | AM6: 社區 刊物 | AN6: 服務成果
F7: 合計 | G7: 男 | H7: 女 | I7: 合計 | J7: 男 | K7: 女 | L7: 合計 | M7: 男 | N7: 女 | O7: 合計 | P7: 男 | Q7: 女 | R7: 合計 | S7: 男 | T7: 女 | Z7: 合計 | AA7: 原建 (未作修擴建) | AB7: 新建 | AC7: 修擴建 | AD7: 辦理社區幹部訓練 | AE7: 辦理社區觀摩 | AF7: 社區守望相助隊 | AG7: 社區志願服務 | AN7: 福利服務或活動 | AO7: 其他 服務
AG8: 團隊 | AH8: 志工數
AH9: 合計 | AI9: 男 | AJ9: 女
B10: (處) | C10: (個) | D10: (戶) | E10: (人) | F10: (人) | G10: (人) | H10: (人) | I10: (人) | J10: (人) | K10: (人) | L10: (人) | M10: (人) | N10: (人) | O10: (人) | P10: (人) | Q10: (人) | R10: (人) | S10: (人) | T10: (人) | U10: (個) | AD10: (人次) | AE10: (人次) | AF10: (隊) | AG10: (隊) | AH10: (人) | AI10: (人) | AJ10: (人) | AK10: (處) | AL10: (處) | AM10: (期) | AN10: (受益人次) | AO10: (受益人次)
A11: 總計 | Y11: 總計
A30: 備註 | Y30: 備註
Y31: 填表 | AE31: 審核 | AK31: 機關長官
Y34: 資料來源：依據本鄉轄內已成立社區發展協會所報工作概況資料審核彙編。
Y35: 填表說明：1.本表編製3份，1份送主計室，1份自存外，1份送澎湖縣政府。
Y36: 2.本表所填資料以已成立社區發展協會為準，不包含未成立社區發展協會資料。
Y37: 3.社區照顧關懷據點、長期照顧據點由同一社區發展協會設置，請分別採計數量。非由社區發展協會設置之據點，不予列計。
A38: 澎湖縣望安鄉推行社區發展工作概況編製說明
A39: 一、統計範圍及對象：凡在本鄉(市)內已成立社區發展協會之社區，均為統計對象。 | Y39: 2.社區守望相助隊：社區居民基於需要，自行組織以維護住家安全，增進家戶情感為目的之組織。
A40: 二、統計標準時間：動態資料以1至12月事實為準；靜態資料以12月底之事實為準。 | Y40: 3.社區志願服務團隊：社區發展協會依據志願服務法，運用或召募社區內外熱心民眾所籌組成立之志工團隊，貢獻其知識、體能、勞力、
A41: 三、分類標準：橫項依「鄉鎮市區別」分；縱項依「已劃定社區數」、「社區發展協會數」、「社區戶數」、「社區人口數」、「理監事人數」、 | Y41: 經驗、技術、時間等，以促進社區各項建設及提昇社區生活品質。
A42: 「社區發展協會會員數」、「設置社區生產建設基金」、「實際使用經費」、「社區活動中心(幢)」及「社區發展工作項目」分。 | Y42: 4.志工：指社區發展協會依志願服務法所召募、運用、管理，並領有志願服務紀錄冊之志願服務人員。
A43: 四、統計項目定義： | Y43: 5.社區照顧關懷據點：為促進社區老人身心健康，落實在地老化及社區營造精神，由社區發展協會運用在地人力、物力資源，提供關懷
A44: (一)社區：依「社區發展工作綱要」第2條規定，係指「經鄉(鎮、市、區)社區發展主管機關劃定，供為依法設立社區發展協會，推動社區發展 | Y44: 訪視、電話問安諮詢及轉介服務、餐飲服務、辦理健康促進活動等，以延緩長者老化速度，發揮社區自助互助照顧功能。
A45: 工作之組織與活動區域」。 | Y45: 6.長期照顧據點：由社區發展協會辦理巷弄長照站、失智服務據點等長照據點，以營造高齡者友善環境，達到在地老化之目標。
A46: (二)已劃定社區數：為推展社區發展業務，得視實際需要，於該鄉（鎮、市、區）內，依據歷史關係、文化背景、地緣形勢、人口分布、生態 | Y46: 7.社區刊物：配合推展社區活動，報導社區生活，凝聚社區意識而發行之刊物。
A47: 特性、資源狀況、住宅型態、農、漁、工、礦、商業之發展及居民之意向、興趣及共同需求等因素劃定數個社區區域。 | Y47: 8.福利服務或活動：以社區內兒童、少年、婦女、老人、身心障礙者、低收入戶、新住民或家庭暴力受害者等弱勢族群所提供之關懷照顧
A48: (三)社區發展協會：係指經主管機關劃定，依法成立之社區發展協會。 | Y48: 與服務所受益之人次。
A49: (四)社區戶數：係指社區劃定範圍內所有戶數。 | Y49: 9.其他服務：除前目外，由社區發展協會所提供或辦理之服務或活動(如：環境綠美化、資源回收、社區文化導覽、社區產業推廣...等)
A50: (五)社區人口數：係指社區劃定範圍內所有人口數。 | Y50: 所受益之人次。
... A52: (七)社區生產建設基金：為充裕社區經濟來源，健全社區發展組織，期能負起社區成果維護，推行社會教育、社區文化活動及福利服務工作， | Y52: 六、編送對象：本表編製3份， 1份送主計室，1份送澎湖縣政府社會處，1份自存。
A53: 以提昇社區居民生活品質而籌措之基金。
A54: (八)使用經費：指依法成立之社區發展協會，其經費來源。
A55: 1.政府補助款：為促進社區發展，增進居民福利，根據社區發展協會所提之計畫及自籌款項，政府機關依年度社區發展工作計畫給予之補
A56: 助。(包含中央、本鄉(市)、鄉（鎮、市、區)補助款)
A57: 2.社區自籌款：社區發展協會為促進社區發中央各部會、本鄉(市)、鄉（鎮、市、區)展，增進居民福利，擬定工作計畫，結合社區資源及
A58: 由居民繳交或樂捐之款項。(包含民眾配合款、民眾捐款、生產收益、其他收入)
A59: (九)社區活動中心（不含市民活動中心、里集會所、里民活動中心、老人活動中心等）：為推展社區發展各項建設工作之需要而興建，提供作
A60: 為社區民眾集會及辦理各項文康育樂活動之場所，包含原建(未作修擴建)、新建及修擴建，並不考慮產權問題；另數個社區發展協會共用
A61: 1幢活動中心，請以總計1為統計代表，並備註共用之社區發展協會名稱。
...

Sheet  1113-05-01-3
A1: 公 開 類 | O1: 編製機關 | P1: 澎湖縣望安鄉公所(財經課)
A2: 年 度 報 | B2: 年度終了後2月內填報 | O2: 表 號 | P2: 1113-05-01-3
A4: 澎湖縣望安鄉治山防災整體治理工程
F6: 中華民國 年度 | P6: 單位：新台幣元
A7: 工程名稱 | B7: 地點 | C7: 總工程費（按經費來源分） | G7: 工 作 數 量
B8: （鄉鎮別） | C8: 總 計 | D8: 中 央 | E8: 縣（市） | F8: 其 他 | G8: 防砂壩 （座） | H8: 整流 （公尺） | I8: 固床工 （座） | J8: 護岸 （公尺） | K8: 魚道 （座） | L8: 蝕溝控制 （公尺） | M8: 崩塌地處理 （公頃） | N8: 植生綠美化 （平方公尺） | O8: 生物通道 （座） | P8: 其他 （座、塊、公尺、 公頃、平方公尺）
A9: 合 計
A24: 填表 | C24: 審核 | I24: 業務主管人員 | M24: 機關首長 | O24: 中華民國 年 月 日編製
I25: 主辦統計人員
A27: 資料來源：根據本鄉年度內完工治山防災等工程結算書，未完工者以發包金額或發包後實際需要工程費填報。
A28: 填表說明：本表編製1式3份，1份送主計室，1份送自存，1份送澎湖縣林務公園管理所。
A29: 澎湖縣望安鄉治山防災整體治理工程編製說明
A30: 一、統計範圍及對象：凡在本鄉境內辦理治山防災工程者均為統計對象。
A31: 二、統計標準時間：以會計年度期間之事實為準。
A32: 三、分類標準：按工程名稱、地點、總工程費（按經費來源分）及工作數量。
A33: 四、統計項目定義：總工程費係指本年度已完工者以決算金額，未完工者以發包後實際需要工程費填報，惟不含管理費在內。
A34: 五、資料蒐集方法及編製程序：依本公所轄內相關工程資料編製。
A35: 六、編送對象：本表編製1式3份，1份送主計室，1份自存，1份送澎湖縣林務公園管理所。

Sheet 1140-00-04-3
A1: 公開類 | F1: 編製機關 | G1: 澎湖縣望安鄉公所(財經課)
A2: 年報 | B2: 年報於每年二月底前編報 | F2: 表號 | G2: 1140-00-04-3
A3: 澎湖縣望安鄉天然災害水土保持設施損失情形
D6: 中華民國109年(1月1日至12月31日） | G6: 單位：新台幣千元
A7: 災害種類 （災害名稱） | C7: 災害發生時間 | D7: 總損失金額 | E7: 水土保持 | G7: 備註
E8: 農路及產業道路損失 | F8: 治山防災損失
A9: 總計 | C9: 無 | D9: 0 | E9: 0 | F9: 0
A10: 地震 | B10: 計 （災害名稱） | C10: 無 | D10: 0 | E10: 0 | F10: 0
A11: 颱風 | B11: 計 （災害名稱） | C11: 無 | D11: 0 | E11: 0 | F11: 0
A12: 水災 | B12: 計 （災害名稱） | C12: 無 | D12: 0 | E12: 0 | F12: 0
A13: 其他災害 | B13: 計 （災害名稱） | C13: 無 | D13: 0 | E13: 0 | F13: 0
A14: 資料來源：依據每次災後災情報告彙整。
A15: 填表說明:本表編製三份，先送主計室會核登記抽存一份，一份自存，一份送澎湖縣政府農漁局。
A16: 填表 | C16: 審核 | D16: 業務主管人員 | F16: 機關首長
D17: 主辦統計人員
G18: 中華民國110年3月3日編製
A20: 澎湖縣望安鄉天然災害水土保持設施損失情形編製說明
A21: 一、統計範圍及對象：凡在本鄉轄內發生地震、颱風、水災等等天然災害之水土保持類設施損失均為統計對象。
A22: 二、統計標準時間：年報以每年一月一日至十二月底之事實為準，臨時報以天然災害發生至結束之事實為準。
A23: 三、分類標準：按天然災害各種、時間、損失金額依農路及產業道路損失、治山防災損失等分。
A24: 四、統計項目定義（或說明）：
A25: （一）災害種類：指地震、颱風、水災及其他等天然災害。
A26: （二）總損失金額：指遭受天然災害損失之農林漁牧類產品或設施損失之金額合計。
A27: （三）農路及產業道路損失：指農路及產業道路遭受天然災害之損失金額。
A28: （四）治山防災損失：指治山防災設施受天然災害之損失金額。
A29: 五、資料蒐集方法及編製程序：
A30: （一）由本公所經辦人員，於天然災害發生時作初步損失估計表(速報)，並於天然災害停止後三日內編造詳報（速
A31: 報三日內、詳報七日內）。
... A33: 六、編送對象：本表編製三份，先送主計室會核登記抽存一份，自存一份，一份送澎湖縣政府農漁局。

Sheet 2229-02-01-3
A1: 公開類 | G1: 編制機關 | H1: 澎湖縣望安鄉公所(工務課)
A2: 年度報 | B2: 年度終了後二個月填報 | G2: 表號 | H2: 2229-02-01-3
A3: 澎湖縣望安鄉農路改善及維護工程
G5: 單位： | H5: 道路總長度：公里
D6: 中華民國 年度 | H6: 總工程費：新台幣元
A7: 工程名稱 | B7: 地點 （鄉鎮市別） | C7: 道路總長度 | E7: 總工程費（按經費來源）
C8: 改善維護 | E8: 總計 | F8: 中央 | G8: 縣 | H8: 其他
A9: 合計
A14: 資料來源：根據本鄉年度內完工農路改善、維護等工程結算書，未完工者以發包金額或發包後實際需要工程費填報資料編製。
A15: 填表說明:本表編製三份，先送會計室會核登記抽存一份，一份自存，一份送澎湖縣政府農漁局。
A16: 填表 | C16: 審核 | E16: 業務主管人員 | H16: 機關首長
E17: 主辦統計人員
A18: 澎湖縣望安鄉農路改善及維護工程編製說明
A19: 一、統計範圍及對象：凡在本鄉境內農村生產資材與產物運輸需要而輔助改善及維護之農路為統計對象。
A20: 二、統計標準時間：以當年1月1日至12月31日之事實為準。
A21: 三、分類標準：按工程名稱、地點、道路總長度分；總工程費按中央、縣、其他等經費來源分。
A22: 四、統計項目定義（或說明）：
A23: （一）總工程費：本年度已完工者以決算金額，未完工以發包實際需要工程費填報，惟不含管理費在內。
A24: （二）農路：係指鄉鎮市村里道路、產業道路等鄰側支線及末端之地區間，運輸農產物及農業生產材之農村道路。
A25: 五、資料蒐集方法及編製程序：依本公所相關工程資料編製。
A26: 六、編送對象：本表編製一式三份，一份自存，一份送澎湖縣政府農漁局。

Sheet 11243-01-01-3
A1: 公 開 類 | G1: 編製機關 | H1: 澎湖縣望安鄉公所(財經課)
A2: 年 報 | B2: 次年4月底前編報 | G2: 表 號 | H2: 11243-01-01-3
A4: 澎 湖 縣 望 安 鄉 農 耕 土 地 面 積
D7: 中華民國 年 | J7: 單位：公頃
A8: 鄉鎮(市區)別 | D8: 耕作地
C9: 總 計 | D9: 合計 | E9: 短期耕作地 | I9: 長期耕作地 | J9: 長期休閒地
E10: 小計 | F10: 水稻 | G10: 水稻以外之短期作 | H10: 短期休閒
A12: 總 計
A26: 填表 | C26: 審核 | E26: 業務主管人員 | G26: 機關首長 | I26: 中華民國 年 月 日編製
E27: 主辦統計人員
A29: 資料來源：依據本鄉農情調查結果編製。
A30: 填表說明:本表編製一式二份，一份自存、一份送主計室。
A31: 澎湖縣望安鄉農耕土地面積編製說明
A32: 一、統計範圍及對象：凡本鄉所轄可供種植經濟生產農作物之土地，無論土地地目、是否適宜耕作或合法作為農業使用與否，均為統計對象。
A33: 二、統計標準時間：以每年1期作之耕作事實為準。
A34: 三、分類標準：分耕作地、長期休閒地兩大類。耕作地分為短期耕作地、長期耕作地；短期耕作地再分為水稻、水稻以外之短期作、短期休閒。
A35: 四、統計項目定義： 農耕土地指不論現況種植與否，可供栽培作物之土地，包括休耕地、短期休閒地及長期休閒地。
A36: (一)耕作地：
A37: 1.短期耕作地：含栽培水稻之耕地、水稻以外之短期作耕地(雜糧、蔬菜等)及短期休閒地。
A38: 2.長期耕作地：指栽培長期果樹類等之耕地。
A39: (二)長期休閒地：係指耕地長期荒蕪，未種植作物之土地。
A40: 五、資料蒐集方法及編製程序：
... A43: 六、編送對象：本表編製一式二份，一份自存、一份送主計室。

Sheet 2234-01-01-3
A1: 公開類 | L1: 編製機關 | M1: 澎湖縣望安鄉公所(財經課)
A2: 即刻報 | B2: 災害發現後15日內編報 | L2: 表 號 | M2: 2234-01-01-3
E4: 澎湖縣望安鄉森林災害報告
E8: 中華民國 年 月
A9: 災害種類 | B9: 災害年月日 | C9: 發現年月日 | D9: 災害地點 | E9: 所有別 | F9: 面 積 | H9: 數 量 | L9: 價 值 | N9: 原因
F10: 被害 | G10: 剷除收回 | H10: 樹種 | I10: 單位 | J10: 被害 | K10: 損失 | L10: 被害 | M10: 損失
A31: 填表 | C31: 審核 | F31: 業務主管人員 | J31: 機關首長 | L31: 中華民國 年 月 日編製
F32: 主辦統計人員
A35: 資料來源:依據本鄉公所每次發現災害報告之資料編製。
A36: 填表說明：1.本表編製3份，於完成會核程序並經機關長官核章後，1份送主計室，1份自存，1份送澎湖縣林務公園管理所。
A37: 2.「災害地點」應填列鄉（市）。
A38: 3.「面積」以公頃計列至小數第4位止，5位以下四捨五入，但未達0.0001公頃者以0.0000公頃計列，無面積時則以「-」填列。
A39: 4.「數量單位」林木以立方公尺計列至小數2位止，3位以下四捨五入，不能計出材積時，以公斤或株計算；幼苗（苗圃地上之苗木屬之）、幼齡木（出栽後，撫育期間之幼木，通常
A40: 為樹高度高於1公尺，但樹徑小於10公分之幼樹屬之）以株數；竹以支數；副產物以公斤計列之。
A41: 澎湖縣望安鄉森林災害報告編製說明
A42: 一、 統計範圍及對象：本鄉轄區內之林業用地或依非都市土地使用管制規則規定適用林業用地管制之土地、林木、竹林及副產物遇有發生災害，無論其所有權屬於國有、公有或私有，均為統計對象。
A43: 二、 統計標準時間：以災害發生之事實為準。
A44: 三、 分類標準：按災害種類、所有別、面積（被害、剷除收回）、數量（樹種、單位、被害、損失）、價值（被害、損失）等分類。
A45: 四、 統計項目定義：
A46: （一） 災害種類：
... A61: 六、 編送對象：本表編製3份，1份送主計室，1份自存，1份送澎湖縣林務公園管理所。

Sheet 11252-01-02-3
A1: 公 開 類 | G1: 編製機關 | H1: 澎湖縣望安鄉公所(清潔隊)
A2: 月 報 | C2: 期間終了20日內編製 | G2: 表 號 | H2: 11252-01-02-3
A3: 澎湖縣望安鄉資源回收量
A5: 中華民國 年 月 單位：公斤
A6: 項 目 別 | C6: 總 計 | E6: 按清運單位分
E7: 環保單位 自行清運 | G7: 環保單位 委託清運 | I7: 公私處所 自行或委託清運
A11: 總 計
A12: 紙 類
A13: 紙容器
A14: 鋁箔包
A15: 鋁容器
A16: 鐵容器
A17: 其他金屬製品
A18: 塑膠容器
A19: 包裝用發泡塑膠
A20: 其他塑膠製品
A21: 輪 胎
A22: 玻璃容器
... A34: 其 他
A35: 填表 | B35: 審核 | E35: 業務主管人員 | G35: 機關首長 | J35: 中華民國 年 月 日編製
E36: 主辦統計人員
A38: 資料來源：依據本所之資源回收成果統計資料編製。
A39: 填表說明：1.本表編製1式3份，1份送澎湖縣政府環境保護局，1份送主計室，1份自存，另上傳至環境部「一般(生活)廢棄物管理資訊系統」。
A40: 2.本表皆以公斤為單位，若無法得其實際重量，折算標準參考編製說明四。
A41: 澎湖縣望安鄉資源回收量編製說明
A42: 一、統計範圍及對象：本鄉清潔隊、社區、學校、機關團體等回收單位回收之資源垃圾均為統計對象。
A43: 二、統計標準時間：以每月一日至月底之事實為準。
A44: 三、分類標準：(一)縱行項目按清運單位別分。
A45: (二)橫列項目按回收項目別分。
A46: 四、統計項目定義：
A47: (一)資源垃圾：指依廢棄物清理法第五條第六項公告之一般廢棄物回收項目(廚餘除外)及第十五條第二項公告應回收之物品或其包裝、容器經食用或使用
A48: 後產生之一般廢棄物，包括直轄市、縣（市）主管機關增訂並報請中央主管機關備查之其他一般廢棄物回收項目，然「機動車輛」、「廚餘」回收量
A49: 已另案統計不在本表範圍。
... A94: 六、編送對象：本表編製1式3份，1份送澎湖縣政府環境保護局，1份送主計室，1份自存，另上傳至環境部「一般(生活)廢棄物管理資訊系統」。

Sheet 11251-01-01-3
A1: 公 開 類 | D1: 編製機關 | E1: 澎湖縣望安鄉公所
A2: 月 報 | B2: 期間終了1個月內編報 | D2: 表 號 | E2: 11251-01-01-3
A3: 澎湖縣望安鄉公所一般垃圾及廚餘清理狀況
A5: 中華民國 年 月 單位：公噸
A6: 項 目 別 | D6: 一般垃圾 | E6: 事業員工 生活垃圾 | F6: 非例行性 排出垃圾 | G6: 廚 餘
A8: 產生量 | B8: 總計
B9: 環保單位自行清運
B10: 環保單位委託清運
B11: 公私處所自行或委託清運
A12: 處理量 | B12: 總計
B13: 本月產生垃圾
B14: 過去暫存垃圾
B15: 焚化 | C15: 計
C16: 本月產生垃圾
C17: 過去暫存垃圾
B18: 衛生掩埋 | C18: 計
C19: 本月產生垃圾
C20: 過去暫存垃圾
B21: 回收再利用 | C21: 堆 肥
C22: 養 豬
C23: 其他廚餘再利用
B24: 其他 | C24: 計
C25: 本月產生垃圾
C26: 過去暫存垃圾
A27: 本月新增暫存量
A28: 填表 | B28: 審核 | C28: 業務主管人員 | D28: 機關首長
C29: 主辦統計人員 | G29: 中華民國 年 月 日編製
A32: 資料來源：依據本鄉(市)清潔隊提報之一般垃圾及廚餘清理狀況資料彙總編製。
A33: 填表說明：本表編製1式3份，1份送主計室，1份自存，1份送澎湖縣政府環境保護局，另上傳至環境部「一般(生活)廢棄物管理資訊系統」。
A34: 澎湖縣望安鄉一般垃圾及廚餘清理狀況編製說明
A35: 一、 統計範圍及對象：本鄉之一般垃圾及廚餘清理狀況均為統計對象。
A36: 二、統計標準時間：以每月1日至月底之事實為準。
A37: 三、分類標準：
A38: (一)縱項目：按一般垃圾及廚餘分，一般垃圾項下再分列事業員工生活垃圾及非例行性排出垃圾。
A39: (二)橫項目：按產生量、處理量及本月新增暫存量分，其中產生量按清運單位別分，處理量按處理方式別分。
A40: 四、統計項目定義：
A41: (一) 一般垃圾：指由家戶、公共場所及其他產生源所產生除資源垃圾、有害垃圾及廚餘以外之常態性一般廢棄物，包括非例行
A42: 性排出垃圾、無法回收之巨大垃圾，但不包括海灘（漂)垃圾。家戶係指民眾居住處，其垃圾由垃圾車沿街清運收受者；
A43: 公共場所如社區、公園、街道、河堤、人行道、水溝及髒亂點等；其他產生源如學校、公務機關、風景遊樂區、慈善團體
... A66: 六、編送對象：本表編製1式3份，1份送主計室，1份自存，1份送澎湖縣政府環境保護局，另上傳至環境部「一般(生活)廢棄物管理資訊系統」。

Sheet 11251-01-03-3
A1: 公 開 類 | G1: 編製機關 | H1: 澎湖縣望安鄉公所(清潔隊)
A2: 半 年 報 | B2: 期間終了1個月內編報 | G2: 表 號 | H2: 11251-01-03-3
A3: 澎湖縣望安鄉垃圾回收清除車輛數
A4: 中 華 民 國 年 底
A5: 項 目 別 | F5: 車輛數
A6: 垃圾回收清除車輛︵輛︶ | B6: 總 計
B7: 子 母 式 垃 圾 車
B8: 密 封 式 垃 圾 車
B9: 框式垃圾車 | C9: 小 計
C10: 資 源 (含 廚 餘) 回 收
C11: 其 它
B12: 水 肥 車
B13: 清 溝 ( 溝 泥 車)
B14: 掃 (洗) 街 車
A15: 填表 | C15: 審核 | E15: 業務主管人員 | H15: 機關首長
E16: 主辦統計人員
F17: 中華民國 年 月 日編製
A18: 資料來源：依據本所提報之垃圾處理場（廠）垃圾回收清除車輛資料編製。
A19: 填表說明：本表編製1式3份，1份送主計室，1份自存，1份送澎湖縣政府環境保護局，另上傳至環境部「一般(生活)廢棄物管理資訊系統」。
A22: 澎湖縣望安鄉垃圾處理場（廠）垃圾回收清除車輛數編製說明
A23: 一、統計範圍及對象：本鄉之垃圾處理場(廠)及垃圾回收清除車輛均為統計對象。
A24: 二、統計標準時間：以每年6月底、12月底之事實為準。
A25: 三、分類標準：橫項目按垃圾回收清除車輛別分。
A26: 四、統計項目定義（單位或說明）：
A27: (一)垃圾回收清除車輛：指執行機關執行一般廢棄物回收、清除作業之車輛。
A28: (二)子母式垃圾車：子車與母車可分離，以垃圾子車放置執行機關指定地點，供垃圾投棄、
A29: 收集，再由母車將子車運往垃圾處理場。
A30: (三)密封式垃圾車：車體為密封空間，車身應具備投棄口或壓縮裝置，如密封車、密封壓
A31: 縮車、密封轉運車等。
... A47: 另上傳至環境部「一般(生活)廢棄物管理資訊系統」。

Sheet 11251-04-02-3
A1: 公 開 類 | E1: 編製機關 | F1: 澎湖縣各鄉市公所
A2: 半 年 報 | B2: 期間終了1個月內編報 | E2: 表 號 | F2: 11251-04-02-3
A3: 澎湖縣望安鄉垃圾處理場(廠)數
A4: 中 華 民 國 年 月底
G5: 單位：座
E6: 場(廠)數
A8: 總 計
A9: 大 型 焚 化 廠
A10: 衛 生 掩 埋 場
A11: 堆 肥 場
A12: 堆 置 場
A13: 填表 | B13: 審核 | D13: 業務主管人員 | E13: 機關首長
D14: 主辦統計人員 | G14: 中華民國 年 月 日編製
A16: 資料來源：依據本所提報之垃圾處理場（廠）垃圾處理場(廠)資料編製。
A17: 填表說明：本表編製1式3份，1份送主計室，1份自存，1份送澎湖縣政府環境保護局，另上傳至環境部 「一般(生活)廢棄物管理資訊系統」。
A18: 澎湖縣望安鄉垃圾處理場(廠)數編製說明
A19: 一、統計範圍及對象：本縣環境保護局(含各鄉市公所)之營運中公有垃圾處理場(廠)均為統計對象。
A20: 二、統計標準時間：以每年6月底、12月底之事實為準。
A21: 三、分類標準：橫項目按垃圾處理場(廠)別分。
A22: 四、統計項目定義：
A23: (一)大型焚化廠:指設計日處理量達三百公噸以上，且為直轄市、縣（市）主管機關或執行機關
A24: 所有、管理或監督營運之垃圾焚化廠。
A25: (二)衛生掩埋場：指公有營運中且以衛生掩埋法處理垃圾之最終處置場所；不含封閉、復育、停
A26: 用或未啟用等非營運狀態。另分期建置之營運中同名衛生掩埋場，若其地點、地號相同或鄰
A27: 近，則以1座計算。
... A32: 環境部環境管理署「一般(生活)廢棄物管理資訊系統」。

Sheet 11299-90-01-3
A1: 公 開 類 | F1: 編製機關 | G1: 澎湖縣望安鄉公所(清潔隊)
A2: 半 年 報 | B2: 期間終了1個月內編報 | F2: 表 號 | G2: 11299-90-01-3
A3: 澎湖縣望安鄉公共場所一般環境衛生管理工作成果
A4: 中 華 民 國 年 月 至 月
F5: 總 計 | G5: 望安鄉
A6: 風景名勝遊樂 地區公民營 市場鐵公路 客運車站環境 衛生督導 | B6: 期 末 列 管 處 所 數 | D6: (處)
B7: 抽 查 數 | D7: (處次)
B8: 輔 導 改 善 數 | D8: (處次)
B9: 告 發 取 締 | D9: (處次)
A10: 排 水 溝 幹支線清整 | B10: 長 度 | D10: (公尺)
B11: 清 除 淤 泥 | D11: (公噸)
A12: 公 廁 衛 生 管 理 | B12: 現 有 列 管 公 廁 數 量 | C12: 列管座數 | E12: (座)
C13: 廁所個數 (個) (1)=(2)+(3)+(4)
D14: 男廁 (個) | E14: 小計(2)
E15: 座式
E16: 蹲式
E17: 小便斗
D18: 女廁 (個) | E18: 小計(3)
E19: 座式
E20: 蹲式
D21: 其他(個) (4)
B22: 現有列管公廁 督導檢驗及抽查數 | C22: 次 數 | E22: (次)
C23: 座 數 | E23: (座)
B24: 公廁維修 情 形 | C24: 新 建 | E24: (座)
C25: 改 建 | E25: (座)
C26: 整 修 | E26: (座)
C27: 現有數量 | E27: (座)
B28: 流動廁所 | C28: 支 援 | E28: (車次)
C29: 租 借 | E29: (座次)
A30: 填表 | B30: 審核 | E30: 業務主管人員 | F30: 機關長官
E32: 主辦統計人員
G37: 中華民國 年 月 日編製
A39: 資料來源：依據本所業務資料編製。
A40: 填表說明：本表編製一式3份，一份自存，一份送本所主計室，一份送澎湖縣政府環境保護局。
A41: 澎湖縣望安鄉公共場所一般環境衛生管理工作成果編製說明
A42: 一、統計範圍及對象：本鄉之公共場所一般環境衛生管理工作均為統計對象。
A43: 二、統計標準時間：靜態資料以每年6月底、12月底之事實為準。動態資料以每年1月至6月、7月至12月之事實為準。
A44: 三、分類標準：(一)縱行科目按鄉鎮市別分。
A45: (二)橫列科目按工作項目別分。
A46: 四、統計項目定義（單位或說明）：
...

Sheet 30910-01-01-3
A1: 公 開 類 | I1: 編製機關 | J1: 澎湖縣望安鄉公所(清潔隊)
A2: 半 年 報 | B2: 期間終了1個月內編報 | I2: 表 號 | J2: 30910-01-01-3
A3: 澎湖縣望安鄉環保人員概況
A4: 一、廢棄物清運處理單位 | B4: 中華民國 年 月底 | J4: 單位:人
A5: 項 目 別 | B5: 廢棄物清運處理單位(包括直轄市、縣市直屬或所轄鄉鎮市區之清潔隊、廢棄物處理廠(場)等)
B6: 總 計 | C6: 清 運 單 位 | H6: 處 理 單 位
C7: 計 | D7: 垃圾清運 | E7: 水肥清運 | F7: 資源回收 | G7: 其他 | H7: 計 | I7: 垃圾焚化廠、 掩埋廠 | J7: 水肥處理廠
A8: 總計：A=B=C=D | B8: =IF(AND(B9=B24,B24=B27,B27=B9),B9,"F") -> 0 | C8: =C10+C16+C17+C23 -> 0 | D8: =IF(AND(D9=D24,D24=D27,D27=D9),D9,"F") -> 0 | E8: =IF(AND(E9=E24,E24=E27,E27=E9),E9,"F") -> 0 | F8: =IF(AND(F9=F24,F24=F27,F27=F9),F9,"F") -> 0 | G8: =IF(AND(G9=G24,G24=G27,G27=G9),G9,"F") -> 0
A9: 按類別分：B=(1)+(2)+(3)+(4) | B9: =B10+B16+B17+B23 -> 0 | C9: =SUM(D9:G9) -> 0 | D9: =SUM(D11:D17)+D23 -> 0 | E9: =SUM(E11:E17)+E23 -> 0 | F9: =SUM(F11:F17)+F23 -> 0 | G9: =SUM(G11:G17)+G23 -> 0
A10: 職員(1) | B10: =C10+H10 -> 0 | C10: =SUM(D10:G10) -> 0 | D10: =SUM(D11:D15) -> 0 | E10: =SUM(E11:E15) -> 0 | F10: =SUM(F11:F15) -> 0 | G10: =SUM(G11:G15) -> 0
A11: 特任、比照簡任 | B11: =C11+H11 -> 0 | C11: =SUM(D11:G11) -> 0
A12: 簡任(10-14職等) | B12: =C12+H12 -> 0 | C12: =SUM(D12:G12) -> 0
A13: 薦任(6-9職等) | B13: =C13+H13 -> 0 | C13: =SUM(D13:G13) -> 0
A14: 委任(1-5職等) | B14: =C14+H14 -> 0 | C14: =SUM(D14:G14) -> 0
A15: 雇員 | B15: =C15+H15 -> 0 | C15: =SUM(D15:G15) -> 0
A16: 約聘(僱)及約用人員(2) | B16: =C16+H16 -> 0 | C16: =SUM(D16:G16) -> 0
A17: 工員(3) | B17: =C17+H17 -> 0 | C17: =SUM(D17:G17) -> 0 | D17: =SUM(D18:D22) -> 0 | E17: =SUM(E18:E22) -> 0 | F17: =SUM(F18:F22) -> 0 | G17: =SUM(G18:G22) -> 0
A18: 隊員 | B18: =C18+H18 -> 0 | C18: =SUM(D18:G18) -> 0
A19: 駕駛 | B19: =C19+H19 -> 0 | C19: =SUM(D19:G19) -> 0
A20: 技工、工友 | B20: =C20+H20 -> 0 | C20: =SUM(D20:G20) -> 0
A21: 臨時工 | B21: =C21+H21 -> 0 | C21: =SUM(D21:G21) -> 0
A22: 代賑工 | B22: =C22+H22 -> 0 | C22: =SUM(D22:G22) -> 0
A23: 其他(4) | B23: =C23+H23 -> 0 | C23: =SUM(D23:G23) -> 0
A24: 按性別分：C=(5)+(6) | B24: =C24+H24 -> 0 | C24: =SUM(D24:G24) -> 0 | D24: =SUM(D25:D26) -> 0 | E24: =SUM(E25:E26) -> 0 | F24: =SUM(F25:F26) -> 0 | G24: =SUM(G25:G26) -> 0
A25: 男 (5) | B25: =C25+H25 -> 0 | C25: =SUM(D25:G25) -> 0
A26: 女 (6) | B26: =C26+H26 -> 0 | C26: =SUM(D26:G26) -> 0
A27: 按年齡別分：D=(7)+…+(13) | B27: =C27+H27 -> 0 | C27: =SUM(D27:G27) -> 0 | D27: =SUM(D28:D34) -> 0 | E27: =SUM(E28:E34) -> 0 | F27: =SUM(F28:F34) -> 0 | G27: =SUM(G28:G34) -> 0
A28: 29歲以下 (7) | B28: =C28+H28 -> 0 | C28: =SUM(D28:G28) -> 0
A29: 30-39歲 (8) | B29: =C29+H29 -> 0 | C29: =SUM(D29:G29) -> 0
A30: 40-49歲 (9) | B30: =C30+H30 -> 0 | C30: =SUM(D30:G30) -> 0
A31: 50-54歲 (10) | B31: =C31+H31 -> 0 | C31: =SUM(D31:G31) -> 0
A32: 55-59歲 (11) | B32: =C32+H32 -> 0 | C32: =SUM(D32:G32) -> 0
A33: 60-64歲 (12) | B33: =C33+H33 -> 0 | C33: =SUM(D33:G33) -> 0
A34: 65歲以上 (13) | B34: =C34+H34 -> 0 | C34: =SUM(D34:G34) -> 0

Sheet 續1完
A1: 公 開 類 | H1: 編製機關 | I1: 澎湖縣望安鄉公所(清潔隊)
A2: 半 年 報 | B2: 期間終了1個月內編報 | H2: 表 號 | I2: 30910-01-01-3
A3: 澎湖縣望安鄉環保人員概況(續1完)
A4: 二、本鄉環境保護單位 | B4: 中華民國 年 月底 | I4: 單位:人
A5: 類 別 | B5: 總 計 | E5: 環境保護局 (不包括廢棄物清運處理單位) | H5: 廢棄物清運處理單位
B6: 計 | C6: 男 | D6: 女 | E6: 計 | F6: 男 | G6: 女 | H6: 計 | I6: 男 | J6: 女
A7: 總計 | B7: =+C7+D7 -> 0 | C7: =SUM(C9:C16) -> 0 | D7: =SUM(D9:D16) -> 0 | H7: =SUM(I7:J7) -> 0 | I7: =IF(I9+I10+I11+I12+I13+I14+I15+I16='30910-01-01-3'!B25,I9+I10+I11+I12+I13+I15+I14+I16,"F") -> 0 | J7: =IF(J9+J10+J11+J12+J13+J14+J15+J16='30910-01-01-3'!B26,J9+J10+J11+J12+J13+J15+J14+J16,"F") -> 0
A8: 職員 | B8: =SUM(C8:D8) -> 0 | C8: =SUM(C9:C13) -> 0 | D8: =SUM(D9:D13) -> 0 | H8: =SUM(I8:J8) -> 0 | I8: =SUM(I9:I13) -> 0 | J8: =SUM(J9:J13) -> 0
A9: 特任、比照簡任 | B9: =SUM(C9:D9) -> 0 | C9: =+F9+I9 -> 0 | D9: =+G9+J9 -> 0 | H9: =IF(I9+J9='30910-01-01-3'!B11,I9+J9,"F") -> 0
A10: 簡任(10職等以上) | B10: =SUM(C10:D10) -> 0 | C10: =+F10+I10 -> 0 | D10: =+G10+J10 -> 0 | H10: =IF(I10+J10='30910-01-01-3'!B12,I10+J10,"F") -> 0
A11: 薦任(6-9職等) | B11: =SUM(C11:D11) -> 0 | C11: =+F11+I11 -> 0 | D11: =+G11+J11 -> 0 | H11: =IF(I11+J11='30910-01-01-3'!B13,I11+J11,"F") -> 0
A12: 委任(1-5職等) | B12: =SUM(C12:D12) -> 0 | C12: =+F12+I12 -> 0 | D12: =+G12+J12 -> 0 | H12: =IF(I12+J12='30910-01-01-3'!B14,I12+J12,"F") -> 0
A13: 雇員 | B13: =SUM(C13:D13) -> 0 | C13: =+F13+I13 -> 0 | D13: =+G13+J13 -> 0 | H13: =IF(I13+J13='30910-01-01-3'!B15,I13+J13,"F") -> 0
A14: 約聘(僱)及約用人員 | B14: =SUM(C14:D14) -> 0 | C14: =+F14+I14 -> 0 | D14: =+G14+J14 -> 0 | H14: =IF(I14+J14='30910-01-01-3'!B16,I14+J14,"F") -> 0
A15: 工員 | B15: =SUM(C15:D15) -> 0 | C15: =+F15+I15 -> 0 | D15: =+G15+J15 -> 0 | H15: =IF(I15+J15='30910-01-01-3'!B17,I15+J15,"F") -> 0
A16: 其他 | B16: =SUM(C16:D16) -> 0 | C16: =+F16+I16 -> 0 | D16: =+G16+J16 -> 0 | H16: =IF(I16+J16='30910-01-01-3'!B23,I16+J16,"F") -> 0
A17: 填表 | B17: 審核 | D17: 業務主管人員 | G17: 機關首長 | H17: 0 | I17: 中華民國 年 月 日編製
D18: 主辦統計人員
A20: 資料來源：依據本縣環境保護局及廢棄物清運處理單位實際環保人員(含編制內、非編制內)概況資料編製。
A21: 填表說明：本表編製1式3份，1份送主計室，1份自存，1份送縣政府環境保護局。
A23: 澎湖縣望安鄉環保人員概況編製說明
A24: 一、統計範圍及對象：本鄉環保單位僱用人員均為統計對象。
A25: 二、統計標準時間：以每年6月底及12月底之事實為準。
A26: 三、分類標準：
A27: (一)縱行科目按業務性質別或性別分。
A28: (二)橫列科目按工作性質別、官等別、性別及年齡別分。
A29: 四、統計科目定義(單位或說明)：
A30: (一)各環境保護單位人員列入相關業務項目，1人從事多種業務者，列入主要業務項目，不可重覆計列。
A31: (二)各項資料均為現有實際僱用人數，包括編制內、非編制內，不包括環保警察、派遣人員、派駐人員及環保志/義工。
A32: (三)環境保護局：係指澎湖縣政府環境保護（資源）局及所屬，含稽查督察大隊、衛生稽查大隊及修車廠等，不含廢棄物清理人員。
... A44: 六、編送對象：本表編製1式3份，1份送會計單位，1份自存，1份送縣政府環境保護局。

Sheet 30910-02-01-2
A1: 公 開 類 | M1: 編製機關 | N1: 澎湖縣望安鄉公所(清潔隊)
A2: 年 度 報 | B2: 期間開始2.5個月內編報 | M2: 表 號 | N2: 30910-02-01-3
A3: 澎湖縣望安鄉環境保護預算
G4: __________會計年度
A5: 一、單位預算－經資門合計 | N5: 單位：千元
A6: 單 位 及 業 務 別 | D6: 歲 出 項 目 | M6: 歲 入 項 目
D7: 預 算 數 | M7: 環境部補助款 | N7: 其他政府 補助款
D8: 合計 | E8: 人事費 | F8: 約用人員 酬金 | G8: 委辦費 | H8: 土地 | I8: 對特種基金 之補助 | J8: 對國內團體 之捐助 | K8: 其他支出 | L8: 對清潔隊之補助 (僅縣政府環保局需填)
A11: 鄉鎮市公所清潔隊預算 | B11: 總 計
B12: 一般行政
B13: 綜合規劃
B14: 空氣品質保護
B15: 氣候變遷因應
B16: 噪音及振動防制
B17: 水質保護
B18: 土壤及地下水污染整治
B19: 廢棄物管理
B20: 環境衛生、毒化物管理
B21: 陳情、稽查、糾紛處理
B22: 監測及檢驗
B23: 研究發展
B24: 其他
A25: 鄉 鎮 市 公 所 清 潔 隊 預 算 (僅縣政府環保局需填)
A27: 公 開 類 | M27: 編製機關 | N27: 澎湖縣望安鄉公所(清潔隊)
A28: 年 度 報 | B28: 期間開始2.5個月內編報 | M28: 表 號 | N28: 30910-02-01-3
A29: 澎湖縣望安鄉環境保護預算(續1)
E30: __________會計年度
A31: 二、單位預算－經常門 | N31: 單位：千元
A32: 單 位 及 業 務 別 | D32: 歲 出 項 目 | M32: 歲 入 項 目
D33: 預 算 數 | M33: 環境部補助款 | N33: 其他政府 補助款
D34: 合計 | F34: 人事費 | G34: 約用人員 酬金 | H34: 委辦費 | I34: 對特種基金 之補助 | J34: 對國內團體 之捐助 | K34: 其他 經常支出 | L34: 對清潔隊之補助 (僅縣政府環保局需填)
A37: 鄉鎮市公所清潔隊預算 | B37: 總 計
B38: 一般行政
B39: 綜合規劃
B40: 空氣品質保護
B41: 氣候變遷因應
B42: 噪音及振動防制
B43: 水質保護
B44: 土壤及地下水污染整治
B45: 廢棄物管理
...

Sheet 30910-02-02-3
A1: 公 開 類 | N1: 編製機關 | O1: 澎湖縣望安鄉公所(清潔隊)
A2: 年 度 報 | B2: 期間終了4.5個月內編報 | N2: 表 號 | O2: 30910-02-02-3
A3: 澎湖縣望安鄉環境保護決算
G4: __________會計年度
A5: 一、單位決算－經資門合計
A6: 單 位 及 業 務 別 | D6: 歲 出 項 目 | N6: 歲 入 項 目
D7: 決 算 數 | M7: 折舊 | N7: 環境部補助款 | O7: 其他政府 補助款
D8: 合 計 | E8: 人事費 | F8: 約用人員 酬金 | G8: 委辦費 | H8: 土地 | I8: 對特種基金 之補助 | J8: 對國內團體 之捐助 | K8: 其他支出 | L8: 對清潔隊之補助 (僅縣政府環保局需填)
A11: 鄉鎮市公所清潔隊決算 | B11: 總 計
B12: 一般行政
B13: 綜合規劃
B14: 空氣品質保護
B15: 氣候變遷因應
B16: 噪音及振動防制
B17: 水質保護
B18: 土壤及地下水污染整治
B19: 廢棄物管理
B20: 環境衛生、毒化物管理
B21: 陳情、稽查、糾紛處理
B22: 監測及檢驗
B23: 研究發展
B24: 其他
A25: 鄉 鎮 市 公 所 清 潔 隊 決 算 (僅縣政府環保局需填)
A27: 公 開 類 | N27: 編製機關 | O27: 澎湖縣望安鄉公所(清潔隊)
A28: 年 度 報 | B28: 期間終了4.5個月內編報 | N28: 表 號 | O28: 30910-02-02-3
A29: 澎湖縣望安鄉環境保護決算(續1)
E30: __________會計年度
A31: 二、單位決算－經常門 | O31: 單位：千元
A32: 單 位 及 業 務 別 | D32: 歲 出 項 目 | M32: 歲 入 項 目
D33: 決 算 數 | M33: 環境部補助款 | O33: 其他政府 補助款
D34: 合 計 | F34: 人事費 | G34: 約用人員 酬金 | H34: 委辦費 | I34: 對特種基金 之補助 | J34: 對國內團體 之捐助 | K34: 其他 經常支出 | L34: 對清潔隊之補助 (僅縣政府環保局需填)
A37: 鄉鎮市公所清潔隊決算 | B37: 總 計
B38: 一般行政
B39: 綜合規劃
B40: 空氣品質保護
B41: 氣候變遷因應
B42: 噪音及振動防制
B43: 水質保護
B44: 土壤及地下水污染整治
B45: 廢棄物管理
...

Sheet 20902-00-02-3
A1: 公 開 類 | M1: 編製機關 | N1: 澎湖縣望安鄉公所(財經課)
A2: 月 報 | D2: 次月二十日前編報，十二月份於次年一月底前編報 | M2: 表號 | N2: 20902-00-02-3
A3: 澎湖縣望安鄉公庫收支
F4: 中華民國 年 月 | N4: 單位：新臺幣千元
A5: 科 目 別 | F5: 合 計 | H5: 小計(不含特別預算) | J5: 本 年 度 收 入 | L5: 以 前 年 度 收 入 | N5: 特 別 預 算 收 入
F6: 本 月 | G6: 累 計 | H6: 本 月 | I6: 累 計 | J6: 本 月 | K6: 累 計 | L6: 本 月 | M6: 累 計 | N6: 本 月 | O6: 累 計
A7: 收入總計
B8: 經資門合計
B9: 經常門小計
C10: …
C11: …
C12: …
B13: 資本門小計
C14: …
C15: …
C16: …
B17: 融資性庫款收入
C18: …
C19: …
B20: 預算外庫款收入
C21: …
C22: …
C23: …
A24: 上期結存
A25: 收入總計＋上期結存
A27: 公 開 類 | M27: 編製機關 | N27: 澎湖縣望安鄉公所(財經課)
A28: 月 報 | D28: 次月二十日前編報，十二月份於次年一月底前編報 | M28: 表號 | N28: 20902-00-02-3
A29: 澎湖縣望安鄉公庫收支
F30: 中華民國 年 月 | N30: 單位：新臺幣千元
A31: 科 目 別 | F31: 合 計 | H31: 小計(不含特別預算) | J31: 本 年 度 支 出 | L31: 以 前 年 度 支 出 | N31: 特 別 預 算 支 出
F32: 本 月 | G32: 累 計 | H32: 本 月 | I32: 累 計 | J32: 本 月 | K32: 累 計 | L32: 本 月 | M32: 累 計 | N32: 本 月 | O32: 累 計
A33: 支出總計
B34: 經資門合計
B35: 經常門小計
C36: …
B37: 資本門小計
C38: …
B39: 融資性庫款支出
C40: …
C41: …
...

Sheet 10730-04-03-3 
A1: 公開類
A2: 半年報 | B2: 每半年終了後1個月內編送
A3: 澎湖縣望安鄉老人福利服務成果(一)-活動中心及長青學苑
A4: 中華民國 年 半年（ 月至 月）
A5: 一、老人福利服務（文康）活動中心 | P5: 單位：個、人次
A6: 項目別 | B6: 合計 | G6: 全縣性老人文康中心 | J6: 鄉鎮市區老人文康中心 | M6: 社區型老人文康中心 (長壽俱樂部) | P6: 其他類型老人活動場所 (老人會暨其他團體)
A7: 中心數 (單位數)
A8: 參加人次
A10: 二、長青學苑辦理成果 | R10: 單位：所、班、人次
A11: 期底所數 (所) | B11: 本期開班 班數(班) | C11: 本期開班 參加人次 | D11: 1.參加人次按族群別分 | J11: 2.參加人次按教育程度分 | P11: 3.參加人次按年齡分
D12: 一般 | G12: 原住民 | J12: 不識字 | K12: 識字 | P12: 55~未 滿65歲 | Q12: 65~未 滿70歲 | R12: 70歲 以上
D13: 合計 | E13: 男 | F13: 女 | G13: 合計 | H13: 男 | I13: 女 | K13: 自修 | L13: 國民小學 | M13: 國中 (初中) | N13: 高中(職) | O13: 大專 以上
A15: 填表 | C15: 審核 | G15: 業務主管人員 | K15: 機關首長 | O15: 中華民國 年 月 日編製
G16: 主辦統計人員
A18: 資料來源：依據本所業務登記資料彙編。
A19: 填表說明：本表編製3份，1份送主計室，1份送澎湖縣政府社會處，1份自存。
A26: 澎湖縣望安鄉老人福利服務成果(一)-活動中心及長青學苑編製說明
A27: 一、統計範圍及對象：凡本鄉老人福利(文康)活動中心及開辦老人進修、研習單位所辦理之業務，均為統計對象。
A28: 二、統計標準時間：動態（本期）資料上半年以1至6月、下半年以7至12月之事實為準；靜態（期底）資料以6月底、12月底之事實為準。
A29: 三、分類標準：依「老人福利服務(文康)活動中心」、「長青學苑辦理成果」分。
A30: 四、統計項目定義：
A31: (一)老人福利服務(文康活動)中心：包含辦理老人福利服務業務或提供老人福利服務諮詢者。
A32: (二)長青學苑：凡是提供55歲以上中、高齡者多元的學習之機會與管道，且每班課程達24小時以上，並連續滿12週，皆屬之。
A33: 1.所數：係指開辦老人進修、研習之單位。若1所學苑有2處以上授課地點者,請依實際授課地點數計算。
A34: 2.開班班數：係以開班時間點統計，以避免跨統計時間點，有重複計算之虞。
A35: 3.參加人次：係為參加活動內容累計參加人數，主要係統計各類老人活動場所之執行成果，其參加人次之計算，不限活動是否接受中央政府或
... A42: 六、編送對象：本表編製3份，1份送主計室，1份送澎湖縣政府社會處，1份自存。
