Workbook

Sheet 村里
A1: 澎湖縣各村里 現住人口數按性別及原住民身分分
D2: 113年 | E2: 12月底 | G2: 製表日期：114年1月2日
A3: 區域別 | B3: 性別 | C3: 總計 | D3: 區域人人口數 | E3: 原住民合計 | F3: 平地原住民 | G3: 山地原住民
B4: 計 | C4: 107901 | D4: 107135 | E4: 766 | F4: 388 | G4: 378
A5: 澎湖縣 | B5: 男 | C5: 55167 | D5: 54795 | E5: 372 | F5: 181 | G5: 191
B6: 女 | C6: 52734 | D6: 52340 | E6: 394 | F6: 207 | G6: 187
B7: 計 | C7: 64078 | D7: 63595 | E7: 483 | F7: 277 | G7: 206
A8: 馬公市 | B8: 男 | C8: 32466 | D8: 32216 | E8: 250 | F8: 142 | G8: 108
B9: 女 | C9: 31612 | D9: 31379 | E9: 233 | F9: 135 | G9: 98
B10: 計 | C10: 473 | D10: 465 | E10: 8 | F10: 2 | G10: 6
A11: 復興里 | B11: 男 | C11: 294 | D11: 289 | E11: 5 | F11: 0 | G11: 5
B12: 女 | C12: 179 | D12: 176 | E12: 3 | F12: 2 | G12: 1
B13: 計 | C13: 580 | D13: 576 | E13: 4 | F13: 2 | G13: 2
A14: 長安里 | B14: 男 | C14: 274 | D14: 274 | E14: 0 | F14: 0 | G14: 0
B15: 女 | C15: 306 | D15: 302 | E15: 4 | F15: 2 | G15: 2
B16: 計 | C16: 585 | D16: 572 | E16: 13 | F16: 8 | G16: 5
A17: 中央里 | B17: 男 | C17: 286 | D17: 282 | E17: 4 | F17: 1 | G17: 3
B18: 女 | C18: 299 | D18: 290 | E18: 9 | F18: 7 | G18: 2
B19: 計 | C19: 914 | D19: 907 | E19: 7 | F19: 1 | G19: 6
A20: 啟明里 | B20: 男 | C20: 434 | D20: 431 | E20: 3 | F20: 0 | G20: 3
B21: 女 | C21: 480 | D21: 476 | E21: 4 | F21: 1 | G21: 3
B22: 計 | C22: 991 | D22: 990 | E22: 1 | F22: 1 | G22: 0
A23: 重慶里 | B23: 男 | C23: 478 | D23: 478 | E23: 0 | F23: 0 | G23: 0
B24: 女 | C24: 513 | D24: 512 | E24: 1 | F24: 1 | G24: 0
B25: 計 | C25: 859 | D25: 854 | E25: 5 | F25: 2 | G25: 3
A26: 中興里 | B26: 男 | C26: 452 | D26: 447 | E26: 5 | F26: 2 | G26: 3
B27: 女 | C27: 407 | D27: 407 | E27: 0 | F27: 0 | G27: 0
B28: 計 | C28: 2120 | D28: 2111 | E28: 9 | F28: 3 | G28: 6
A29: 光復里 | B29: 男 | C29: 997 | D29: 992 | E29: 5 | F29: 2 | G29: 3
B30: 女 | C30: 1123 | D30: 1119 | E30: 4 | F30: 1 | G30: 3
B31: 計 | C31: 4512 | D31: 4480 | E31: 32 | F31: 14 | G31: 18
A32: 光榮里 | B32: 男 | C32: 2127 | D32: 2109 | E32: 18 | F32: 9 | G32: 9
B33: 女 | C33: 2385 | D33: 2371 | E33: 14 | F33: 5 | G33: 9
B34: 計 | C34: 1279 | D34: 1272 | E34: 7 | F34: 5 | G34: 2
A35: 光明里 | B35: 男 | C35: 653 | D35: 651 | E35: 2 | F35: 2 | G35: 0
B36: 女 | C36: 626 | D36: 621 | E36: 5 | F36: 3 | G36: 2
B37: 計 | C37: 5892 | D37: 5861 | E37: 31 | F37: 21 | G37: 10
A38: 朝陽里 | B38: 男 | C38: 2852 | D38: 2837 | E38: 15 | F38: 12 | G38: 3
B39: 女 | C39: 3040 | D39: 3024 | E39: 16 | F39: 9 | G39: 7
B40: 計 | C40: 2824 | D40: 2812 | E40: 12 | F40: 9 | G40: 3
...

Sheet 鄉市
A1: 澎湖縣各鄉市 現住人口數按性別及原住民身分分
D2: =村里!D2 -> 113年 | E2: =村里!E2 -> 12月底 | G2: =村里!G2 -> 製表日期：114年1月2日
A3: 區域別 | B3: 性別 | C3: 總計 | D3: 區域人人口數 | E3: 原住民合計 | F3: 平地原住民 | G3: 山地原住民
B4: 計 | C4: =村里!C4 -> 107901 | D4: =村里!D4 -> 107135 | E4: =村里!E4 -> 766 | F4: =村里!F4 -> 388 | G4: =村里!G4 -> 378
A5: 澎湖縣 | B5: 男 | C5: =村里!C5 -> 55167 | D5: =村里!D5 -> 54795 | E5: =村里!E5 -> 372 | F5: =村里!F5 -> 181 | G5: =村里!G5 -> 191
A6: 總計 | B6: 女 | C6: =村里!C6 -> 52734 | D6: =村里!D6 -> 52340 | E6: =村里!E6 -> 394 | F6: =村里!F6 -> 207 | G6: =村里!G6 -> 187
B7: 計 | C7: =村里!C7 -> 64078 | D7: =村里!D7 -> 63595 | E7: =村里!E7 -> 483 | F7: =村里!F7 -> 277 | G7: =村里!G7 -> 206
A8: 馬公市 | B8: 男 | C8: =村里!C8 -> 32466 | D8: =村里!D8 -> 32216 | E8: =村里!E8 -> 250 | F8: =村里!F8 -> 142 | G8: =村里!G8 -> 108
B9: 女 | C9: =村里!C9 -> 31612 | D9: =村里!D9 -> 31379 | E9: =村里!E9 -> 233 | F9: =村里!F9 -> 135 | G9: =村里!G9 -> 98
B10: 計 | C10: =村里!C109 -> 16124 | D10: =村里!D109 -> 15991 | E10: =村里!E109 -> 133 | F10: =村里!F109 -> 49 | G10: =村里!G109 -> 84
A11: 湖西鄉 | B11: 男 | C11: =村里!C110 -> 8401 | D11: =村里!D110 -> 8342 | E11: =村里!E110 -> 59 | F11: =村里!F110 -> 16 | G11: =村里!G110 -> 43
B12: 女 | C12: =村里!C111 -> 7723 | D12: =村里!D111 -> 7649 | E12: =村里!E111 -> 74 | F12: =村里!F111 -> 33 | G12: =村里!G111 -> 41
B13: 計 | C13: =村里!C178 -> 10137 | D13: =村里!D178 -> 10090 | E13: =村里!E178 -> 47 | F13: =村里!F178 -> 20 | G13: =村里!G178 -> 27
A14: 白沙鄉 | B14: 男 | C14: =村里!C179 -> 5195 | D14: =村里!D179 -> 5177 | E14: =村里!E179 -> 18 | F14: =村里!F179 -> 5 | G14: =村里!G179 -> 13
B15: 女 | C15: =村里!C180 -> 4942 | D15: =村里!D180 -> 4913 | E15: =村里!E180 -> 29 | F15: =村里!F180 -> 15 | G15: =村里!G180 -> 14
B16: 計 | C16: =村里!C226 -> 8207 | D16: =村里!D226 -> 8146 | E16: =村里!E226 -> 61 | F16: =村里!F226 -> 29 | G16: =村里!G226 -> 32
A17: 西嶼鄉 | B17: 男 | C17: =村里!C227 -> 4192 | D17: =村里!D227 -> 4169 | E17: =村里!E227 -> 23 | F17: =村里!F227 -> 12 | G17: =村里!G227 -> 11
B18: 女 | C18: =村里!C228 -> 4015 | D18: =村里!D228 -> 3977 | E18: =村里!E228 -> 38 | F18: =村里!F228 -> 17 | G18: =村里!G228 -> 21
B19: 計 | C19: =村里!C262 -> 5424 | D19: =村里!D262 -> 5399 | E19: =村里!E262 -> 25 | F19: =村里!F262 -> 10 | G19: =村里!G262 -> 15
A20: 望安鄉 | B20: 男 | C20: =村里!C263 -> 2913 | D20: =村里!D263 -> 2899 | E20: =村里!E263 -> 14 | F20: =村里!F263 -> 3 | G20: =村里!G263 -> 11
B21: 女 | C21: =村里!C264 -> 2511 | D21: =村里!D264 -> 2500 | E21: =村里!E264 -> 11 | F21: =村里!F264 -> 7 | G21: =村里!G264 -> 4
B22: 計 | C22: =村里!C292 -> 3931 | D22: =村里!D292 -> 3914 | E22: =村里!E292 -> 17 | F22: =村里!F292 -> 3 | G22: =村里!G292 -> 14
A23: 七美鄉 | B23: 男 | C23: =村里!C293 -> 2000 | D23: =村里!D293 -> 1992 | E23: =村里!E293 -> 8 | F23: =村里!F293 -> 3 | G23: =村里!G293 -> 5
B24: 女 | C24: =村里!C294 -> 1931 | D24: =村里!D294 -> 1922 | E24: =村里!E294 -> 9 | F24: =村里!F294 -> 0 | G24: =村里!G294 -> 9
