Workbook

Sheet 鄉市
A1: 澎湖縣各鄉市 現住人口數按性別及原住民身分分
D2: =村里!D2 -> 112年 | E2: =村里!E2 -> 4月底 | G2: =村里!G2 -> 製表日期：112年5月1日
A3: 區域別 | B3: 性別 | C3: 總計 | D3: 區域人人口數 | E3: 原住民合計 | F3: 平地原住民 | G3: 山地原住民
B4: 計 | C4: =村里!C4 -> 107397 | D4: =村里!D4 -> 106720 | E4: =村里!E4 -> 677 | F4: =村里!F4 -> 349 | G4: =村里!G4 -> 328
A5: 澎湖縣 | B5: 男 | C5: =村里!C5 -> 55100 | D5: =村里!D5 -> 54779 | E5: =村里!E5 -> 321 | F5: =村里!F5 -> 164 | G5: =村里!G5 -> 157
A6: 總計 | B6: 女 | C6: =村里!C6 -> 52297 | D6: =村里!D6 -> 51941 | E6: =村里!E6 -> 356 | F6: =村里!F6 -> 185 | G6: =村里!G6 -> 171
B7: 計 | C7: =村里!C7 -> 63802 | D7: =村里!D7 -> 63374 | E7: =村里!E7 -> 428 | F7: =村里!F7 -> 252 | G7: =村里!G7 -> 176
A8: 馬公市 | B8: 男 | C8: =村里!C8 -> 32418 | D8: =村里!D8 -> 32200 | E8: =村里!E8 -> 218 | F8: =村里!F8 -> 130 | G8: =村里!G8 -> 88
B9: 女 | C9: =村里!C9 -> 31384 | D9: =村里!D9 -> 31174 | E9: =村里!E9 -> 210 | F9: =村里!F9 -> 122 | G9: =村里!G9 -> 88
B10: 計 | C10: =村里!C109 -> 15910 | D10: =村里!D109 -> 15794 | E10: =村里!E109 -> 116 | F10: =村里!F109 -> 45 | G10: =村里!G109 -> 71
A11: 湖西鄉 | B11: 男 | C11: =村里!C110 -> 8345 | D11: =村里!D110 -> 8295 | E11: =村里!E110 -> 50 | F11: =村里!F110 -> 16 | G11: =村里!G110 -> 34
B12: 女 | C12: =村里!C111 -> 7565 | D12: =村里!D111 -> 7499 | E12: =村里!E111 -> 66 | F12: =村里!F111 -> 29 | G12: =村里!G111 -> 37
B13: 計 | C13: =村里!C178 -> 10078 | D13: =村里!D178 -> 10036 | E13: =村里!E178 -> 42 | F13: =村里!F178 -> 17 | G13: =村里!G178 -> 25
A14: 白沙鄉 | B14: 男 | C14: =村里!C179 -> 5177 | D14: =村里!D179 -> 5164 | E14: =村里!E179 -> 13 | F14: =村里!F179 -> 4 | G14: =村里!G179 -> 9
B15: 女 | C15: =村里!C180 -> 4901 | D15: =村里!D180 -> 4872 | E15: =村里!E180 -> 29 | F15: =村里!F180 -> 13 | G15: =村里!G180 -> 16
B16: 計 | C16: =村里!C226 -> 8288 | D16: =村里!D226 -> 8235 | E16: =村里!E226 -> 53 | F16: =村里!F226 -> 21 | G16: =村里!G226 -> 32
A17: 西嶼鄉 | B17: 男 | C17: =村里!C227 -> 4254 | D17: =村里!D227 -> 4234 | E17: =村里!E227 -> 20 | F17: =村里!F227 -> 6 | G17: =村里!G227 -> 14
B18: 女 | C18: =村里!C228 -> 4034 | D18: =村里!D228 -> 4001 | E18: =村里!E228 -> 33 | F18: =村里!F228 -> 15 | G18: =村里!G228 -> 18
B19: 計 | C19: =村里!C262 -> 5424 | D19: =村里!D262 -> 5403 | E19: =村里!E262 -> 21 | F19: =村里!F262 -> 10 | G19: =村里!G262 -> 11
A20: 望安鄉 | B20: 男 | C20: =村里!C263 -> 2919 | D20: =村里!D263 -> 2908 | E20: =村里!E263 -> 11 | F20: =村里!F263 -> 4 | G20: =村里!G263 -> 7
B21: 女 | C21: =村里!C264 -> 2505 | D21: =村里!D264 -> 2495 | E21: =村里!E264 -> 10 | F21: =村里!F264 -> 6 | G21: =村里!G264 -> 4
B22: 計 | C22: =村里!C292 -> 3895 | D22: =村里!D292 -> 3878 | E22: =村里!E292 -> 17 | F22: =村里!F292 -> 4 | G22: =村里!G292 -> 13
A23: 七美鄉 | B23: 男 | C23: =村里!C293 -> 1987 | D23: =村里!D293 -> 1978 | E23: =村里!E293 -> 9 | F23: =村里!F293 -> 4 | G23: =村里!G293 -> 5
B24: 女 | C24: =村里!C294 -> 1908 | D24: =村里!D294 -> 1900 | E24: =村里!E294 -> 8 | F24: =村里!F294 -> 0 | G24: =村里!G294 -> 8

Sheet 村里
A1: 澎湖縣各村里 現住人口數按性別及原住民身分分
D2: 112年 | E2: 4月底 | G2: 製表日期：112年5月1日
A3: 區域別 | B3: 性別 | C3: 總計 | D3: 區域人人口數 | E3: 原住民合計 | F3: 平地原住民 | G3: 山地原住民
B4: 計 | C4: 107397 | D4: 106720 | E4: 677 | F4: 349 | G4: 328
A5: 澎湖縣 | B5: 男 | C5: 55100 | D5: 54779 | E5: 321 | F5: 164 | G5: 157
B6: 女 | C6: 52297 | D6: 51941 | E6: 356 | F6: 185 | G6: 171
B7: 計 | C7: 63802 | D7: 63374 | E7: 428 | F7: 252 | G7: 176
A8: 馬公市 | B8: 男 | C8: 32418 | D8: 32200 | E8: 218 | F8: 130 | G8: 88
B9: 女 | C9: 31384 | D9: 31174 | E9: 210 | F9: 122 | G9: 88
B10: 計 | C10: 502 | D10: 498 | E10: 4 | F10: 1 | G10: 3
A11: 復興里 | B11: 男 | C11: 320 | D11: 317 | E11: 3 | F11: 0 | G11: 3
B12: 女 | C12: 182 | D12: 181 | E12: 1 | F12: 1 | G12: 0
B13: 計 | C13: 600 | D13: 597 | E13: 3 | F13: 1 | G13: 2
A14: 長安里 | B14: 男 | C14: 292 | D14: 292 | E14: 0 | F14: 0 | G14: 0
B15: 女 | C15: 308 | D15: 305 | E15: 3 | F15: 1 | G15: 2
B16: 計 | C16: 589 | D16: 583 | E16: 6 | F16: 3 | G16: 3
A17: 中央里 | B17: 男 | C17: 297 | D17: 296 | E17: 1 | F17: 0 | G17: 1
B18: 女 | C18: 292 | D18: 287 | E18: 5 | F18: 3 | G18: 2
B19: 計 | C19: 962 | D19: 955 | E19: 7 | F19: 1 | G19: 6
A20: 啟明里 | B20: 男 | C20: 480 | D20: 476 | E20: 4 | F20: 0 | G20: 4
B21: 女 | C21: 482 | D21: 479 | E21: 3 | F21: 1 | G21: 2
B22: 計 | C22: 1041 | D22: 1040 | E22: 1 | F22: 1 | G22: 0
A23: 重慶里 | B23: 男 | C23: 517 | D23: 517 | E23: 0 | F23: 0 | G23: 0
B24: 女 | C24: 524 | D24: 523 | E24: 1 | F24: 1 | G24: 0
B25: 計 | C25: 869 | D25: 866 | E25: 3 | F25: 1 | G25: 2
A26: 中興里 | B26: 男 | C26: 443 | D26: 440 | E26: 3 | F26: 1 | G26: 2
B27: 女 | C27: 426 | D27: 426 | E27: 0 | F27: 0 | G27: 0
B28: 計 | C28: 2192 | D28: 2184 | E28: 8 | F28: 1 | G28: 7
A29: 光復里 | B29: 男 | C29: 1051 | D29: 1047 | E29: 4 | F29: 1 | G29: 3
B30: 女 | C30: 1141 | D30: 1137 | E30: 4 | F30: 0 | G30: 4
B31: 計 | C31: 4588 | D31: 4550 | E31: 38 | F31: 17 | G31: 21
A32: 光榮里 | B32: 男 | C32: 2194 | D32: 2173 | E32: 21 | F32: 10 | G32: 11
B33: 女 | C33: 2394 | D33: 2377 | E33: 17 | F33: 7 | G33: 10
B34: 計 | C34: 1311 | D34: 1307 | E34: 4 | F34: 4 | G34: 0
A35: 光明里 | B35: 男 | C35: 663 | D35: 660 | E35: 3 | F35: 3 | G35: 0
B36: 女 | C36: 648 | D36: 647 | E36: 1 | F36: 1 | G36: 0
B37: 計 | C37: 5940 | D37: 5911 | E37: 29 | F37: 20 | G37: 9
A38: 朝陽里 | B38: 男 | C38: 2886 | D38: 2869 | E38: 17 | F38: 12 | G38: 5
B39: 女 | C39: 3054 | D39: 3042 | E39: 12 | F39: 8 | G39: 4
B40: 計 | C40: 2818 | D40: 2801 | E40: 17 | F40: 13 | G40: 4
...
