Workbook

Sheet 鄉市
A1: 澎湖縣各鄉市 現住人口數按性別及原住民身分分
D2: =村里!D2 -> 112年 | E2: =村里!E2 -> 4月底 | G2: =村里!G2 -> 製表日期：112年5月1日
A3: 區域別 | B3: 性別 | C3: 總計 | D3: 區域人人口數 | E3: 原住民合計 | F3: 平地原住民 | G3: 山地原住民
B4: 計 | C4: =村里!C4 -> 107397 | D4: =村里!D4 -> 106720 | E4: =村里!E4 -> 677 | F4: =村里!F4 -> 349 | G4: =村里!G4 -> 328
A5: 澎湖縣 | B5: 男 | C5: =村里!C5 -> 55100 | D5: =村里!D5 -> 54779 | E5: =村里!E5 -> 321 | F5: =村里!F5 -> 164 | G5: =村里!G5 -> 157
A6: 總計 | B6: 女 | C6: =村里!C6 -> 52297 | D6: =村里!D6 -> 51941 | E6: =村里!E6 -> 356 | F6: =村里!F6 -> 185 | G6: =村里!G6 -> 171
B7: 計 | C7: =村里!C7 -> 63802 | D7: =村里!D7 -> 63374 | E7: =村里!E7 -> 428 | F7: =村里!F7 -> 252 | G7: =村里!G7 -> 176
A8: 馬公市 | B8: 男 | C8: =村里!C8 -> 32418 | D8: =村里!D8 -> 32200 | E8: =村里!E8 -> 218 | F8: =村里!F8 -> 130 | G8: =村里!G8 -> 88
B9: 女 | C9: =村里!C9 -> 31384 | D9: =村里!D9 -> 31174 | E9: =村里!E9 -> 210 | F9: =村里!F9 -> 122 | G9: =村里!G9 -> 88
B10: 計 | C10: =村里!C109 -> 15910 | D10: =村里!D109 -> 15794 | E10: =村里!E109 -> 116 | F10: =村里!F109 -> 45 | G10: =村里!G109 -> 71
A11: 湖西鄉 | B11: 男 | C11: =村里!C110 -> 8345 | D11: =村里!D110 -> 8295 | E11: =村里!E110 -> 50 | F11: =村里!F110 -> 16 | G11: =村里!G110 -> 34
B12: 女 | C12: =村里!C111 -> 7565 | D12: =村里!D111 -> 7499 | E12: =村里!E111 -> 66 | F12: =村里!F111 -> 29 | G12: =村里!G111 -> 37
B13: 計 | C13: =村里!C178 -> 10078 | D13: =村里!D178 -> 10036 | E13: =村里!E178 -> 42 | F13: =村里!F178 -> 17 | G13: =村里!G178 -> 25
A14: 白沙鄉 | B14: 男 | C14: =村里!C179 -> 5177 | D14: =村里!D179 -> 5164 | E14: =村里!E179 -> 13 | F14: =村里!F179 -> 4 | G14: =村里!G179 -> 9
B15: 女 | C15: =村里!C180 -> 4901 | D15: =村里!D180 -> 4872 | E15: =村里!E180 -> 29 | F15: =村里!F180 -> 13 | G15: =村里!G180 -> 16
B16: 計 | C16: =村里!C226 -> 8288 | D16: =村里!D226 -> 8235 | E16: =村里!E226 -> 53 | F16: =村里!F226 -> 21 | G16: =村里!G226 -> 32
A17: 西嶼鄉 | B17: 男 | C17: =村里!C227 -> 4254 | D17: =村里!D227 -> 4234 | E17: =村里!E227 -> 20 | F17: =村里!F227 -> 6 | G17: =村里!G227 -> 14
B18: 女 | C18: =村里!C228 -> 4034 | D18: =村里!D228 -> 4001 | E18: =村里!E228 -> 33 | F18: =村里!F228 -> 15 | G18: =村里!G228 -> 18
B19: 計 | C19: =村里!C262 -> 5424 | D19: =村里!D262 -> 5403 | E19: =村里!E262 -> 21 | F19: =村里!F262 -> 10 | G19: =村里!G262 -> 11
A20: 望安鄉 | B20: 男 | C20: =村里!C263 -> 2919 | D20: =村里!D263 -> 2908 | E20: =村里!E263 -> 11 | F20: =村里!F263 -> 4 | G20: =村里!G263 -> 7
B21: 女 | C21: =村里!C264 -> 2505 | D21: =村里!D264 -> 2495 | E21: =村里!E264 -> 10 | F21: =村里!F264 -> 6 | G21: =村里!G264 -> 4
B22: 計 | C22: =村里!C292 -> 3895 | D22: =村里!D292 -> 3878 | E22: =村里!E292 -> 17 | F22: =村里!F292 -> 4 | G22: =村里!G292 -> 13
A23: 七美鄉 | B23: 男 | C23: =村里!C293 -> 1987 | D23: =村里!D293 -> 1978 | E23: =村里!E293 -> 9 | F23: =村里!F293 -> 4 | G23: =村里!G293 -> 5
B24: 女 | C24: =村里!C294 -> 1908 | D24: =村里!D294 -> 1900 | E24: =村里!E294 -> 8 | F24: =村里!F294 -> 0 | G24: =村里!G294 -> 8

Sheet 村里
A1: 澎湖縣各村里 現住人口數按性別及原住民身分分
D2: 112年 | E2: 4月底 | G2: 製表日期：112年5月1日
A3: 區域別 | B3: 性別 | C3: 總計 | D3: 區域人人口數 | E3: 原住民合計 | F3: 平地原住民 | G3: 山地原住民
B4: 計 | C4: 107397 | D4: 106720 | E4: 677 | F4: 349 | G4: 328
A5: 澎湖縣 | B5: 男 | C5: 55100 | D5: 54779 | E5: 321 | F5: 164 | G5: 157
B6: 女 | C6: 52297 | D6: 51941 | E6: 356 | F6: 185 | G6: 171
B7: 計 | C7: 63802 | D7: 63374 | E7: 428 | F7: 252 | G7: 176
A8: 馬公市 | B8: 男 | C8: 32418 | D8: 32200 | E8: 218 | F8: 130 | G8: 88
B9: 女 | C9: 31384 | D9: 31174 | E9: 210 | F9: 122 | G9: 88
B10: 計 | C10: 502 | D10: 498 | E10: 4 | F10: 1 | G10: 3
A11: 復興里 | B11: 男 | C11: 320 | D11: 317 | E11: 3 | F11: 0 | G11: 3
B12: 女 | C12: 182 | D12: 181 | E12: 1 | F12: 1 | G12: 0
B13: 計 | C13: 600 | D13: 597 | E13: 3 | F13: 1 | G13: 2
A14: 長安里 | B14: 男 | C14: 292 | D14: 292 | E14: 0 | F14: 0 | G14: 0
B15: 女 | C15: 308 | D15: 305 | E15: 3 | F15: 1 | G15: 2
B16: 計 | C16: 589 | D16: 583 | E16: 6 | F16: 3 | G16: 3
A17: 中央里 | B17: 男 | C17: 297 | D17: 296 | E17: 1 | F17: 0 | G17: 1
B18: 女 | C18: 292 | D18: 287 | E18: 5 | F18: 3 | G18: 2
B19: 計 | C19: 962 | D19: 955 | E19: 7 | F19: 1 | G19: 6
A20: 啟明里 | B20: 男 | C20: 480 | D20: 476 | E20: 4 | F20: 0 | G20: 4
B21: 女 | C21: 482 | D21: 479 | E21: 3 | F21: 1 | G21: 2
B22: 計 | C22: 1041 | D22: 1040 | E22: 1 | F22: 1 | G22: 0
A23: 重慶里 | B23: 男 | C23: 517 | D23: 517 | E23: 0 | F23: 0 | G23: 0
B24: 女 | C24: 524 | D24: 523 | E24: 1 | F24: 1 | G24: 0
B25: 計 | C25: 869 | D25: 866 | E25: 3 | F25: 1 | G25: 2
A26: 中興里 | B26: 男 | C26: 443 | D26: 440 | E26: 3 | F26: 1 | G26: 2
B27: 女 | C27: 426 | D27: 426 | E27: 0 | F27: 0 | G27: 0
B28: 計 | C28: 2192 | D28: 2184 | E28: 8 | F28: 1 | G28: 7
A29: 光復里 | B29: 男 | C29: 1051 | D29: 1047 | E29: 4 | F29: 1 | G29: 3
B30: 女 | C30: 1141 | D30: 1137 | E30: 4 | F30: 0 | G30: 4
B31: 計 | C31: 4588 | D31: 4550 | E31: 38 | F31: 17 | G31: 21
A32: 光榮里 | B32: 男 | C32: 2194 | D32: 2173 | E32: 21 | F32: 10 | G32: 11
B33: 女 | C33: 2394 | D33: 2377 | E33: 17 | F33: 7 | G33: 10
B34: 計 | C34: 1311 | D34: 1307 | E34: 4 | F34: 4 | G34: 0
A35: 光明里 | B35: 男 | C35: 663 | D35: 660 | E35: 3 | F35: 3 | G35: 0
B36: 女 | C36: 648 | D36: 647 | E36: 1 | F36: 1 | G36: 0
B37: 計 | C37: 5940 | D37: 5911 | E37: 29 | F37: 20 | G37: 9
A38: 朝陽里 | B38: 男 | C38: 2886 | D38: 2869 | E38: 17 | F38: 12 | G38: 5
B39: 女 | C39: 3054 | D39: 3042 | E39: 12 | F39: 8 | G39: 4
B40: 計 | C40: 2818 | D40: 2801 | E40: 17 | F40: 13 | G40: 4
A41: 陽明里 | B41: 男 | C41: 1396 | D41: 1389 | E41: 7 | F41: 5 | G41: 2
B42: 女 | C42: 1422 | D42: 1412 | E42: 10 | F42: 8 | G42: 2
B43: 計 | C43: 1684 | D43: 1675 | E43: 9 | F43: 6 | G43: 3
A44: 重光里 | B44: 男 | C44: 856 | D44: 851 | E44: 5 | F44: 4 | G44: 1
B45: 女 | C45: 828 | D45: 824 | E45: 4 | F45: 2 | G45: 2
B46: 計 | C46: 7279 | D46: 7238 | E46: 41 | F46: 24 | G46: 17
A47: 西衛里 | B47: 男 | C47: 3709 | D47: 3691 | E47: 18 | F47: 10 | G47: 8
B48: 女 | C48: 3570 | D48: 3547 | E48: 23 | F48: 14 | G48: 9
B49: 計 | C49: 4049 | D49: 4034 | E49: 15 | F49: 11 | G49: 4
A50: 西文里 | B50: 男 | C50: 2025 | D50: 2016 | E50: 9 | F50: 7 | G50: 2
B51: 女 | C51: 2024 | D51: 2018 | E51: 6 | F51: 4 | G51: 2
B52: 計 | C52: 4181 | D52: 4155 | E52: 26 | F52: 14 | G52: 12
A53: 東文里 | B53: 男 | C53: 2064 | D53: 2053 | E53: 11 | F53: 5 | G53: 6
B54: 女 | C54: 2117 | D54: 2102 | E54: 15 | F54: 9 | G54: 6
B55: 計 | C55: 2045 | D55: 2008 | E55: 37 | F55: 30 | G55: 7
A56: 案山里 | B56: 男 | C56: 1195 | D56: 1171 | E56: 24 | F56: 18 | G56: 6
B57: 女 | C57: 850 | D57: 837 | E57: 13 | F57: 12 | G57: 1
B58: 計 | C58: 1208 | D58: 1171 | E58: 37 | F58: 20 | G58: 17
A59: 光華里 | B59: 男 | C59: 693 | D59: 675 | E59: 18 | F59: 12 | G59: 6
B60: 女 | C60: 515 | D60: 496 | E60: 19 | F60: 8 | G60: 11
B61: 計 | C61: 1168 | D61: 1157 | E61: 11 | F61: 7 | G61: 4
A62: 前寮里 | B62: 男 | C62: 604 | D62: 599 | E62: 5 | F62: 4 | G62: 1
B63: 女 | C63: 564 | D63: 558 | E63: 6 | F63: 3 | G63: 3
B64: 計 | C64: 3329 | D64: 3306 | E64: 23 | F64: 13 | G64: 10
A65: 石泉里 | B65: 男 | C65: 1630 | D65: 1621 | E65: 9 | F65: 4 | G65: 5
B66: 女 | C66: 1699 | D66: 1685 | E66: 14 | F66: 9 | G66: 5
B67: 計 | C67: 498 | D67: 496 | E67: 2 | F67: 0 | G67: 2
A68: 菜園里 | B68: 男 | C68: 265 | D68: 265 | E68: 0 | F68: 0 | G68: 0
B69: 女 | C69: 233 | D69: 231 | E69: 2 | F69: 0 | G69: 2
B70: 計 | C70: 2531 | D70: 2519 | E70: 12 | F70: 7 | G70: 5
A71: 東衛里 | B71: 男 | C71: 1299 | D71: 1295 | E71: 4 | F71: 4 | G71: 0
B72: 女 | C72: 1232 | D72: 1224 | E72: 8 | F72: 3 | G72: 5
B73: 計 | C73: 720 | D73: 711 | E73: 9 | F73: 3 | G73: 6
A74: 安宅里 | B74: 男 | C74: 369 | D74: 367 | E74: 2 | F74: 0 | G74: 2
B75: 女 | C75: 351 | D75: 344 | E75: 7 | F75: 3 | G75: 4
B76: 計 | C76: 1235 | D76: 1224 | E76: 11 | F76: 8 | G76: 3
A77: 烏崁里 | B77: 男 | C77: 647 | D77: 638 | E77: 9 | F77: 6 | G77: 3
B78: 女 | C78: 588 | D78: 586 | E78: 2 | F78: 2 | G78: 0
B79: 計 | C79: 1628 | D79: 1617 | E79: 11 | F79: 5 | G79: 6
A80: 興仁里 | B80: 男 | C80: 845 | D80: 839 | E80: 6 | F80: 3 | G80: 3
B81: 女 | C81: 783 | D81: 778 | E81: 5 | F81: 2 | G81: 3
B82: 計 | C82: 830 | D82: 815 | E82: 15 | F82: 10 | G82: 5
A83: 鐵線里 | B83: 男 | C83: 426 | D83: 417 | E83: 9 | F83: 5 | G83: 4
B84: 女 | C84: 404 | D84: 398 | E84: 6 | F84: 5 | G84: 1
B85: 計 | C85: 1931 | D85: 1929 | E85: 2 | F85: 2 | G85: 0
A86: 山水里 | B86: 男 | C86: 992 | D86: 991 | E86: 1 | F86: 1 | G86: 0
B87: 女 | C87: 939 | D87: 938 | E87: 1 | F87: 1 | G87: 0
B88: 計 | C88: 2936 | D88: 2914 | E88: 22 | F88: 13 | G88: 9
A89: 鎖港里 | B89: 男 | C89: 1492 | D89: 1484 | E89: 8 | F89: 6 | G89: 2
B90: 女 | C90: 1444 | D90: 1430 | E90: 14 | F90: 7 | G90: 7
B91: 計 | C91: 509 | D91: 501 | E91: 8 | F91: 5 | G91: 3
A92: 五德里 | B92: 男 | C92: 333 | D92: 326 | E92: 7 | F92: 4 | G92: 3
B93: 女 | C93: 176 | D93: 175 | E93: 1 | F93: 1 | G93: 0
B94: 計 | C94: 437 | D94: 435 | E94: 2 | F94: 2 | G94: 0
A95: 井垵里 | B95: 男 | C95: 219 | D95: 218 | E95: 1 | F95: 1 | G95: 0
B96: 女 | C96: 218 | D96: 217 | E96: 1 | F96: 1 | G96: 0
B97: 計 | C97: 1363 | D97: 1359 | E97: 4 | F97: 1 | G97: 3
A98: 嵵裡里 | B98: 男 | C98: 686 | D98: 684 | E98: 2 | F98: 0 | G98: 2
B99: 女 | C99: 677 | D99: 675 | E99: 2 | F99: 1 | G99: 1
B100: 計 | C100: 1528 | D100: 1521 | E100: 7 | F100: 6 | G100: 1
...
