Workbook

Sheet 村里
F1: 澎湖縣 村里、鄰、戶、人口與戶籍動態登記數按性別、登記項目及村里分
J2: 108年10月底 | O2: 製表日期:108年11月4日
A3: 區域 | B3: 村里 | C3: 鄰 | D3: 戶 | E3: 性 | F3: 人口 | G3: 遷入 | H3: 遷出 | I3: 住址 | J3: 變更 | K3: 出生 | L3: 死亡 | M3: 認領 | N3: 收養 | O3: 終止收 | P3: 監護 | Q3: 輔助 | R3: 未成年子女權利義 | S3: 結婚 | T3: 離婚
A4: 別 | B4: 數 | C4: 數 | D4: 數 | E4: 別 | F4: 數 | G4: 人數 | H4: 人數 | I4: 遷入 | J4: 遷出 | K4: 人數 | L4: 人數 | M4: 人數 | N4: 人數 | O4: 養人數 | P4: 人數 | Q4: 人數 | R4: 務行使負擔人數 | S4: 對數 | T4: 對數
E5: 計 | F5: 105192 | G5: 378 | H5: 331 | I5: 242 | J5: 242 | K5: 76 | L5: 83 | M5: 1 | N5: 0 | O5: 0 | P5: 3 | Q5: 1 | R5: 48
A6: 澎湖縣 | B6: 96 | C6: 1404 | D6: 41518 | E6: 男 | F6: 54284 | G6: 217 | H6: 194 | I6: 120 | J6: 120 | K6: 37 | L6: 48 | M6: 0 | N6: 0 | O6: 0 | P6: 0 | Q6: 1 | R6: 27 | S6: 51 | T6: 27
E7: 女 | F7: 50908 | G7: 161 | H7: 137 | I7: 122 | J7: 122 | K7: 39 | L7: 35 | M7: 1 | N7: 0 | O7: 0 | P7: 3 | Q7: 0 | R7: 21
E8: 計 | F8: 63021 | G8: 202 | H8: 209 | I8: 205 | J8: 205 | K8: 48 | L8: 43 | M8: 1 | N8: 0 | O8: 0 | P8: 2 | Q8: 0 | R8: 36
A9: 馬公市 | B9: 33 | C9: 628 | D9: 25548 | E9: 男 | F9: 32104 | G9: 103 | H9: 120 | I9: 99 | J9: 99 | K9: 23 | L9: 24 | M9: 0 | N9: 0 | O9: 0 | P9: 0 | Q9: 0 | R9: 18 | S9: 34 | T9: 18
E10: 女 | F10: 30917 | G10: 99 | H10: 89 | I10: 106 | J10: 106 | K10: 25 | L10: 19 | M10: 1 | N10: 0 | O10: 0 | P10: 2 | Q10: 0 | R10: 18
E11: 計 | F11: 544 | G11: 6 | H11: 5 | I11: 1 | J11: 0 | K11: 0 | L11: 1 | M11: 0 | N11: 0 | O11: 0 | P11: 0 | Q11: 0 | R11: 0
A12: 復興里 | B12: 1 | C12: 12 | D12: 356 | E12: 男 | F12: 350 | G12: 4 | H12: 5 | I12: 0 | J12: 0 | K12: 0 | L12: 1 | M12: 0 | N12: 0 | O12: 0 | P12: 0 | Q12: 0 | R12: 0 | S12: 1 | T12: 0
E13: 女 | F13: 194 | G13: 2 | H13: 0 | I13: 1 | J13: 0 | K13: 0 | L13: 0 | M13: 0 | N13: 0 | O13: 0 | P13: 0 | Q13: 0 | R13: 0
E14: 計 | F14: 637 | G14: 1 | H14: 2 | I14: 1 | J14: 1 | K14: 0 | L14: 0 | M14: 0 | N14: 0 | O14: 0 | P14: 0 | Q14: 0 | R14: 0
A15: 長安里 | B15: 1 | C15: 19 | D15: 262 | E15: 男 | F15: 306 | G15: 0 | H15: 2 | I15: 1 | J15: 1 | K15: 0 | L15: 0 | M15: 0 | N15: 0 | O15: 0 | P15: 0 | Q15: 0 | R15: 0 | S15: 0 | T15: 1
E16: 女 | F16: 331 | G16: 1 | H16: 0 | I16: 0 | J16: 0 | K16: 0 | L16: 0 | M16: 0 | N16: 0 | O16: 0 | P16: 0 | Q16: 0 | R16: 0
E17: 計 | F17: 597 | G17: 3 | H17: 2 | I17: 1 | J17: 0 | K17: 0 | L17: 0 | M17: 0 | N17: 0 | O17: 0 | P17: 0 | Q17: 0 | R17: 0
A18: 中央里 | B18: 1 | C18: 16 | D18: 251 | E18: 男 | F18: 302 | G18: 1 | H18: 2 | I18: 1 | J18: 0 | K18: 0 | L18: 0 | M18: 0 | N18: 0 | O18: 0 | P18: 0 | Q18: 0 | R18: 0 | S18: 1 | T18: 0
E19: 女 | F19: 295 | G19: 2 | H19: 0 | I19: 0 | J19: 0 | K19: 0 | L19: 0 | M19: 0 | N19: 0 | O19: 0 | P19: 0 | Q19: 0 | R19: 0
E20: 計 | F20: 990 | G20: 3 | H20: 0 | I20: 1 | J20: 1 | K20: 1 | L20: 0 | M20: 0 | N20: 0 | O20: 0 | P20: 0 | Q20: 0 | R20: 0
A21: 啟明里 | B21: 1 | C21: 25 | D21: 394 | E21: 男 | F21: 490 | G21: 1 | H21: 0 | I21: 0 | J21: 0 | K21: 1 | L21: 0 | M21: 0 | N21: 0 | O21: 0 | P21: 0 | Q21: 0 | R21: 0 | S21: 0 | T21: 1
E22: 女 | F22: 500 | G22: 2 | H22: 0 | I22: 1 | J22: 1 | K22: 0 | L22: 0 | M22: 0 | N22: 0 | O22: 0 | P22: 0 | Q22: 0 | R22: 0
E23: 計 | F23: 1119 | G23: 1 | H23: 5 | I23: 4 | J23: 1 | K23: 2 | L23: 1 | M23: 0 | N23: 0 | O23: 0 | P23: 0 | Q23: 0 | R23: 0
A24: 重慶里 | B24: 1 | C24: 32 | D24: 451 | E24: 男 | F24: 572 | G24: 1 | H24: 1 | I24: 3 | J24: 1 | K24: 1 | L24: 0 | M24: 0 | N24: 0 | O24: 0 | P24: 0 | Q24: 0 | R24: 0 | S24: 0 | T24: 0
E25: 女 | F25: 547 | G25: 0 | H25: 4 | I25: 1 | J25: 0 | K25: 1 | L25: 1 | M25: 0 | N25: 0 | O25: 0 | P25: 0 | Q25: 0 | R25: 0
E26: 計 | F26: 881 | G26: 6 | H26: 5 | I26: 2 | J26: 5 | K26: 0 | L26: 2 | M26: 0 | N26: 0 | O26: 0 | P26: 0 | Q26: 0 | R26: 0
A27: 中興里 | B27: 1 | C27: 19 | D27: 426 | E27: 男 | F27: 447 | G27: 5 | H27: 4 | I27: 0 | J27: 0 | K27: 0 | L27: 1 | M27: 0 | N27: 0 | O27: 0 | P27: 0 | Q27: 0 | R27: 0 | S27: 0 | T27: 1
E28: 女 | F28: 434 | G28: 1 | H28: 1 | I28: 2 | J28: 5 | K28: 0 | L28: 1 | M28: 0 | N28: 0 | O28: 0 | P28: 0 | Q28: 0 | R28: 0
E29: 計 | F29: 2222 | G29: 6 | H29: 8 | I29: 5 | J29: 8 | K29: 0 | L29: 1 | M29: 0 | N29: 0 | O29: 0 | P29: 0 | Q29: 0 | R29: 0
A30: 光復里 | B30: 1 | C30: 29 | D30: 890 | E30: 男 | F30: 1054 | G30: 1 | H30: 2 | I30: 0 | J30: 3 | K30: 0 | L30: 1 | M30: 0 | N30: 0 | O30: 0 | P30: 0 | Q30: 0 | R30: 0 | S30: 0 | T30: 0
E31: 女 | F31: 1168 | G31: 5 | H31: 6 | I31: 5 | J31: 5 | K31: 0 | L31: 0 | M31: 0 | N31: 0 | O31: 0 | P31: 0 | Q31: 0 | R31: 0
E32: 計 | F32: 4730 | G32: 22 | H32: 11 | I32: 12 | J32: 10 | K32: 6 | L32: 6 | M32: 0 | N32: 0 | O32: 0 | P32: 2 | Q32: 0 | R32: 3
A33: 光榮里 | B33: 1 | C33: 34 | D33: 1908 | E33: 男 | F33: 2279 | G33: 9 | H33: 6 | I33: 7 | J33: 4 | K33: 3 | L33: 2 | M33: 0 | N33: 0 | O33: 0 | P33: 0 | Q33: 0 | R33: 1 | S33: 0 | T33: 1
E34: 女 | F34: 2451 | G34: 13 | H34: 5 | I34: 5 | J34: 6 | K34: 3 | L34: 4 | M34: 0 | N34: 0 | O34: 0 | P34: 2 | Q34: 0 | R34: 2
E35: 計 | F35: 1375 | G35: 1 | H35: 8 | I35: 10 | J35: 8 | K35: 2 | L35: 1 | M35: 0 | N35: 0 | O35: 0 | P35: 0 | Q35: 0 | R35: 0
A36: 光明里 | B36: 1 | C36: 33 | D36: 592 | E36: 男 | F36: 689 | G36: 1 | H36: 5 | I36: 5 | J36: 4 | K36: 1 | L36: 0 | M36: 0 | N36: 0 | O36: 0 | P36: 0 | Q36: 0 | R36: 0 | S36: 0 | T36: 0
E37: 女 | F37: 686 | G37: 0 | H37: 3 | I37: 5 | J37: 4 | K37: 1 | L37: 1 | M37: 0 | N37: 0 | O37: 0 | P37: 0 | Q37: 0 | R37: 0
E38: 計 | F38: 6151 | G38: 15 | H38: 22 | I38: 10 | J38: 30 | K38: 5 | L38: 6 | M38: 0 | N38: 0 | O38: 0 | P38: 0 | Q38: 0 | R38: 8
A39: 朝陽里 | B39: 1 | C39: 37 | D39: 2294 | E39: 男 | F39: 3001 | G39: 5 | H39: 10 | I39: 5 | J39: 14 | K39: 3 | L39: 3 | M39: 0 | N39: 0 | O39: 0 | P39: 0 | Q39: 0 | R39: 3 | S39: 5 | T39: 5
E40: 女 | F40: 3150 | G40: 10 | H40: 12 | I40: 5 | J40: 16 | K40: 2 | L40: 3 | M40: 0 | N40: 0 | O40: 0 | P40: 0 | Q40: 0 | R40: 5
E41: 計 | F41: 2839 | G41: 8 | H41: 14 | I41: 7 | J41: 10 | K41: 1 | L41: 3 | M41: 0 | N41: 0 | O41: 0 | P41: 0 | Q41: 0 | R41: 2
A42: 陽明里 | B42: 1 | C42: 28 | D42: 1124 | E42: 男 | F42: 1403 | G42: 1 | H42: 7 | I42: 4 | J42: 4 | K42: 0 | L42: 1 | M42: 0 | N42: 0 | O42: 0 | P42: 0 | Q42: 0 | R42: 2 | S42: 3 | T42: 1
E43: 女 | F43: 1436 | G43: 7 | H43: 7 | I43: 3 | J43: 6 | K43: 1 | L43: 2 | M43: 0 | N43: 0 | O43: 0 | P43: 0 | Q43: 0 | R43: 0
E44: 計 | F44: 1707 | G44: 3 | H44: 9 | I44: 6 | J44: 3 | K44: 1 | L44: 0 | M44: 0 | N44: 0 | O44: 0 | P44: 0 | Q44: 0 | R44: 0
A45: 重光里 | B45: 1 | C45: 13 | D45: 643 | E45: 男 | F45: 866 | G45: 2 | H45: 8 | I45: 2 | J45: 2 | K45: 1 | L45: 0 | M45: 0 | N45: 0 | O45: 0 | P45: 0 | Q45: 0 | R45: 0 | S45: 2 | T45: 1
E46: 女 | F46: 841 | G46: 1 | H46: 1 | I46: 4 | J46: 1 | K46: 0 | L46: 0 | M46: 0 | N46: 0 | O46: 0 | P46: 0 | Q46: 0 | R46: 0
E47: 計 | F47: 7019 | G47: 9 | H47: 10 | I47: 18 | J47: 18 | K47: 4 | L47: 3 | M47: 0 | N47: 0 | O47: 0 | P47: 0 | Q47: 0 | R47: 4
A48: 西衛里 | B48: 1 | C48: 30 | D48: 3671 | E48: 男 | F48: 3580 | G48: 3 | H48: 6 | I48: 9 | J48: 7 | K48: 1 | L48: 3 | M48: 0 | N48: 0 | O48: 0 | P48: 0 | Q48: 0 | R48: 2 | S48: 5 | T48: 0
E49: 女 | F49: 3439 | G49: 6 | H49: 4 | I49: 9 | J49: 11 | K49: 3 | L49: 0 | M49: 0 | N49: 0 | O49: 0 | P49: 0 | Q49: 0 | R49: 2
E50: 計 | F50: 3896 | G50: 12 | H50: 19 | I50: 15 | J50: 26 | K50: 2 | L50: 1 | M50: 0 | N50: 0 | O50: 0 | P50: 0 | Q50: 0 | R50: 3
A51: 西文里 | B51: 1 | C51: 24 | D51: 1463 | E51: 男 | F51: 1956 | G51: 7 | H51: 9 | I51: 5 | J51: 10 | K51: 1 | L51: 1 | M51: 0 | N51: 0 | O51: 0 | P51: 0 | Q51: 0 | R51: 1 | S51: 0 | T51: 1
E52: 女 | F52: 1940 | G52: 5 | H52: 10 | I52: 10 | J52: 16 | K52: 1 | L52: 0 | M52: 0 | N52: 0 | O52: 0 | P52: 0 | Q52: 0 | R52: 2
E53: 計 | F53: 4085 | G53: 15 | H53: 14 | I53: 23 | J53: 14 | K53: 2 | L53: 2 | M53: 0 | N53: 0 | O53: 0 | P53: 0 | Q53: 0 | R53: 2
A54: 東文里 | B54: 1 | C54: 18 | D54: 1413 | E54: 男 | F54: 2009 | G54: 5 | H54: 5 | I54: 15 | J54: 8 | K54: 2 | L54: 0 | M54: 0 | N54: 0 | O54: 0 | P54: 0 | Q54: 0 | R54: 0 | S54: 5 | T54: 0
E55: 女 | F55: 2076 | G55: 10 | H55: 9 | I55: 8 | J55: 6 | K55: 0 | L55: 2 | M55: 0 | N55: 0 | O55: 0 | P55: 0 | Q55: 0 | R55: 2
E56: 計 | F56: 2076 | G56: 12 | H56: 12 | I56: 7 | J56: 3 | K56: 1 | L56: 3 | M56: 0 | N56: 0 | O56: 0 | P56: 0 | Q56: 0 | R56: 2
A57: 案山里 | B57: 1 | C57: 23 | D57: 1046 | E57: 男 | F57: 1232 | G57: 10 | H57: 8 | I57: 2 | J57: 1 | K57: 0 | L57: 1 | M57: 0 | N57: 0 | O57: 0 | P57: 0 | Q57: 0 | R57: 1 | S57: 1 | T57: 2
E58: 女 | F58: 844 | G58: 2 | H58: 4 | I58: 5 | J58: 2 | K58: 1 | L58: 2 | M58: 0 | N58: 0 | O58: 0 | P58: 0 | Q58: 0 | R58: 1
E59: 計 | F59: 1200 | G59: 24 | H59: 21 | I59: 9 | J59: 2 | K59: 2 | L59: 0 | M59: 0 | N59: 0 | O59: 0 | P59: 0 | Q59: 0 | R59: 1
A60: 光華里 | B60: 1 | C60: 15 | D60: 601 | E60: 男 | F60: 713 | G60: 18 | H60: 13 | I60: 6 | J60: 1 | K60: 1 | L60: 0 | M60: 0 | N60: 0 | O60: 0 | P60: 0 | Q60: 0 | R60: 1 | S60: 1 | T60: 0
E61: 女 | F61: 487 | G61: 6 | H61: 8 | I61: 3 | J61: 1 | K61: 1 | L61: 0 | M61: 0 | N61: 0 | O61: 0 | P61: 0 | Q61: 0 | R61: 0
E62: 計 | F62: 1108 | G62: 1 | H62: 2 | I62: 1 | J62: 1 | K62: 1 | L62: 1 | M62: 0 | N62: 0 | O62: 0 | P62: 0 | Q62: 0 | R62: 0
A63: 前寮里 | B63: 1 | C63: 8 | D63: 416 | E63: 男 | F63: 579 | G63: 0 | H63: 1 | I63: 0 | J63: 0 | K63: 1 | L63: 0 | M63: 0 | N63: 0 | O63: 0 | P63: 0 | Q63: 0 | R63: 0 | S63: 1 | T63: 0
E64: 女 | F64: 529 | G64: 1 | H64: 1 | I64: 1 | J64: 1 | K64: 0 | L64: 1 | M64: 0 | N64: 0 | O64: 0 | P64: 0 | Q64: 0 | R64: 0
E65: 計 | F65: 3089 | G65: 10 | H65: 6 | I65: 9 | J65: 13 | K65: 3 | L65: 1 | M65: 0 | N65: 0 | O65: 0 | P65: 0 | Q65: 0 | R65: 4
A66: 石泉里 | B66: 1 | C66: 17 | D66: 1129 | E66: 男 | F66: 1529 | G66: 4 | H66: 5 | I66: 6 | J66: 8 | K66: 2 | L66: 1 | M66: 0 | N66: 0 | O66: 0 | P66: 0 | Q66: 0 | R66: 1 | S66: 0 | T66: 0
E67: 女 | F67: 1560 | G67: 6 | H67: 1 | I67: 3 | J67: 5 | K67: 1 | L67: 0 | M67: 0 | N67: 0 | O67: 0 | P67: 0 | Q67: 0 | R67: 3
E68: 計 | F68: 485 | G68: 7 | H68: 0 | I68: 1 | J68: 6 | K68: 0 | L68: 0 | M68: 0 | N68: 0 | O68: 0 | P68: 0 | Q68: 0 | R68: 0
A69: 菜園里 | B69: 1 | C69: 8 | D69: 167 | E69: 男 | F69: 252 | G69: 3 | H69: 0 | I69: 1 | J69: 5 | K69: 0 | L69: 0 | M69: 0 | N69: 0 | O69: 0 | P69: 0 | Q69: 0 | R69: 0 | S69: 0 | T69: 0
E70: 女 | F70: 233 | G70: 4 | H70: 0 | I70: 0 | J70: 1 | K70: 0 | L70: 0 | M70: 0 | N70: 0 | O70: 0 | P70: 0 | Q70: 0 | R70: 0
E71: 計 | F71: 2460 | G71: 7 | H71: 3 | I71: 6 | J71: 7 | K71: 1 | L71: 3 | M71: 0 | N71: 0 | O71: 0 | P71: 0 | Q71: 0 | R71: 2
A72: 東衛里 | B72: 1 | C72: 21 | D72: 933 | E72: 男 | F72: 1279 | G72: 6 | H72: 3 | I72: 3 | J72: 5 | K72: 1 | L72: 2 | M72: 0 | N72: 0 | O72: 0 | P72: 0 | Q72: 0 | R72: 2 | S72: 3 | T72: 1
E73: 女 | F73: 1181 | G73: 1 | H73: 0 | I73: 3 | J73: 2 | K73: 0 | L73: 1 | M73: 0 | N73: 0 | O73: 0 | P73: 0 | Q73: 0 | R73: 0
E74: 計 | F74: 726 | G74: 1 | H74: 0 | I74: 4 | J74: 3 | K74: 0 | L74: 0 | M74: 0 | N74: 0 | O74: 0 | P74: 0 | Q74: 0 | R74: 0
A75: 安宅里 | B75: 1 | C75: 11 | D75: 268 | E75: 男 | F75: 373 | G75: 1 | H75: 0 | I75: 1 | J75: 1 | K75: 0 | L75: 0 | M75: 0 | N75: 0 | O75: 0 | P75: 0 | Q75: 0 | R75: 0 | S75: 1 | T75: 0
E76: 女 | F76: 353 | G76: 0 | H76: 0 | I76: 3 | J76: 2 | K76: 0 | L76: 0 | M76: 0 | N76: 0 | O76: 0 | P76: 0 | Q76: 0 | R76: 0
E77: 計 | F77: 1176 | G77: 3 | H77: 4 | I77: 14 | J77: 3 | K77: 2 | L77: 0 | M77: 0 | N77: 0 | O77: 0 | P77: 0 | Q77: 0 | R77: 2
A78: 烏崁里 | B78: 1 | C78: 13 | D78: 426 | E78: 男 | F78: 617 | G78: 1 | H78: 3 | I78: 7 | J78: 3 | K78: 0 | L78: 0 | M78: 0 | N78: 0 | O78: 0 | P78: 0 | Q78: 0 | R78: 2 | S78: 2 | T78: 0
E79: 女 | F79: 559 | G79: 2 | H79: 1 | I79: 7 | J79: 0 | K79: 2 | L79: 0 | M79: 0 | N79: 0 | O79: 0 | P79: 0 | Q79: 0 | R79: 0
E80: 計 | F80: 1316 | G80: 3 | H80: 2 | I80: 8 | J80: 7 | K80: 4 | L80: 0 | M80: 1 | N80: 0 | O80: 0 | P80: 0 | Q80: 0 | R80: 1
A81: 興仁里 | B81: 1 | C81: 14 | D81: 553 | E81: 男 | F81: 679 | G81: 1 | H81: 0 | I81: 5 | J81: 4 | K81: 2 | L81: 0 | M81: 0 | N81: 0 | O81: 0 | P81: 0 | Q81: 0 | R81: 0 | S81: 0 | T81: 0
E82: 女 | F82: 637 | G82: 2 | H82: 2 | I82: 3 | J82: 3 | K82: 2 | L82: 0 | M82: 1 | N82: 0 | O82: 0 | P82: 0 | Q82: 0 | R82: 1
E83: 計 | F83: 705 | G83: 0 | H83: 3 | I83: 7 | J83: 10 | K83: 2 | L83: 0 | M83: 0 | N83: 0 | O83: 0 | P83: 0 | Q83: 0 | R83: 0
A84: 鐵線里 | B84: 1 | C84: 7 | D84: 274 | E84: 男 | F84: 342 | G84: 0 | H84: 3 | I84: 2 | J84: 7 | K84: 0 | L84: 0 | M84: 0 | N84: 0 | O84: 0 | P84: 0 | Q84: 0 | R84: 0 | S84: 0 | T84: 1
E85: 女 | F85: 363 | G85: 0 | H85: 0 | I85: 5 | J85: 3 | K85: 2 | L85: 0 | M85: 0 | N85: 0 | O85: 0 | P85: 0 | Q85: 0 | R85: 0
E86: 計 | F86: 1916 | G86: 4 | H86: 1 | I86: 4 | J86: 5 | K86: 2 | L86: 2 | M86: 0 | N86: 0 | O86: 0 | P86: 0 | Q86: 0 | R86: 0
A87: 山水里 | B87: 1 | C87: 22 | D87: 688 | E87: 男 | F87: 982 | G87: 1 | H87: 0 | I87: 1 | J87: 2 | K87: 0 | L87: 2 | M87: 0 | N87: 0 | O87: 0 | P87: 0 | Q87: 0 | R87: 0 | S87: 1 | T87: 0
E88: 女 | F88: 934 | G88: 3 | H88: 1 | I88: 3 | J88: 3 | K88: 2 | L88: 0 | M88: 0 | N88: 0 | O88: 0 | P88: 0 | Q88: 0 | R88: 0
E89: 計 | F89: 2860 | G89: 9 | H89: 8 | I89: 8 | J89: 4 | K89: 2 | L89: 2 | M89: 0 | N89: 0 | O89: 0 | P89: 0 | Q89: 0 | R89: 0
A90: 鎖港里 | B90: 1 | C90: 27 | D90: 1058 | E90: 男 | F90: 1475 | G90: 6 | H90: 3 | I90: 3 | J90: 2 | K90: 2 | L90: 2 | M90: 0 | N90: 0 | O90: 0 | P90: 0 | Q90: 0 | R90: 0 | S90: 1 | T90: 1
E91: 女 | F91: 1385 | G91: 3 | H91: 5 | I91: 5 | J91: 2 | K91: 0 | L91: 0 | M91: 0 | N91: 0 | O91: 0 | P91: 0 | Q91: 0 | R91: 0
E92: 計 | F92: 464 | G92: 6 | H92: 6 | I92: 3 | J92: 3 | K92: 0 | L92: 0 | M92: 0 | N92: 0 | O92: 0 | P92: 0 | Q92: 0 | R92: 0
A93: 五德里 | B93: 1 | C93: 8 | D93: 275 | E93: 男 | F93: 310 | G93: 5 | H93: 5 | I93: 2 | J93: 0 | K93: 0 | L93: 0 | M93: 0 | N93: 0 | O93: 0 | P93: 0 | Q93: 0 | R93: 0 | S93: 1 | T93: 0
E94: 女 | F94: 154 | G94: 1 | H94: 1 | I94: 1 | J94: 3 | K94: 0 | L94: 0 | M94: 0 | N94: 0 | O94: 0 | P94: 0 | Q94: 0 | R94: 0
E95: 計 | F95: 432 | G95: 0 | H95: 0 | I95: 2 | J95: 2 | K95: 0 | L95: 1 | M95: 0 | N95: 0 | O95: 0 | P95: 0 | Q95: 0 | R95: 0
A96: 井垵里 | B96: 1 | C96: 7 | D96: 142 | E96: 男 | F96: 219 | G96: 0 | H96: 0 | I96: 0 | J96: 1 | K96: 0 | L96: 1 | M96: 0 | N96: 0 | O96: 0 | P96: 0 | Q96: 0 | R96: 0 | S96: 0 | T96: 0
E97: 女 | F97: 213 | G97: 0 | H97: 0 | I97: 2 | J97: 1 | K97: 0 | L97: 0 | M97: 0 | N97: 0 | O97: 0 | P97: 0 | Q97: 0 | R97: 0
E98: 計 | F98: 1359 | G98: 1 | H98: 2 | I98: 5 | J98: 0 | K98: 1 | L98: 1 | M98: 0 | N98: 0 | O98: 0 | P98: 0 | Q98: 0 | R98: 0
A99: 嵵裡里 | B99: 1 | C99: 15 | D99: 454 | E99: 男 | F99: 689 | G99: 0 | H99: 1 | I99: 2 | J99: 0 | K99: 0 | L99: 0 | M99: 0 | N99: 0 | O99: 0 | P99: 0 | Q99: 0 | R99: 0 | S99: 0 | T99: 0
E100: 女 | F100: 670 | G100: 1 | H100: 1 | I100: 3 | J100: 0 | K100: 1 | L100: 1 | M100: 0 | N100: 0 | O100: 0 | P100: 0 | Q100: 0 | R100: 0
...

Sheet 鄉市
F1: 澎湖縣各鄉市 村里、鄰、戶、人口與戶籍動態登記數按性別及登記項目分
J2: =村里!J2 -> 108年10月底 | Q2: =村里!O2 -> 製表日期:108年11月4日
A3: 區域 | B3: 村里 | C3: 鄰 | D3: 戶 | E3: 性 | F3: 人口 | G3: 遷入 | H3: 遷出 | I3: 住址 | J3: 變更 | K3: 出生 | L3: 死亡 | M3: 認領 | N3: 收養 | O3: 終止收 | P3: 監護 | Q3: 輔助 | R3: 未成年子女權利義 | S3: 結婚 | T3: 離婚
A4: 別 | B4: 數 | C4: 數 | D4: 數 | E4: 別 | F4: 數 | G4: 人數 | H4: 人數 | I4: 遷入 | J4: 遷出 | K4: 人數 | L4: 人數 | M4: 人數 | N4: 人數 | O4: 養人數 | P4: 人數 | Q4: 人數 | R4: 務行使負擔人數 | S4: 對數 | T4: 對數
E5: 計 | F5: =村里!F5 -> 105192 | G5: =村里!G5 -> 378 | H5: =村里!H5 -> 331 | I5: =村里!I5 -> 242 | J5: =村里!J5 -> 242 | K5: =村里!K5 -> 76 | L5: =村里!L5 -> 83 | M5: =村里!M5 -> 1 | ... R5: =村里!R5 -> 48
A6: 澎湖縣 | B6: =村里!B6 -> 96 | C6: =村里!C6 -> 1404 | D6: =村里!D6 -> 41518 | E6: 男 | F6: =村里!F6 -> 54284 | G6: =村里!G6 -> 217 | H6: =村里!H6 -> 194 | I6: =村里!I6 -> 120 | J6: =村里!J6 -> 120 | K6: =村里!K6 -> 37 | L6: =村里!L6 -> 48 | M6: =村里!M6 -> 0 | ... T6: =村里!T6 -> 27
A7: 總計 | E7: 女 | F7: =村里!F7 -> 50908 | G7: =村里!G7 -> 161 | H7: =村里!H7 -> 137 | I7: =村里!I7 -> 122 | J7: =村里!J7 -> 122 | K7: =村里!K7 -> 39 | L7: =村里!L7 -> 35 | M7: =村里!M7 -> 1 | ... R7: =村里!R7 -> 21
E8: 計 | F8: =村里!F8 -> 63021 | G8: =村里!G8 -> 202 | H8: =村里!H8 -> 209 | I8: =村里!I8 -> 205 | J8: =村里!J8 -> 205 | K8: =村里!K8 -> 48 | L8: =村里!L8 -> 43 | M8: =村里!M8 -> 1 | ... R8: =村里!R8 -> 36
A9: 馬公市 | B9: =村里!B9 -> 33 | C9: =村里!C9 -> 628 | D9: =村里!D9 -> 25548 | E9: 男 | F9: =村里!F9 -> 32104 | G9: =村里!G9 -> 103 | H9: =村里!H9 -> 120 | I9: =村里!I9 -> 99 | J9: =村里!J9 -> 99 | K9: =村里!K9 -> 23 | L9: =村里!L9 -> 24 | M9: =村里!M9 -> 0 | ... T9: =村里!T9 -> 18
E10: 女 | F10: =村里!F10 -> 30917 | G10: =村里!G10 -> 99 | H10: =村里!H10 -> 89 | I10: =村里!I10 -> 106 | J10: =村里!J10 -> 106 | K10: =村里!K10 -> 25 | L10: =村里!L10 -> 19 | M10: =村里!M10 -> 1 | ... R10: =村里!R10 -> 18
E11: 計 | F11: =村里!F110 -> 14945 | G11: =村里!G110 -> 81 | H11: =村里!H110 -> 48 | I11: =村里!I110 -> 15 | J11: =村里!J110 -> 15 | K11: =村里!K110 -> 8 | L11: =村里!L110 -> 12 | M11: =村里!M110 -> 0 | ... R11: =村里!R110 -> 4
A12: 湖西鄉 | B12: =村里!B111 -> 22 | C12: =村里!C111 -> 238 | D12: =村里!D111 -> 5973 | E12: 男 | F12: =村里!F111 -> 7934 | G12: =村里!G111 -> 45 | H12: =村里!H111 -> 27 | I12: =村里!I111 -> 10 | J12: =村里!J111 -> 10 | K12: =村里!K111 -> 4 | L12: =村里!L111 -> 8 | M12: =村里!M111 -> 0 | ... T12: =村里!T111 -> 5
E13: 女 | F13: =村里!F112 -> 7011 | G13: =村里!G112 -> 36 | H13: =村里!H112 -> 21 | I13: =村里!I112 -> 5 | J13: =村里!J112 -> 5 | K13: =村里!K112 -> 4 | L13: =村里!L112 -> 4 | M13: =村里!M112 -> 0 | ... R13: =村里!R112 -> 0
E14: 計 | F14: =村里!F179 -> 9828 | G14: =村里!G179 -> 36 | H14: =村里!H179 -> 21 | I14: =村里!I179 -> 9 | J14: =村里!J179 -> 9 | K14: =村里!K179 -> 10 | L14: =村里!L179 -> 10 | M14: =村里!M179 -> 0 | ... R14: =村里!R179 -> 2
A15: 白沙鄉 | B15: =村里!B180 -> 15 | C15: =村里!C180 -> 179 | D15: =村里!D180 -> 3488 | E15: 男 | F15: =村里!F180 -> 5129 | G15: =村里!G180 -> 22 | H15: =村里!H180 -> 12 | I15: =村里!I180 -> 4 | J15: =村里!J180 -> 4 | K15: =村里!K180 -> 2 | L15: =村里!L180 -> 4 | M15: =村里!M180 -> 0 | ... T15: =村里!T180 -> 0
E16: 女 | F16: =村里!F181 -> 4699 | G16: =村里!G181 -> 14 | H16: =村里!H181 -> 9 | I16: =村里!I181 -> 5 | J16: =村里!J181 -> 5 | K16: =村里!K181 -> 8 | L16: =村里!L181 -> 6 | M16: =村里!M181 -> 0 | ... R16: =村里!R181 -> 1
E17: 計 | F17: =村里!F227 -> 8300 | G17: =村里!G227 -> 20 | H17: =村里!H227 -> 20 | I17: =村里!I227 -> 9 | J17: =村里!J227 -> 9 | K17: =村里!K227 -> 4 | L17: =村里!L227 -> 11 | M17: =村里!M227 -> 0 | ... R17: =村里!R227 -> 0
A18: 西嶼鄉 | B18: =村里!B228 -> 11 | C18: =村里!C228 -> 167 | D18: =村里!D228 -> 3040 | E18: 男 | F18: =村里!F228 -> 4285 | G18: =村里!G228 -> 13 | H18: =村里!H228 -> 15 | I18: =村里!I228 -> 4 | J18: =村里!J228 -> 4 | K18: =村里!K228 -> 3 | L18: =村里!L228 -> 7 | M18: =村里!M228 -> 0 | ... T18: =村里!T228 -> 2
E19: 女 | F19: =村里!F229 -> 4015 | G19: =村里!G229 -> 7 | H19: =村里!H229 -> 5 | I19: =村里!I229 -> 5 | J19: =村里!J229 -> 5 | K19: =村里!K229 -> 1 | L19: =村里!L229 -> 4 | M19: =村里!M229 -> 0 | ... R19: =村里!R229 -> 0
E20: 計 | F20: =村里!F263 -> 5284 | G20: =村里!G263 -> 20 | H20: =村里!H263 -> 18 | I20: =村里!I263 -> 2 | J20: =村里!J263 -> 2 | K20: =村里!K263 -> 4 | L20: =村里!L263 -> 4 | M20: =村里!M263 -> 0 | ... R20: =村里!R263 -> 6
A21: 望安鄉 | B21: =村里!B264 -> 9 | C21: =村里!C264 -> 131 | D21: =村里!D264 -> 2066 | E21: 男 | F21: =村里!F264 -> 2870 | G21: =村里!G264 -> 18 | H21: =村里!H264 -> 8 | I21: =村里!I264 -> 2 | J21: =村里!J264 -> 2 | K21: =村里!K264 -> 3 | L21: =村里!L264 -> 2 | M21: =村里!M264 -> 0 | ... T21: =村里!T264 -> 2
E22: 女 | F22: =村里!F265 -> 2414 | G22: =村里!G265 -> 2 | H22: =村里!H265 -> 10 | I22: =村里!I265 -> 0 | J22: =村里!J265 -> 0 | K22: =村里!K265 -> 1 | L22: =村里!L265 -> 2 | M22: =村里!M265 -> 0 | ... R22: =村里!R265 -> 2
E23: 計 | F23: =村里!F293 -> 3814 | G23: =村里!G293 -> 19 | H23: =村里!H293 -> 15 | I23: =村里!I293 -> 2 | J23: =村里!J293 -> 2 | K23: =村里!K293 -> 2 | L23: =村里!L293 -> 3 | M23: =村里!M293 -> 0 | ... R23: =村里!R293 -> 0
A24: 七美鄉 | B24: =村里!B294 -> 6 | C24: =村里!C294 -> 61 | D24: =村里!D294 -> 1403 | E24: 男 | F24: =村里!F294 -> 1962 | G24: =村里!G294 -> 16 | H24: =村里!H294 -> 12 | I24: =村里!I294 -> 1 | J24: =村里!J294 -> 1 | K24: =村里!K294 -> 2 | L24: =村里!L294 -> 3 | M24: =村里!M294 -> 0 | ... T24: =村里!T294 -> 0
E25: 女 | F25: =村里!F295 -> 1852 | G25: =村里!G295 -> 3 | H25: =村里!H295 -> 3 | I25: =村里!I295 -> 1 | J25: =村里!J295 -> 1 | K25: =村里!K295 -> 0 | L25: =村里!L295 -> 0 | M25: =村里!M295 -> 0 | ... R25: =村里!R295 -> 0
