Workbook

Sheet 村里
F1: 澎湖縣 村里、鄰、戶、人口與戶籍動態登記數按性別、登記項目及村里分
J2: 108年10月底 | O2: 製表日期:108年11月4日
A3: 區域 | B3: 村里 | C3: 鄰 | D3: 戶 | E3: 性 | F3: 人口 | G3: 遷入 | H3: 遷出 | I3: 住址 | J3: 變更 | K3: 出生 | L3: 死亡 | M3: 認領 | N3: 收養 | O3: 終止收 | P3: 監護 | Q3: 輔助 | R3: 未成年子女權利義 | S3: 結婚 | T3: 離婚
A4: 別 | B4: 數 | C4: 數 | D4: 數 | E4: 別 | F4: 數 | G4: 人數 | H4: 人數 | I4: 遷入 | J4: 遷出 | K4: 人數 | L4: 人數 | M4: 人數 | N4: 人數 | O4: 養人數 | P4: 人數 | Q4: 人數 | R4: 務行使負擔人數 | S4: 對數 | T4: 對數
E5: 計 | F5: 105192 | G5: 378 | H5: 331 | I5: 242 | J5: 242 | K5: 76 | L5: 83 | M5: 1 | N5: 0 | O5: 0 | P5: 3 | Q5: 1 | R5: 48
A6: 澎湖縣 | B6: 96 | C6: 1404 | D6: 41518 | E6: 男 | F6: 54284 | G6: 217 | H6: 194 | I6: 120 | J6: 120 | K6: 37 | L6: 48 | M6: 0 | N6: 0 | O6: 0 | P6: 0 | Q6: 1 | R6: 27 | S6: 51 | T6: 27
E7: 女 | F7: 50908 | G7: 161 | H7: 137 | I7: 122 | J7: 122 | K7: 39 | L7: 35 | M7: 1 | N7: 0 | O7: 0 | P7: 3 | Q7: 0 | R7: 21
E8: 計 | F8: 63021 | G8: 202 | H8: 209 | I8: 205 | J8: 205 | K8: 48 | L8: 43 | M8: 1 | N8: 0 | O8: 0 | P8: 2 | Q8: 0 | R8: 36
A9: 馬公市 | B9: 33 | C9: 628 | D9: 25548 | E9: 男 | F9: 32104 | G9: 103 | H9: 120 | I9: 99 | J9: 99 | K9: 23 | L9: 24 | M9: 0 | N9: 0 | O9: 0 | P9: 0 | Q9: 0 | R9: 18 | S9: 34 | T9: 18
E10: 女 | F10: 30917 | G10: 99 | H10: 89 | I10: 106 | J10: 106 | K10: 25 | L10: 19 | M10: 1 | N10: 0 | O10: 0 | P10: 2 | Q10: 0 | R10: 18
E11: 計 | F11: 544 | G11: 6 | H11: 5 | I11: 1 | J11: 0 | K11: 0 | L11: 1 | M11: 0 | N11: 0 | O11: 0 | P11: 0 | Q11: 0 | R11: 0
A12: 復興里 | B12: 1 | C12: 12 | D12: 356 | E12: 男 | F12: 350 | G12: 4 | H12: 5 | I12: 0 | J12: 0 | K12: 0 | L12: 1 | M12: 0 | N12: 0 | O12: 0 | P12: 0 | Q12: 0 | R12: 0 | S12: 1 | T12: 0
E13: 女 | F13: 194 | G13: 2 | H13: 0 | I13: 1 | J13: 0 | K13: 0 | L13: 0 | M13: 0 | N13: 0 | O13: 0 | P13: 0 | Q13: 0 | R13: 0
E14: 計 | F14: 637 | G14: 1 | H14: 2 | I14: 1 | J14: 1 | K14: 0 | L14: 0 | M14: 0 | N14: 0 | O14: 0 | P14: 0 | Q14: 0 | R14: 0
A15: 長安里 | B15: 1 | C15: 19 | D15: 262 | E15: 男 | F15: 306 | G15: 0 | H15: 2 | I15: 1 | J15: 1 | K15: 0 | L15: 0 | M15: 0 | N15: 0 | O15: 0 | P15: 0 | Q15: 0 | R15: 0 | S15: 0 | T15: 1
E16: 女 | F16: 331 | G16: 1 | H16: 0 | I16: 0 | J16: 0 | K16: 0 | L16: 0 | M16: 0 | N16: 0 | O16: 0 | P16: 0 | Q16: 0 | R16: 0
E17: 計 | F17: 597 | G17: 3 | H17: 2 | I17: 1 | J17: 0 | K17: 0 | L17: 0 | M17: 0 | N17: 0 | O17: 0 | P17: 0 | Q17: 0 | R17: 0
A18: 中央里 | B18: 1 | C18: 16 | D18: 251 | E18: 男 | F18: 302 | G18: 1 | H18: 2 | I18: 1 | J18: 0 | K18: 0 | L18: 0 | M18: 0 | N18: 0 | O18: 0 | P18: 0 | Q18: 0 | R18: 0 | S18: 1 | T18: 0
E19: 女 | F19: 295 | G19: 2 | H19: 0 | I19: 0 | J19: 0 | K19: 0 | L19: 0 | M19: 0 | N19: 0 | O19: 0 | P19: 0 | Q19: 0 | R19: 0
E20: 計 | F20: 990 | G20: 3 | H20: 0 | I20: 1 | J20: 1 | K20: 1 | L20: 0 | M20: 0 | N20: 0 | O20: 0 | P20: 0 | Q20: 0 | R20: 0
A21: 啟明里 | B21: 1 | C21: 25 | D21: 394 | E21: 男 | F21: 490 | G21: 1 | H21: 0 | I21: 0 | J21: 0 | K21: 1 | L21: 0 | M21: 0 | N21: 0 | O21: 0 | P21: 0 | Q21: 0 | R21: 0 | S21: 0 | T21: 1
E22: 女 | F22: 500 | G22: 2 | H22: 0 | I22: 1 | J22: 1 | K22: 0 | L22: 0 | M22: 0 | N22: 0 | O22: 0 | P22: 0 | Q22: 0 | R22: 0
E23: 計 | F23: 1119 | G23: 1 | H23: 5 | I23: 4 | J23: 1 | K23: 2 | L23: 1 | M23: 0 | N23: 0 | O23: 0 | P23: 0 | Q23: 0 | R23: 0
A24: 重慶里 | B24: 1 | C24: 32 | D24: 451 | E24: 男 | F24: 572 | G24: 1 | H24: 1 | I24: 3 | J24: 1 | K24: 1 | L24: 0 | M24: 0 | N24: 0 | O24: 0 | P24: 0 | Q24: 0 | R24: 0 | S24: 0 | T24: 0
E25: 女 | F25: 547 | G25: 0 | H25: 4 | I25: 1 | J25: 0 | K25: 1 | L25: 1 | M25: 0 | N25: 0 | O25: 0 | P25: 0 | Q25: 0 | R25: 0
E26: 計 | F26: 881 | G26: 6 | H26: 5 | I26: 2 | J26: 5 | K26: 0 | L26: 2 | M26: 0 | N26: 0 | O26: 0 | P26: 0 | Q26: 0 | R26: 0
A27: 中興里 | B27: 1 | C27: 19 | D27: 426 | E27: 男 | F27: 447 | G27: 5 | H27: 4 | I27: 0 | J27: 0 | K27: 0 | L27: 1 | M27: 0 | N27: 0 | O27: 0 | P27: 0 | Q27: 0 | R27: 0 | S27: 0 | T27: 1
E28: 女 | F28: 434 | G28: 1 | H28: 1 | I28: 2 | J28: 5 | K28: 0 | L28: 1 | M28: 0 | N28: 0 | O28: 0 | P28: 0 | Q28: 0 | R28: 0
E29: 計 | F29: 2222 | G29: 6 | H29: 8 | I29: 5 | J29: 8 | K29: 0 | L29: 1 | M29: 0 | N29: 0 | O29: 0 | P29: 0 | Q29: 0 | R29: 0
A30: 光復里 | B30: 1 | C30: 29 | D30: 890 | E30: 男 | F30: 1054 | G30: 1 | H30: 2 | I30: 0 | J30: 3 | K30: 0 | L30: 1 | M30: 0 | N30: 0 | O30: 0 | P30: 0 | Q30: 0 | R30: 0 | S30: 0 | T30: 0
E31: 女 | F31: 1168 | G31: 5 | H31: 6 | I31: 5 | J31: 5 | K31: 0 | L31: 0 | M31: 0 | N31: 0 | O31: 0 | P31: 0 | Q31: 0 | R31: 0
E32: 計 | F32: 4730 | G32: 22 | H32: 11 | I32: 12 | J32: 10 | K32: 6 | L32: 6 | M32: 0 | N32: 0 | O32: 0 | P32: 2 | Q32: 0 | R32: 3
A33: 光榮里 | B33: 1 | C33: 34 | D33: 1908 | E33: 男 | F33: 2279 | G33: 9 | H33: 6 | I33: 7 | J33: 4 | K33: 3 | L33: 2 | M33: 0 | N33: 0 | O33: 0 | P33: 0 | Q33: 0 | R33: 1 | S33: 0 | T33: 1
E34: 女 | F34: 2451 | G34: 13 | H34: 5 | I34: 5 | J34: 6 | K34: 3 | L34: 4 | M34: 0 | N34: 0 | O34: 0 | P34: 2 | Q34: 0 | R34: 2
E35: 計 | F35: 1375 | G35: 1 | H35: 8 | I35: 10 | J35: 8 | K35: 2 | L35: 1 | M35: 0 | N35: 0 | O35: 0 | P35: 0 | Q35: 0 | R35: 0
A36: 光明里 | B36: 1 | C36: 33 | D36: 592 | E36: 男 | F36: 689 | G36: 1 | H36: 5 | I36: 5 | J36: 4 | K36: 1 | L36: 0 | M36: 0 | N36: 0 | O36: 0 | P36: 0 | Q36: 0 | R36: 0 | S36: 0 | T36: 0
E37: 女 | F37: 686 | G37: 0 | H37: 3 | I37: 5 | J37: 4 | K37: 1 | L37: 1 | M37: 0 | N37: 0 | O37: 0 | P37: 0 | Q37: 0 | R37: 0
E38: 計 | F38: 6151 | G38: 15 | H38: 22 | I38: 10 | J38: 30 | K38: 5 | L38: 6 | M38: 0 | N38: 0 | O38: 0 | P38: 0 | Q38: 0 | R38: 8
A39: 朝陽里 | B39: 1 | C39: 37 | D39: 2294 | E39: 男 | F39: 3001 | G39: 5 | H39: 10 | I39: 5 | J39: 14 | K39: 3 | L39: 3 | M39: 0 | N39: 0 | O39: 0 | P39: 0 | Q39: 0 | R39: 3 | S39: 5 | T39: 5
E40: 女 | F40: 3150 | G40: 10 | H40: 12 | I40: 5 | J40: 16 | K40: 2 | L40: 3 | M40: 0 | N40: 0 | O40: 0 | P40: 0 | Q40: 0 | R40: 5
...

Sheet 鄉市
F1: 澎湖縣各鄉市 村里、鄰、戶、人口與戶籍動態登記數按性別及登記項目分
J2: =村里!J2 -> 108年10月底 | Q2: =村里!O2 -> 製表日期:108年11月4日
A3: 區域 | B3: 村里 | C3: 鄰 | D3: 戶 | E3: 性 | F3: 人口 | G3: 遷入 | H3: 遷出 | I3: 住址 | J3: 變更 | K3: 出生 | L3: 死亡 | M3: 認領 | N3: 收養 | O3: 終止收 | P3: 監護 | Q3: 輔助 | R3: 未成年子女權利義 | S3: 結婚 | T3: 離婚
A4: 別 | B4: 數 | C4: 數 | D4: 數 | E4: 別 | F4: 數 | G4: 人數 | H4: 人數 | I4: 遷入 | J4: 遷出 | K4: 人數 | L4: 人數 | M4: 人數 | N4: 人數 | O4: 養人數 | P4: 人數 | Q4: 人數 | R4: 務行使負擔人數 | S4: 對數 | T4: 對數
E5: 計 | F5: =村里!F5 -> 105192 | G5: =村里!G5 -> 378 | H5: =村里!H5 -> 331 | I5: =村里!I5 -> 242 | J5: =村里!J5 -> 242 | K5: =村里!K5 -> 76 | L5: =村里!L5 -> 83 | M5: =村里!M5 -> 1 | ... R5: =村里!R5 -> 48
A6: 澎湖縣 | B6: =村里!B6 -> 96 | C6: =村里!C6 -> 1404 | D6: =村里!D6 -> 41518 | E6: 男 | F6: =村里!F6 -> 54284 | G6: =村里!G6 -> 217 | H6: =村里!H6 -> 194 | I6: =村里!I6 -> 120 | J6: =村里!J6 -> 120 | K6: =村里!K6 -> 37 | L6: =村里!L6 -> 48 | M6: =村里!M6 -> 0 | ... T6: =村里!T6 -> 27
A7: 總計 | E7: 女 | F7: =村里!F7 -> 50908 | G7: =村里!G7 -> 161 | H7: =村里!H7 -> 137 | I7: =村里!I7 -> 122 | J7: =村里!J7 -> 122 | K7: =村里!K7 -> 39 | L7: =村里!L7 -> 35 | M7: =村里!M7 -> 1 | ... R7: =村里!R7 -> 21
E8: 計 | F8: =村里!F8 -> 63021 | G8: =村里!G8 -> 202 | H8: =村里!H8 -> 209 | I8: =村里!I8 -> 205 | J8: =村里!J8 -> 205 | K8: =村里!K8 -> 48 | L8: =村里!L8 -> 43 | M8: =村里!M8 -> 1 | ... R8: =村里!R8 -> 36
A9: 馬公市 | B9: =村里!B9 -> 33 | C9: =村里!C9 -> 628 | D9: =村里!D9 -> 25548 | E9: 男 | F9: =村里!F9 -> 32104 | G9: =村里!G9 -> 103 | H9: =村里!H9 -> 120 | I9: =村里!I9 -> 99 | J9: =村里!J9 -> 99 | K9: =村里!K9 -> 23 | L9: =村里!L9 -> 24 | M9: =村里!M9 -> 0 | ... T9: =村里!T9 -> 18
E10: 女 | F10: =村里!F10 -> 30917 | G10: =村里!G10 -> 99 | H10: =村里!H10 -> 89 | I10: =村里!I10 -> 106 | J10: =村里!J10 -> 106 | K10: =村里!K10 -> 25 | L10: =村里!L10 -> 19 | M10: =村里!M10 -> 1 | ... R10: =村里!R10 -> 18
E11: 計 | F11: =村里!F110 -> 14945 | G11: =村里!G110 -> 81 | H11: =村里!H110 -> 48 | I11: =村里!I110 -> 15 | J11: =村里!J110 -> 15 | K11: =村里!K110 -> 8 | L11: =村里!L110 -> 12 | M11: =村里!M110 -> 0 | ... R11: =村里!R110 -> 4
A12: 湖西鄉 | B12: =村里!B111 -> 22 | C12: =村里!C111 -> 238 | D12: =村里!D111 -> 5973 | E12: 男 | F12: =村里!F111 -> 7934 | G12: =村里!G111 -> 45 | H12: =村里!H111 -> 27 | I12: =村里!I111 -> 10 | J12: =村里!J111 -> 10 | K12: =村里!K111 -> 4 | L12: =村里!L111 -> 8 | M12: =村里!M111 -> 0 | ... T12: =村里!T111 -> 5
E13: 女 | F13: =村里!F112 -> 7011 | G13: =村里!G112 -> 36 | H13: =村里!H112 -> 21 | I13: =村里!I112 -> 5 | J13: =村里!J112 -> 5 | K13: =村里!K112 -> 4 | L13: =村里!L112 -> 4 | M13: =村里!M112 -> 0 | ... R13: =村里!R112 -> 0
E14: 計 | F14: =村里!F179 -> 9828 | G14: =村里!G179 -> 36 | H14: =村里!H179 -> 21 | I14: =村里!I179 -> 9 | J14: =村里!J179 -> 9 | K14: =村里!K179 -> 10 | L14: =村里!L179 -> 10 | M14: =村里!M179 -> 0 | ... R14: =村里!R179 -> 2
A15: 白沙鄉 | B15: =村里!B180 -> 15 | C15: =村里!C180 -> 179 | D15: =村里!D180 -> 3488 | E15: 男 | F15: =村里!F180 -> 5129 | G15: =村里!G180 -> 22 | H15: =村里!H180 -> 12 | I15: =村里!I180 -> 4 | J15: =村里!J180 -> 4 | K15: =村里!K180 -> 2 | L15: =村里!L180 -> 4 | M15: =村里!M180 -> 0 | ... T15: =村里!T180 -> 0
E16: 女 | F16: =村里!F181 -> 4699 | G16: =村里!G181 -> 14 | H16: =村里!H181 -> 9 | I16: =村里!I181 -> 5 | J16: =村里!J181 -> 5 | K16: =村里!K181 -> 8 | L16: =村里!L181 -> 6 | M16: =村里!M181 -> 0 | ... R16: =村里!R181 -> 1
E17: 計 | F17: =村里!F227 -> 8300 | G17: =村里!G227 -> 20 | H17: =村里!H227 -> 20 | I17: =村里!I227 -> 9 | J17: =村里!J227 -> 9 | K17: =村里!K227 -> 4 | L17: =村里!L227 -> 11 | M17: =村里!M227 -> 0 | ... R17: =村里!R227 -> 0
A18: 西嶼鄉 | B18: =村里!B228 -> 11 | C18: =村里!C228 -> 167 | D18: =村里!D228 -> 3040 | E18: 男 | F18: =村里!F228 -> 4285 | G18: =村里!G228 -> 13 | H18: =村里!H228 -> 15 | I18: =村里!I228 -> 4 | J18: =村里!J228 -> 4 | K18: =村里!K228 -> 3 | L18: =村里!L228 -> 7 | M18: =村里!M228 -> 0 | ... T18: =村里!T228 -> 2
E19: 女 | F19: =村里!F229 -> 4015 | G19: =村里!G229 -> 7 | H19: =村里!H229 -> 5 | I19: =村里!I229 -> 5 | J19: =村里!J229 -> 5 | K19: =村里!K229 -> 1 | L19: =村里!L229 -> 4 | M19: =村里!M229 -> 0 | ... R19: =村里!R229 -> 0
E20: 計 | F20: =村里!F263 -> 5284 | G20: =村里!G263 -> 20 | H20: =村里!H263 -> 18 | I20: =村里!I263 -> 2 | J20: =村里!J263 -> 2 | K20: =村里!K263 -> 4 | L20: =村里!L263 -> 4 | M20: =村里!M263 -> 0 | ... R20: =村里!R263 -> 6
A21: 望安鄉 | B21: =村里!B264 -> 9 | C21: =村里!C264 -> 131 | D21: =村里!D264 -> 2066 | E21: 男 | F21: =村里!F264 -> 2870 | G21: =村里!G264 -> 18 | H21: =村里!H264 -> 8 | I21: =村里!I264 -> 2 | J21: =村里!J264 -> 2 | K21: =村里!K264 -> 3 | L21: =村里!L264 -> 2 | M21: =村里!M264 -> 0 | ... T21: =村里!T264 -> 2
E22: 女 | F22: =村里!F265 -> 2414 | G22: =村里!G265 -> 2 | H22: =村里!H265 -> 10 | I22: =村里!I265 -> 0 | J22: =村里!J265 -> 0 | K22: =村里!K265 -> 1 | L22: =村里!L265 -> 2 | M22: =村里!M265 -> 0 | ... R22: =村里!R265 -> 2
E23: 計 | F23: =村里!F293 -> 3814 | G23: =村里!G293 -> 19 | H23: =村里!H293 -> 15 | I23: =村里!I293 -> 2 | J23: =村里!J293 -> 2 | K23: =村里!K293 -> 2 | L23: =村里!L293 -> 3 | M23: =村里!M293 -> 0 | ... R23: =村里!R293 -> 0
A24: 七美鄉 | B24: =村里!B294 -> 6 | C24: =村里!C294 -> 61 | D24: =村里!D294 -> 1403 | E24: 男 | F24: =村里!F294 -> 1962 | G24: =村里!G294 -> 16 | H24: =村里!H294 -> 12 | I24: =村里!I294 -> 1 | J24: =村里!J294 -> 1 | K24: =村里!K294 -> 2 | L24: =村里!L294 -> 3 | M24: =村里!M294 -> 0 | ... T24: =村里!T294 -> 0
E25: 女 | F25: =村里!F295 -> 1852 | G25: =村里!G295 -> 3 | H25: =村里!H295 -> 3 | I25: =村里!I295 -> 1 | J25: =村里!J295 -> 1 | K25: =村里!K295 -> 0 | L25: =村里!L295 -> 0 | M25: =村里!M295 -> 0 | ... R25: =村里!R295 -> 0
