Workbook

Sheet 村里
F1: 澎湖縣 村里、鄰、戶、人口與戶籍動態登記數按性別、登記項目及村里分
J2: 107年12月底 | O2: 製表日期:108年1月4日
A3: 區域 | B3: 村里 | C3: 鄰 | D3: 戶 | E3: 性 | F3: 人口 | G3: 遷入 | H3: 遷出 | I3: 住址 | J3: 變更 | K3: 出生 | L3: 死亡 | M3: 認領 | N3: 收養 | O3: 終止收 | P3: 監護 | Q3: 輔助 | R3: 未成年子女權利義 | S3: 結婚 | T3: 離婚
A4: 別 | B4: 數 | C4: 數 | D4: 數 | E4: 別 | F4: 數 | G4: 人數 | H4: 人數 | I4: 遷入 | J4: 遷出 | K4: 人數 | L4: 人數 | M4: 人數 | N4: 人數 | O4: 養人數 | P4: 人數 | Q4: 人數 | R4: 務行使負擔人數 | S4: 對數 | T4: 對數
E5: 計 | F5: 104440 | G5: =[1]村里!G5+[2]村里!G5+[3]村里!G5+[4]村里!G5+[5]村里!G5+[6]村里!G5+[7]村里!G5+[8]村里!G5+[9]村里!G5+[10]村里!G5+[11]村里!G5+[12]村里!G5 -> 5189 | H5: =[1]村里!H5+[2]村里!H5+[3]村里!H5+[4]村里!H5+[5]村里!H5+[6]村里!H5+[7]村里!H5+[8]村里!H5+[9]村里!H5+[10]村里!H5+[11]村里!H5+[12]村里!H5 -> 4794 | I5: =[1]村里!I5+[2]村里!I5+[3]村里!I5+[4]村里!I5+[5]村里!I5+[6]村里!I5+[7]村里!I5+[8]村里!I5+[9]村里!I5+[10]村里!I5+[11]村里!I5+[12]村里!I5 -> 2905 | J5: =[1]村里!J5+[2]村里!J5+[3]村里!J5+[4]村里!J5+[5]村里!J5+[6]村里!J5+[7]村里!J5+[8]村里!J5+[9]村里!J5+[10]村里!J5+[11]村里!J5+[12]村里!J5 -> 2905 | K5: =[1]村里!K5+[2]村里!K5+[3]村里!K5+[4]村里!K5+[5]村里!K5+[6]村里!K5+[7]村里!K5+[8]村里!K5+[9]村里!K5+[10]村里!K5+[11]村里!K5+[12]村里!K5 -> 881 | L5: =[1]村里!L5+[2]村里!L5+[3]村里!L5+[4]村里!L5+[5]村里!L5+[6]村里!L5+[7]村里!L5+[8]村里!L5+[9]村里!L5+[10]村里!L5+[11]村里!L5+[12]村里!L5 -> 909 | M5: =[1]村里!M5+[2]村里!M5+[3]村里!M5+[4]村里!M5+[5]村里!M5+[6]村里!M5+[7]村里!M5+[8]村里!M5+[9]村里!M5+[10]村里!M5+[11]村里!M5+[12]村里!M5 -> 16 | N5: =[1]村里!N5+[2]村里!N5+[3]村里!N5+[4]村里!N5+[5]村里!N5+[6]村里!N5+[7]村里!N5+[8]村里!N5+[9]村里!N5+[10]村里!N5+[11]村里!N5+[12]村里!N5 -> 7 | ... R5: =[1]村里!R5+[2]村里!R5+[3]村里!R5+[4]村里!R5+[5]村里!R5+[6]村里!R5+[7]村里!R5+[8]村里!R5+[9]村里!R5+[10]村里!R5+[11]村里!R5+[12]村里!R5 -> 332
A6: 澎湖縣 | B6: 96 | C6: 1404 | D6: 40574 | E6: 男 | F6: 53807 | G6: =[1]村里!G6+[2]村里!G6+[3]村里!G6+[4]村里!G6+[5]村里!G6+[6]村里!G6+[7]村里!G6+[8]村里!G6+[9]村里!G6+[10]村里!G6+[11]村里!G6+[12]村里!G6 -> 2916 | H6: =[1]村里!H6+[2]村里!H6+[3]村里!H6+[4]村里!H6+[5]村里!H6+[6]村里!H6+[7]村里!H6+[8]村里!H6+[9]村里!H6+[10]村里!H6+[11]村里!H6+[12]村里!H6 -> 2700 | I6: =[1]村里!I6+[2]村里!I6+[3]村里!I6+[4]村里!I6+[5]村里!I6+[6]村里!I6+[7]村里!I6+[8]村里!I6+[9]村里!I6+[10]村里!I6+[11]村里!I6+[12]村里!I6 -> 1432 | J6: =[1]村里!J6+[2]村里!J6+[3]村里!J6+[4]村里!J6+[5]村里!J6+[6]村里!J6+[7]村里!J6+[8]村里!J6+[9]村里!J6+[10]村里!J6+[11]村里!J6+[12]村里!J6 -> 1432 | K6: =[1]村里!K6+[2]村里!K6+[3]村里!K6+[4]村里!K6+[5]村里!K6+[6]村里!K6+[7]村里!K6+[8]村里!K6+[9]村里!K6+[10]村里!K6+[11]村里!K6+[12]村里!K6 -> 470 | L6: =[1]村里!L6+[2]村里!L6+[3]村里!L6+[4]村里!L6+[5]村里!L6+[6]村里!L6+[7]村里!L6+[8]村里!L6+[9]村里!L6+[10]村里!L6+[11]村里!L6+[12]村里!L6 -> 527 | M6: =[1]村里!M6+[2]村里!M6+[3]村里!M6+[4]村里!M6+[5]村里!M6+[6]村里!M6+[7]村里!M6+[8]村里!M6+[9]村里!M6+[10]村里!M6+[11]村里!M6+[12]村里!M6 -> 8 | N6: =[1]村里!N6+[2]村里!N6+[3]村里!N6+[4]村里!N6+[5]村里!N6+[6]村里!N6+[7]村里!N6+[8]村里!N6+[9]村里!N6+[10]村里!N6+[11]村里!N6+[12]村里!N6 -> 6 | ... T6: =[1]村里!T6+[2]村里!T6+[3]村里!T6+[4]村里!T6+[5]村里!T6+[6]村里!T6+[7]村里!T6+[8]村里!T6+[9]村里!T6+[10]村里!T6+[11]村里!T6+[12]村里!T6 -> 249
E7: 女 | F7: 50633 | G7: =[1]村里!G7+[2]村里!G7+[3]村里!G7+[4]村里!G7+[5]村里!G7+[6]村里!G7+[7]村里!G7+[8]村里!G7+[9]村里!G7+[10]村里!G7+[11]村里!G7+[12]村里!G7 -> 2273 | H7: =[1]村里!H7+[2]村里!H7+[3]村里!H7+[4]村里!H7+[5]村里!H7+[6]村里!H7+[7]村里!H7+[8]村里!H7+[9]村里!H7+[10]村里!H7+[11]村里!H7+[12]村里!H7 -> 2094 | I7: =[1]村里!I7+[2]村里!I7+[3]村里!I7+[4]村里!I7+[5]村里!I7+[6]村里!I7+[7]村里!I7+[8]村里!I7+[9]村里!I7+[10]村里!I7+[11]村里!I7+[12]村里!I7 -> 1473 | J7: =[1]村里!J7+[2]村里!J7+[3]村里!J7+[4]村里!J7+[5]村里!J7+[6]村里!J7+[7]村里!J7+[8]村里!J7+[9]村里!J7+[10]村里!J7+[11]村里!J7+[12]村里!J7 -> 1473 | K7: =[1]村里!K7+[2]村里!K7+[3]村里!K7+[4]村里!K7+[5]村里!K7+[6]村里!K7+[7]村里!K7+[8]村里!K7+[9]村里!K7+[10]村里!K7+[11]村里!K7+[12]村里!K7 -> 411 | L7: =[1]村里!L7+[2]村里!L7+[3]村里!L7+[4]村里!L7+[5]村里!L7+[6]村里!L7+[7]村里!L7+[8]村里!L7+[9]村里!L7+[10]村里!L7+[11]村里!L7+[12]村里!L7 -> 382 | M7: =[1]村里!M7+[2]村里!M7+[3]村里!M7+[4]村里!M7+[5]村里!M7+[6]村里!M7+[7]村里!M7+[8]村里!M7+[9]村里!M7+[10]村里!M7+[11]村里!M7+[12]村里!M7 -> 8 | N7: =[1]村里!N7+[2]村里!N7+[3]村里!N7+[4]村里!N7+[5]村里!N7+[6]村里!N7+[7]村里!N7+[8]村里!N7+[9]村里!N7+[10]村里!N7+[11]村里!N7+[12]村里!N7 -> 1 | ... R7: =[1]村里!R7+[2]村里!R7+[3]村里!R7+[4]村里!R7+[5]村里!R7+[6]村里!R7+[7]村里!R7+[8]村里!R7+[9]村里!R7+[10]村里!R7+[11]村里!R7+[12]村里!R7 -> 173
E8: 計 | F8: 62610 | G8: =[1]村里!G8+[2]村里!G8+[3]村里!G8+[4]村里!G8+[5]村里!G8+[6]村里!G8+[7]村里!G8+[8]村里!G8+[9]村里!G8+[10]村里!G8+[11]村里!G8+[12]村里!G8 -> 3140 | H8: =[1]村里!H8+[2]村里!H8+[3]村里!H8+[4]村里!H8+[5]村里!H8+[6]村里!H8+[7]村里!H8+[8]村里!H8+[9]村里!H8+[10]村里!H8+[11]村里!H8+[12]村里!H8 -> 2846 | I8: =[1]村里!I8+[2]村里!I8+[3]村里!I8+[4]村里!I8+[5]村里!I8+[6]村里!I8+[7]村里!I8+[8]村里!I8+[9]村里!I8+[10]村里!I8+[11]村里!I8+[12]村里!I8 -> 2408 | J8: =[1]村里!J8+[2]村里!J8+[3]村里!J8+[4]村里!J8+[5]村里!J8+[6]村里!J8+[7]村里!J8+[8]村里!J8+[9]村里!J8+[10]村里!J8+[11]村里!J8+[12]村里!J8 -> 2408 | K8: =[1]村里!K8+[2]村里!K8+[3]村里!K8+[4]村里!K8+[5]村里!K8+[6]村里!K8+[7]村里!K8+[8]村里!K8+[9]村里!K8+[10]村里!K8+[11]村里!K8+[12]村里!K8 -> 465 | L8: =[1]村里!L8+[2]村里!L8+[3]村里!L8+[4]村里!L8+[5]村里!L8+[6]村里!L8+[7]村里!L8+[8]村里!L8+[9]村里!L8+[10]村里!L8+[11]村里!L8+[12]村里!L8 -> 457 | M8: =[1]村里!M8+[2]村里!M8+[3]村里!M8+[4]村里!M8+[5]村里!M8+[6]村里!M8+[7]村里!M8+[8]村里!M8+[9]村里!M8+[10]村里!M8+[11]村里!M8+[12]村里!M8 -> 8 | N8: =[1]村里!N8+[2]村里!N8+[3]村里!N8+[4]村里!N8+[5]村里!N8+[6]村里!N8+[7]村里!N8+[8]村里!N8+[9]村里!N8+[10]村里!N8+[11]村里!N8+[12]村里!N8 -> 4 | ... R8: =[1]村里!R8+[2]村里!R8+[3]村里!R8+[4]村里!R8+[5]村里!R8+[6]村里!R8+[7]村里!R8+[8]村里!R8+[9]村里!R8+[10]村里!R8+[11]村里!R8+[12]村里!R8 -> 207
A9: 馬公市 | B9: 33 | C9: 628 | D9: 24963 | E9: 男 | F9: 31848 | G9: =[1]村里!G9+[2]村里!G9+[3]村里!G9+[4]村里!G9+[5]村里!G9+[6]村里!G9+[7]村里!G9+[8]村里!G9+[9]村里!G9+[10]村里!G9+[11]村里!G9+[12]村里!G9 -> 1754 | H9: =[1]村里!H9+[2]村里!H9+[3]村里!H9+[4]村里!H9+[5]村里!H9+[6]村里!H9+[7]村里!H9+[8]村里!H9+[9]村里!H9+[10]村里!H9+[11]村里!H9+[12]村里!H9 -> 1602 | I9: =[1]村里!I9+[2]村里!I9+[3]村里!I9+[4]村里!I9+[5]村里!I9+[6]村里!I9+[7]村里!I9+[8]村里!I9+[9]村里!I9+[10]村里!I9+[11]村里!I9+[12]村里!I9 -> 1196 | J9: =[1]村里!J9+[2]村里!J9+[3]村里!J9+[4]村里!J9+[5]村里!J9+[6]村里!J9+[7]村里!J9+[8]村里!J9+[9]村里!J9+[10]村里!J9+[11]村里!J9+[12]村里!J9 -> 1196 | K9: =[1]村里!K9+[2]村里!K9+[3]村里!K9+[4]村里!K9+[5]村里!K9+[6]村里!K9+[7]村里!K9+[8]村里!K9+[9]村里!K9+[10]村里!K9+[11]村里!K9+[12]村里!K9 -> 254 | L9: =[1]村里!L9+[2]村里!L9+[3]村里!L9+[4]村里!L9+[5]村里!L9+[6]村里!L9+[7]村里!L9+[8]村里!L9+[9]村里!L9+[10]村里!L9+[11]村里!L9+[12]村里!L9 -> 259 | M9: =[1]村里!M9+[2]村里!M9+[3]村里!M9+[4]村里!M9+[5]村里!M9+[6]村里!M9+[7]村里!M9+[8]村里!M9+[9]村里!M9+[10]村里!M9+[11]村里!M9+[12]村里!M9 -> 3 | N9: =[1]村里!N9+[2]村里!N9+[3]村里!N9+[4]村里!N9+[5]村里!N9+[6]村里!N9+[7]村里!N9+[8]村里!N9+[9]村里!N9+[10]村里!N9+[11]村里!N9+[12]村里!N9 -> 3 | ... T9: =[1]村里!T9+[2]村里!T9+[3]村里!T9+[4]村里!T9+[5]村里!T9+[6]村里!T9+[7]村里!T9+[8]村里!T9+[9]村里!T9+[10]村里!T9+[11]村里!T9+[12]村里!T9 -> 154
E10: 女 | F10: 30762 | G10: =[1]村里!G10+[2]村里!G10+[3]村里!G10+[4]村里!G10+[5]村里!G10+[6]村里!G10+[7]村里!G10+[8]村里!G10+[9]村里!G10+[10]村里!G10+[11]村里!G10+[12]村里!G10 -> 1386 | H10: =[1]村里!H10+[2]村里!H10+[3]村里!H10+[4]村里!H10+[5]村里!H10+[6]村里!H10+[7]村里!H10+[8]村里!H10+[9]村里!H10+[10]村里!H10+[11]村里!H10+[12]村里!H10 -> 1244 | I10: =[1]村里!I10+[2]村里!I10+[3]村里!I10+[4]村里!I10+[5]村里!I10+[6]村里!I10+[7]村里!I10+[8]村里!I10+[9]村里!I10+[10]村里!I10+[11]村里!I10+[12]村里!I10 -> 1212 | J10: =[1]村里!J10+[2]村里!J10+[3]村里!J10+[4]村里!J10+[5]村里!J10+[6]村里!J10+[7]村里!J10+[8]村里!J10+[9]村里!J10+[10]村里!J10+[11]村里!J10+[12]村里!J10 -> 1212 | K10: =[1]村里!K10+[2]村里!K10+[3]村里!K10+[4]村里!K10+[5]村里!K10+[6]村里!K10+[7]村里!K10+[8]村里!K10+[9]村里!K10+[10]村里!K10+[11]村里!K10+[12]村里!K10 -> 211 | L10: =[1]村里!L10+[2]村里!L10+[3]村里!L10+[4]村里!L10+[5]村里!L10+[6]村里!L10+[7]村里!L10+[8]村里!L10+[9]村里!L10+[10]村里!L10+[11]村里!L10+[12]村里!L10 -> 198 | M10: =[1]村里!M10+[2]村里!M10+[3]村里!M10+[4]村里!M10+[5]村里!M10+[6]村里!M10+[7]村里!M10+[8]村里!M10+[9]村里!M10+[10]村里!M10+[11]村里!M10+[12]村里!M10 -> 5 | N10: =[1]村里!N10+[2]村里!N10+[3]村里!N10+[4]村里!N10+[5]村里!N10+[6]村里!N10+[7]村里!N10+[8]村里!N10+[9]村里!N10+[10]村里!N10+[11]村里!N10+[12]村里!N10 -> 1 | ... R10: =[1]村里!R10+[2]村里!R10+[3]村里!R10+[4]村里!R10+[5]村里!R10+[6]村里!R10+[7]村里!R10+[8]村里!R10+[9]村里!R10+[10]村里!R10+[11]村里!R10+[12]村里!R10 -> 105
E11: 計 | F11: 519 | G11: =[1]村里!G11+[2]村里!G11+[3]村里!G11+[4]村里!G11+[5]村里!G11+[6]村里!G11+[7]村里!G11+[8]村里!G11+[9]村里!G11+[10]村里!G11+[11]村里!G11+[12]村里!G11 -> 67 | H11: =[1]村里!H11+[2]村里!H11+[3]村里!H11+[4]村里!H11+[5]村里!H11+[6]村里!H11+[7]村里!H11+[8]村里!H11+[9]村里!H11+[10]村里!H11+[11]村里!H11+[12]村里!H11 -> 57 | I11: =[1]村里!I11+[2]村里!I11+[3]村里!I11+[4]村里!I11+[5]村里!I11+[6]村里!I11+[7]村里!I11+[8]村里!I11+[9]村里!I11+[10]村里!I11+[11]村里!I11+[12]村里!I11 -> 19 | J11: =[1]村里!J11+[2]村里!J11+[3]村里!J11+[4]村里!J11+[5]村里!J11+[6]村里!J11+[7]村里!J11+[8]村里!J11+[9]村里!J11+[10]村里!J11+[11]村里!J11+[12]村里!J11 -> 23 | K11: =[1]村里!K11+[2]村里!K11+[3]村里!K11+[4]村里!K11+[5]村里!K11+[6]村里!K11+[7]村里!K11+[8]村里!K11+[9]村里!K11+[10]村里!K11+[11]村里!K11+[12]村里!K11 -> 2 | L11: =[1]村里!L11+[2]村里!L11+[3]村里!L11+[4]村里!L11+[5]村里!L11+[6]村里!L11+[7]村里!L11+[8]村里!L11+[9]村里!L11+[10]村里!L11+[11]村里!L11+[12]村里!L11 -> 7 | M11: =[1]村里!M11+[2]村里!M11+[3]村里!M11+[4]村里!M11+[5]村里!M11+[6]村里!M11+[7]村里!M11+[8]村里!M11+[9]村里!M11+[10]村里!M11+[11]村里!M11+[12]村里!M11 -> 0 | N11: =[1]村里!N11+[2]村里!N11+[3]村里!N11+[4]村里!N11+[5]村里!N11+[6]村里!N11+[7]村里!N11+[8]村里!N11+[9]村里!N11+[10]村里!N11+[11]村里!N11+[12]村里!N11 -> 0 | ... R11: =[1]村里!R11+[2]村里!R11+[3]村里!R11+[4]村里!R11+[5]村里!R11+[6]村里!R11+[7]村里!R11+[8]村里!R11+[9]村里!R11+[10]村里!R11+[11]村里!R11+[12]村里!R11 -> 0
A12: 復興里 | B12: 1 | C12: 12 | D12: 325 | E12: 男 | F12: 325 | G12: =[1]村里!G12+[2]村里!G12+[3]村里!G12+[4]村里!G12+[5]村里!G12+[6]村里!G12+[7]村里!G12+[8]村里!G12+[9]村里!G12+[10]村里!G12+[11]村里!G12+[12]村里!G12 -> 57 | H12: =[1]村里!H12+[2]村里!H12+[3]村里!H12+[4]村里!H12+[5]村里!H12+[6]村里!H12+[7]村里!H12+[8]村里!H12+[9]村里!H12+[10]村里!H12+[11]村里!H12+[12]村里!H12 -> 47 | I12: =[1]村里!I12+[2]村里!I12+[3]村里!I12+[4]村里!I12+[5]村里!I12+[6]村里!I12+[7]村里!I12+[8]村里!I12+[9]村里!I12+[10]村里!I12+[11]村里!I12+[12]村里!I12 -> 11 | J12: =[1]村里!J12+[2]村里!J12+[3]村里!J12+[4]村里!J12+[5]村里!J12+[6]村里!J12+[7]村里!J12+[8]村里!J12+[9]村里!J12+[10]村里!J12+[11]村里!J12+[12]村里!J12 -> 15 | K12: =[1]村里!K12+[2]村里!K12+[3]村里!K12+[4]村里!K12+[5]村里!K12+[6]村里!K12+[7]村里!K12+[8]村里!K12+[9]村里!K12+[10]村里!K12+[11]村里!K12+[12]村里!K12 -> 2 | L12: =[1]村里!L12+[2]村里!L12+[3]村里!L12+[4]村里!L12+[5]村里!L12+[6]村里!L12+[7]村里!L12+[8]村里!L12+[9]村里!L12+[10]村里!L12+[11]村里!L12+[12]村里!L12 -> 4 | M12: =[1]村里!M12+[2]村里!M12+[3]村里!M12+[4]村里!M12+[5]村里!M12+[6]村里!M12+[7]村里!M12+[8]村里!M12+[9]村里!M12+[10]村里!M12+[11]村里!M12+[12]村里!M12 -> 0 | N12: =[1]村里!N12+[2]村里!N12+[3]村里!N12+[4]村里!N12+[5]村里!N12+[6]村里!N12+[7]村里!N12+[8]村里!N12+[9]村里!N12+[10]村里!N12+[11]村里!N12+[12]村里!N12 -> 0 | ... T12: =[1]村里!T12+[2]村里!T12+[3]村里!T12+[4]村里!T12+[5]村里!T12+[6]村里!T12+[7]村里!T12+[8]村里!T12+[9]村里!T12+[10]村里!T12+[11]村里!T12+[12]村里!T12 -> 2
E13: 女 | F13: 194 | G13: =[1]村里!G13+[2]村里!G13+[3]村里!G13+[4]村里!G13+[5]村里!G13+[6]村里!G13+[7]村里!G13+[8]村里!G13+[9]村里!G13+[10]村里!G13+[11]村里!G13+[12]村里!G13 -> 10 | H13: =[1]村里!H13+[2]村里!H13+[3]村里!H13+[4]村里!H13+[5]村里!H13+[6]村里!H13+[7]村里!H13+[8]村里!H13+[9]村里!H13+[10]村里!H13+[11]村里!H13+[12]村里!H13 -> 10 | I13: =[1]村里!I13+[2]村里!I13+[3]村里!I13+[4]村里!I13+[5]村里!I13+[6]村里!I13+[7]村里!I13+[8]村里!I13+[9]村里!I13+[10]村里!I13+[11]村里!I13+[12]村里!I13 -> 8 | J13: =[1]村里!J13+[2]村里!J13+[3]村里!J13+[4]村里!J13+[5]村里!J13+[6]村里!J13+[7]村里!J13+[8]村里!J13+[9]村里!J13+[10]村里!J13+[11]村里!J13+[12]村里!J13 -> 8 | K13: =[1]村里!K13+[2]村里!K13+[3]村里!K13+[4]村里!K13+[5]村里!K13+[6]村里!K13+[7]村里!K13+[8]村里!K13+[9]村里!K13+[10]村里!K13+[11]村里!K13+[12]村里!K13 -> 0 | L13: =[1]村里!L13+[2]村里!L13+[3]村里!L13+[4]村里!L13+[5]村里!L13+[6]村里!L13+[7]村里!L13+[8]村里!L13+[9]村里!L13+[10]村里!L13+[11]村里!L13+[12]村里!L13 -> 3 | M13: =[1]村里!M13+[2]村里!M13+[3]村里!M13+[4]村里!M13+[5]村里!M13+[6]村里!M13+[7]村里!M13+[8]村里!M13+[9]村里!M13+[10]村里!M13+[11]村里!M13+[12]村里!M13 -> 0 | N13: =[1]村里!N13+[2]村里!N13+[3]村里!N13+[4]村里!N13+[5]村里!N13+[6]村里!N13+[7]村里!N13+[8]村里!N13+[9]村里!N13+[10]村里!N13+[11]村里!N13+[12]村里!N13 -> 0 | ... R13: =[1]村里!R13+[2]村里!R13+[3]村里!R13+[4]村里!R13+[5]村里!R13+[6]村里!R13+[7]村里!R13+[8]村里!R13+[9]村里!R13+[10]村里!R13+[11]村里!R13+[12]村里!R13 -> 0
E14: 計 | F14: 630 | G14: =[1]村里!G14+[2]村里!G14+[3]村里!G14+[4]村里!G14+[5]村里!G14+[6]村里!G14+[7]村里!G14+[8]村里!G14+[9]村里!G14+[10]村里!G14+[11]村里!G14+[12]村里!G14 -> 22 | H14: =[1]村里!H14+[2]村里!H14+[3]村里!H14+[4]村里!H14+[5]村里!H14+[6]村里!H14+[7]村里!H14+[8]村里!H14+[9]村里!H14+[10]村里!H14+[11]村里!H14+[12]村里!H14 -> 20 | I14: =[1]村里!I14+[2]村里!I14+[3]村里!I14+[4]村里!I14+[5]村里!I14+[6]村里!I14+[7]村里!I14+[8]村里!I14+[9]村里!I14+[10]村里!I14+[11]村里!I14+[12]村里!I14 -> 28 | J14: =[1]村里!J14+[2]村里!J14+[3]村里!J14+[4]村里!J14+[5]村里!J14+[6]村里!J14+[7]村里!J14+[8]村里!J14+[9]村里!J14+[10]村里!J14+[11]村里!J14+[12]村里!J14 -> 34 | K14: =[1]村里!K14+[2]村里!K14+[3]村里!K14+[4]村里!K14+[5]村里!K14+[6]村里!K14+[7]村里!K14+[8]村里!K14+[9]村里!K14+[10]村里!K14+[11]村里!K14+[12]村里!K14 -> 2 | L14: =[1]村里!L14+[2]村里!L14+[3]村里!L14+[4]村里!L14+[5]村里!L14+[6]村里!L14+[7]村里!L14+[8]村里!L14+[9]村里!L14+[10]村里!L14+[11]村里!L14+[12]村里!L14 -> 7 | M14: =[1]村里!M14+[2]村里!M14+[3]村里!M14+[4]村里!M14+[5]村里!M14+[6]村里!M14+[7]村里!M14+[8]村里!M14+[9]村里!M14+[10]村里!M14+[11]村里!M14+[12]村里!M14 -> 0 | N14: =[1]村里!N14+[2]村里!N14+[3]村里!N14+[4]村里!N14+[5]村里!N14+[6]村里!N14+[7]村里!N14+[8]村里!N14+[9]村里!N14+[10]村里!N14+[11]村里!N14+[12]村里!N14 -> 0 | ... R14: =[1]村里!R14+[2]村里!R14+[3]村里!R14+[4]村里!R14+[5]村里!R14+[6]村里!R14+[7]村里!R14+[8]村里!R14+[9]村里!R14+[10]村里!R14+[11]村里!R14+[12]村里!R14 -> 1
A15: 長安里 | B15: 1 | C15: 19 | D15: 254 | E15: 男 | F15: 306 | G15: =[1]村里!G15+[2]村里!G15+[3]村里!G15+[4]村里!G15+[5]村里!G15+[6]村里!G15+[7]村里!G15+[8]村里!G15+[9]村里!G15+[10]村里!G15+[11]村里!G15+[12]村里!G15 -> 11 | H15: =[1]村里!H15+[2]村里!H15+[3]村里!H15+[4]村里!H15+[5]村里!H15+[6]村里!H15+[7]村里!H15+[8]村里!H15+[9]村里!H15+[10]村里!H15+[11]村里!H15+[12]村里!H15 -> 8 | I15: =[1]村里!I15+[2]村里!I15+[3]村里!I15+[4]村里!I15+[5]村里!I15+[6]村里!I15+[7]村里!I15+[8]村里!I15+[9]村里!I15+[10]村里!I15+[11]村里!I15+[12]村里!I15 -> 12 | J15: =[1]村里!J15+[2]村里!J15+[3]村里!J15+[4]村里!J15+[5]村里!J15+[6]村里!J15+[7]村里!J15+[8]村里!J15+[9]村里!J15+[10]村里!J15+[11]村里!J15+[12]村里!J15 -> 15 | K15: =[1]村里!K15+[2]村里!K15+[3]村里!K15+[4]村里!K15+[5]村里!K15+[6]村里!K15+[7]村里!K15+[8]村里!K15+[9]村里!K15+[10]村里!K15+[11]村里!K15+[12]村里!K15 -> 2 | L15: =[1]村里!L15+[2]村里!L15+[3]村里!L15+[4]村里!L15+[5]村里!L15+[6]村里!L15+[7]村里!L15+[8]村里!L15+[9]村里!L15+[10]村里!L15+[11]村里!L15+[12]村里!L15 -> 2 | M15: =[1]村里!M15+[2]村里!M15+[3]村里!M15+[4]村里!M15+[5]村里!M15+[6]村里!M15+[7]村里!M15+[8]村里!M15+[9]村里!M15+[10]村里!M15+[11]村里!M15+[12]村里!M15 -> 0 | N15: =[1]村里!N15+[2]村里!N15+[3]村里!N15+[4]村里!N15+[5]村里!N15+[6]村里!N15+[7]村里!N15+[8]村里!N15+[9]村里!N15+[10]村里!N15+[11]村里!N15+[12]村里!N15 -> 0 | ... T15: =[1]村里!T15+[2]村里!T15+[3]村里!T15+[4]村里!T15+[5]村里!T15+[6]村里!T15+[7]村里!T15+[8]村里!T15+[9]村里!T15+[10]村里!T15+[11]村里!T15+[12]村里!T15 -> 2
E16: 女 | F16: 324 | G16: =[1]村里!G16+[2]村里!G16+[3]村里!G16+[4]村里!G16+[5]村里!G16+[6]村里!G16+[7]村里!G16+[8]村里!G16+[9]村里!G16+[10]村里!G16+[11]村里!G16+[12]村里!G16 -> 11 | H16: =[1]村里!H16+[2]村里!H16+[3]村里!H16+[4]村里!H16+[5]村里!H16+[6]村里!H16+[7]村里!H16+[8]村里!H16+[9]村里!H16+[10]村里!H16+[11]村里!H16+[12]村里!H16 -> 12 | I16: =[1]村里!I16+[2]村里!I16+[3]村里!I16+[4]村里!I16+[5]村里!I16+[6]村里!I16+[7]村里!I16+[8]村里!I16+[9]村里!I16+[10]村里!I16+[11]村里!I16+[12]村里!I16 -> 16 | J16: =[1]村里!J16+[2]村里!J16+[3]村里!J16+[4]村里!J16+[5]村里!J16+[6]村里!J16+[7]村里!J16+[8]村里!J16+[9]村里!J16+[10]村里!J16+[11]村里!J16+[12]村里!J16 -> 19 | K16: =[1]村里!K16+[2]村里!K16+[3]村里!K16+[4]村里!K16+[5]村里!K16+[6]村里!K16+[7]村里!K16+[8]村里!K16+[9]村里!K16+[10]村里!K16+[11]村里!K16+[12]村里!K16 -> 0 | L16: =[1]村里!L16+[2]村里!L16+[3]村里!L16+[4]村里!L16+[5]村里!L16+[6]村里!L16+[7]村里!L16+[8]村里!L16+[9]村里!L16+[10]村里!L16+[11]村里!L16+[12]村里!L16 -> 5 | M16: =[1]村里!M16+[2]村里!M16+[3]村里!M16+[4]村里!M16+[5]村里!M16+[6]村里!M16+[7]村里!M16+[8]村里!M16+[9]村里!M16+[10]村里!M16+[11]村里!M16+[12]村里!M16 -> 0 | N16: =[1]村里!N16+[2]村里!N16+[3]村里!N16+[4]村里!N16+[5]村里!N16+[6]村里!N16+[7]村里!N16+[8]村里!N16+[9]村里!N16+[10]村里!N16+[11]村里!N16+[12]村里!N16 -> 0 | ... R16: =[1]村里!R16+[2]村里!R16+[3]村里!R16+[4]村里!R16+[5]村里!R16+[6]村里!R16+[7]村里!R16+[8]村里!R16+[9]村里!R16+[10]村里!R16+[11]村里!R16+[12]村里!R16 -> 1
E17: 計 | F17: 588 | G17: =[1]村里!G17+[2]村里!G17+[3]村里!G17+[4]村里!G17+[5]村里!G17+[6]村里!G17+[7]村里!G17+[8]村里!G17+[9]村里!G17+[10]村里!G17+[11]村里!G17+[12]村里!G17 -> 23 | H17: =[1]村里!H17+[2]村里!H17+[3]村里!H17+[4]村里!H17+[5]村里!H17+[6]村里!H17+[7]村里!H17+[8]村里!H17+[9]村里!H17+[10]村里!H17+[11]村里!H17+[12]村里!H17 -> 22 | I17: =[1]村里!I17+[2]村里!I17+[3]村里!I17+[4]村里!I17+[5]村里!I17+[6]村里!I17+[7]村里!I17+[8]村里!I17+[9]村里!I17+[10]村里!I17+[11]村里!I17+[12]村里!I17 -> 14 | J17: =[1]村里!J17+[2]村里!J17+[3]村里!J17+[4]村里!J17+[5]村里!J17+[6]村里!J17+[7]村里!J17+[8]村里!J17+[9]村里!J17+[10]村里!J17+[11]村里!J17+[12]村里!J17 -> 19 | K17: =[1]村里!K17+[2]村里!K17+[3]村里!K17+[4]村里!K17+[5]村里!K17+[6]村里!K17+[7]村里!K17+[8]村里!K17+[9]村里!K17+[10]村里!K17+[11]村里!K17+[12]村里!K17 -> 7 | L17: =[1]村里!L17+[2]村里!L17+[3]村里!L17+[4]村里!L17+[5]村里!L17+[6]村里!L17+[7]村里!L17+[8]村里!L17+[9]村里!L17+[10]村里!L17+[11]村里!L17+[12]村里!L17 -> 12 | M17: =[1]村里!M17+[2]村里!M17+[3]村里!M17+[4]村里!M17+[5]村里!M17+[6]村里!M17+[7]村里!M17+[8]村里!M17+[9]村里!M17+[10]村里!M17+[11]村里!M17+[12]村里!M17 -> 0 | N17: =[1]村里!N17+[2]村里!N17+[3]村里!N17+[4]村里!N17+[5]村里!N17+[6]村里!N17+[7]村里!N17+[8]村里!N17+[9]村里!N17+[10]村里!N17+[11]村里!N17+[12]村里!N17 -> 0 | ... R17: =[1]村里!R17+[2]村里!R17+[3]村里!R17+[4]村里!R17+[5]村里!R17+[6]村里!R17+[7]村里!R17+[8]村里!R17+[9]村里!R17+[10]村里!R17+[11]村里!R17+[12]村里!R17 -> 0
A18: 中央里 | B18: 1 | C18: 16 | D18: 252 | E18: 男 | F18: 300 | G18: =[1]村里!G18+[2]村里!G18+[3]村里!G18+[4]村里!G18+[5]村里!G18+[6]村里!G18+[7]村里!G18+[8]村里!G18+[9]村里!G18+[10]村里!G18+[11]村里!G18+[12]村里!G18 -> 10 | H18: =[1]村里!H18+[2]村里!H18+[3]村里!H18+[4]村里!H18+[5]村里!H18+[6]村里!H18+[7]村里!H18+[8]村里!H18+[9]村里!H18+[10]村里!H18+[11]村里!H18+[12]村里!H18 -> 12 | I18: =[1]村里!I18+[2]村里!I18+[3]村里!I18+[4]村里!I18+[5]村里!I18+[6]村里!I18+[7]村里!I18+[8]村里!I18+[9]村里!I18+[10]村里!I18+[11]村里!I18+[12]村里!I18 -> 7 | J18: =[1]村里!J18+[2]村里!J18+[3]村里!J18+[4]村里!J18+[5]村里!J18+[6]村里!J18+[7]村里!J18+[8]村里!J18+[9]村里!J18+[10]村里!J18+[11]村里!J18+[12]村里!J18 -> 6 | K18: =[1]村里!K18+[2]村里!K18+[3]村里!K18+[4]村里!K18+[5]村里!K18+[6]村里!K18+[7]村里!K18+[8]村里!K18+[9]村里!K18+[10]村里!K18+[11]村里!K18+[12]村里!K18 -> 5 | L18: =[1]村里!L18+[2]村里!L18+[3]村里!L18+[4]村里!L18+[5]村里!L18+[6]村里!L18+[7]村里!L18+[8]村里!L18+[9]村里!L18+[10]村里!L18+[11]村里!L18+[12]村里!L18 -> 9 | M18: =[1]村里!M18+[2]村里!M18+[3]村里!M18+[4]村里!M18+[5]村里!M18+[6]村里!M18+[7]村里!M18+[8]村里!M18+[9]村里!M18+[10]村里!M18+[11]村里!M18+[12]村里!M18 -> 0 | N18: =[1]村里!N18+[2]村里!N18+[3]村里!N18+[4]村里!N18+[5]村里!N18+[6]村里!N18+[7]村里!N18+[8]村里!N18+[9]村里!N18+[10]村里!N18+[11]村里!N18+[12]村里!N18 -> 0 | ... T18: =[1]村里!T18+[2]村里!T18+[3]村里!T18+[4]村里!T18+[5]村里!T18+[6]村里!T18+[7]村里!T18+[8]村里!T18+[9]村里!T18+[10]村里!T18+[11]村里!T18+[12]村里!T18 -> 0
E19: 女 | F19: 288 | G19: =[1]村里!G19+[2]村里!G19+[3]村里!G19+[4]村里!G19+[5]村里!G19+[6]村里!G19+[7]村里!G19+[8]村里!G19+[9]村里!G19+[10]村里!G19+[11]村里!G19+[12]村里!G19 -> 13 | H19: =[1]村里!H19+[2]村里!H19+[3]村里!H19+[4]村里!H19+[5]村里!H19+[6]村里!H19+[7]村里!H19+[8]村里!H19+[9]村里!H19+[10]村里!H19+[11]村里!H19+[12]村里!H19 -> 10 | I19: =[1]村里!I19+[2]村里!I19+[3]村里!I19+[4]村里!I19+[5]村里!I19+[6]村里!I19+[7]村里!I19+[8]村里!I19+[9]村里!I19+[10]村里!I19+[11]村里!I19+[12]村里!I19 -> 7 | J19: =[1]村里!J19+[2]村里!J19+[3]村里!J19+[4]村里!J19+[5]村里!J19+[6]村里!J19+[7]村里!J19+[8]村里!J19+[9]村里!J19+[10]村里!J19+[11]村里!J19+[12]村里!J19 -> 13 | K19: =[1]村里!K19+[2]村里!K19+[3]村里!K19+[4]村里!K19+[5]村里!K19+[6]村里!K19+[7]村里!K19+[8]村里!K19+[9]村里!K19+[10]村里!K19+[11]村里!K19+[12]村里!K19 -> 2 | L19: =[1]村里!L19+[2]村里!L19+[3]村里!L19+[4]村里!L19+[5]村里!L19+[6]村里!L19+[7]村里!L19+[8]村里!L19+[9]村里!L19+[10]村里!L19+[11]村里!L19+[12]村里!L19 -> 3 | M19: =[1]村里!M19+[2]村里!M19+[3]村里!M19+[4]村里!M19+[5]村里!M19+[6]村里!M19+[7]村里!M19+[8]村里!M19+[9]村里!M19+[10]村里!M19+[11]村里!M19+[12]村里!M19 -> 0 | N19: =[1]村里!N19+[2]村里!N19+[3]村里!N19+[4]村里!N19+[5]村里!N19+[6]村里!N19+[7]村里!N19+[8]村里!N19+[9]村里!N19+[10]村里!N19+[11]村里!N19+[12]村里!N19 -> 0 | ... R19: =[1]村里!R19+[2]村里!R19+[3]村里!R19+[4]村里!R19+[5]村里!R19+[6]村里!R19+[7]村里!R19+[8]村里!R19+[9]村里!R19+[10]村里!R19+[11]村里!R19+[12]村里!R19 -> 0
E20: 計 | F20: 1030 | G20: =[1]村里!G20+[2]村里!G20+[3]村里!G20+[4]村里!G20+[5]村里!G20+[6]村里!G20+[7]村里!G20+[8]村里!G20+[9]村里!G20+[10]村里!G20+[11]村里!G20+[12]村里!G20 -> 40 | H20: =[1]村里!H20+[2]村里!H20+[3]村里!H20+[4]村里!H20+[5]村里!H20+[6]村里!H20+[7]村里!H20+[8]村里!H20+[9]村里!H20+[10]村里!H20+[11]村里!H20+[12]村里!H20 -> 42 | I20: =[1]村里!I20+[2]村里!I20+[3]村里!I20+[4]村里!I20+[5]村里!I20+[6]村里!I20+[7]村里!I20+[8]村里!I20+[9]村里!I20+[10]村里!I20+[11]村里!I20+[12]村里!I20 -> 22 | J20: =[1]村里!J20+[2]村里!J20+[3]村里!J20+[4]村里!J20+[5]村里!J20+[6]村里!J20+[7]村里!J20+[8]村里!J20+[9]村里!J20+[10]村里!J20+[11]村里!J20+[12]村里!J20 -> 36 | K20: =[1]村里!K20+[2]村里!K20+[3]村里!K20+[4]村里!K20+[5]村里!K20+[6]村里!K20+[7]村里!K20+[8]村里!K20+[9]村里!K20+[10]村里!K20+[11]村里!K20+[12]村里!K20 -> 2 | L20: =[1]村里!L20+[2]村里!L20+[3]村里!L20+[4]村里!L20+[5]村里!L20+[6]村里!L20+[7]村里!L20+[8]村里!L20+[9]村里!L20+[10]村里!L20+[11]村里!L20+[12]村里!L20 -> 8 | M20: =[1]村里!M20+[2]村里!M20+[3]村里!M20+[4]村里!M20+[5]村里!M20+[6]村里!M20+[7]村里!M20+[8]村里!M20+[9]村里!M20+[10]村里!M20+[11]村里!M20+[12]村里!M20 -> 0 | N20: =[1]村里!N20+[2]村里!N20+[3]村里!N20+[4]村里!N20+[5]村里!N20+[6]村里!N20+[7]村里!N20+[8]村里!N20+[9]村里!N20+[10]村里!N20+[11]村里!N20+[12]村里!N20 -> 0 | ... R20: =[1]村里!R20+[2]村里!R20+[3]村里!R20+[4]村里!R20+[5]村里!R20+[6]村里!R20+[7]村里!R20+[8]村里!R20+[9]村里!R20+[10]村里!R20+[11]村里!R20+[12]村里!R20 -> 6
A21: 啟明里 | B21: 1 | C21: 25 | D21: 406 | E21: 男 | F21: 518 | G21: =[1]村里!G21+[2]村里!G21+[3]村里!G21+[4]村里!G21+[5]村里!G21+[6]村里!G21+[7]村里!G21+[8]村里!G21+[9]村里!G21+[10]村里!G21+[11]村里!G21+[12]村里!G21 -> 19 | H21: =[1]村里!H21+[2]村里!H21+[3]村里!H21+[4]村里!H21+[5]村里!H21+[6]村里!H21+[7]村里!H21+[8]村里!H21+[9]村里!H21+[10]村里!H21+[11]村里!H21+[12]村里!H21 -> 22 | I21: =[1]村里!I21+[2]村里!I21+[3]村里!I21+[4]村里!I21+[5]村里!I21+[6]村里!I21+[7]村里!I21+[8]村里!I21+[9]村里!I21+[10]村里!I21+[11]村里!I21+[12]村里!I21 -> 13 | J21: =[1]村里!J21+[2]村里!J21+[3]村里!J21+[4]村里!J21+[5]村里!J21+[6]村里!J21+[7]村里!J21+[8]村里!J21+[9]村里!J21+[10]村里!J21+[11]村里!J21+[12]村里!J21 -> 21 | K21: =[1]村里!K21+[2]村里!K21+[3]村里!K21+[4]村里!K21+[5]村里!K21+[6]村里!K21+[7]村里!K21+[8]村里!K21+[9]村里!K21+[10]村里!K21+[11]村里!K21+[12]村里!K21 -> 1 | L21: =[1]村里!L21+[2]村里!L21+[3]村里!L21+[4]村里!L21+[5]村里!L21+[6]村里!L21+[7]村里!L21+[8]村里!L21+[9]村里!L21+[10]村里!L21+[11]村里!L21+[12]村里!L21 -> 2 | M21: =[1]村里!M21+[2]村里!M21+[3]村里!M21+[4]村里!M21+[5]村里!M21+[6]村里!M21+[7]村里!M21+[8]村里!M21+[9]村里!M21+[10]村里!M21+[11]村里!M21+[12]村里!M21 -> 0 | N21: =[1]村里!N21+[2]村里!N21+[3]村里!N21+[4]村里!N21+[5]村里!N21+[6]村里!N21+[7]村里!N21+[8]村里!N21+[9]村里!N21+[10]村里!N21+[11]村里!N21+[12]村里!N21 -> 0 | ... T21: =[1]村里!T21+[2]村里!T21+[3]村里!T21+[4]村里!T21+[5]村里!T21+[6]村里!T21+[7]村里!T21+[8]村里!T21+[9]村里!T21+[10]村里!T21+[11]村里!T21+[12]村里!T21 -> 1
E22: 女 | F22: 512 | G22: =[1]村里!G22+[2]村里!G22+[3]村里!G22+[4]村里!G22+[5]村里!G22+[6]村里!G22+[7]村里!G22+[8]村里!G22+[9]村里!G22+[10]村里!G22+[11]村里!G22+[12]村里!G22 -> 21 | H22: =[1]村里!H22+[2]村里!H22+[3]村里!H22+[4]村里!H22+[5]村里!H22+[6]村里!H22+[7]村里!H22+[8]村里!H22+[9]村里!H22+[10]村里!H22+[11]村里!H22+[12]村里!H22 -> 20 | I22: =[1]村里!I22+[2]村里!I22+[3]村里!I22+[4]村里!I22+[5]村里!I22+[6]村里!I22+[7]村里!I22+[8]村里!I22+[9]村里!I22+[10]村里!I22+[11]村里!I22+[12]村里!I22 -> 9 | J22: =[1]村里!J22+[2]村里!J22+[3]村里!J22+[4]村里!J22+[5]村里!J22+[6]村里!J22+[7]村里!J22+[8]村里!J22+[9]村里!J22+[10]村里!J22+[11]村里!J22+[12]村里!J22 -> 15 | K22: =[1]村里!K22+[2]村里!K22+[3]村里!K22+[4]村里!K22+[5]村里!K22+[6]村里!K22+[7]村里!K22+[8]村里!K22+[9]村里!K22+[10]村里!K22+[11]村里!K22+[12]村里!K22 -> 1 | L22: =[1]村里!L22+[2]村里!L22+[3]村里!L22+[4]村里!L22+[5]村里!L22+[6]村里!L22+[7]村里!L22+[8]村里!L22+[9]村里!L22+[10]村里!L22+[11]村里!L22+[12]村里!L22 -> 6 | M22: =[1]村里!M22+[2]村里!M22+[3]村里!M22+[4]村里!M22+[5]村里!M22+[6]村里!M22+[7]村里!M22+[8]村里!M22+[9]村里!M22+[10]村里!M22+[11]村里!M22+[12]村里!M22 -> 0 | N22: =[1]村里!N22+[2]村里!N22+[3]村里!N22+[4]村里!N22+[5]村里!N22+[6]村里!N22+[7]村里!N22+[8]村里!N22+[9]村里!N22+[10]村里!N22+[11]村里!N22+[12]村里!N22 -> 0 | ... R22: =[1]村里!R22+[2]村里!R22+[3]村里!R22+[4]村里!R22+[5]村里!R22+[6]村里!R22+[7]村里!R22+[8]村里!R22+[9]村里!R22+[10]村里!R22+[11]村里!R22+[12]村里!R22 -> 5
E23: 計 | F23: 1141 | G23: =[1]村里!G23+[2]村里!G23+[3]村里!G23+[4]村里!G23+[5]村里!G23+[6]村里!G23+[7]村里!G23+[8]村里!G23+[9]村里!G23+[10]村里!G23+[11]村里!G23+[12]村里!G23 -> 47 | H23: =[1]村里!H23+[2]村里!H23+[3]村里!H23+[4]村里!H23+[5]村里!H23+[6]村里!H23+[7]村里!H23+[8]村里!H23+[9]村里!H23+[10]村里!H23+[11]村里!H23+[12]村里!H23 -> 47 | I23: =[1]村里!I23+[2]村里!I23+[3]村里!I23+[4]村里!I23+[5]村里!I23+[6]村里!I23+[7]村里!I23+[8]村里!I23+[9]村里!I23+[10]村里!I23+[11]村里!I23+[12]村里!I23 -> 34 | J23: =[1]村里!J23+[2]村里!J23+[3]村里!J23+[4]村里!J23+[5]村里!J23+[6]村里!J23+[7]村里!J23+[8]村里!J23+[9]村里!J23+[10]村里!J23+[11]村里!J23+[12]村里!J23 -> 45 | K23: =[1]村里!K23+[2]村里!K23+[3]村里!K23+[4]村里!K23+[5]村里!K23+[6]村里!K23+[7]村里!K23+[8]村里!K23+[9]村里!K23+[10]村里!K23+[11]村里!K23+[12]村里!K23 -> 9 | L23: =[1]村里!L23+[2]村里!L23+[3]村里!L23+[4]村里!L23+[5]村里!L23+[6]村里!L23+[7]村里!L23+[8]村里!L23+[9]村里!L23+[10]村里!L23+[11]村里!L23+[12]村里!L23 -> 11 | M23: =[1]村里!M23+[2]村里!M23+[3]村里!M23+[4]村里!M23+[5]村里!M23+[6]村里!M23+[7]村里!M23+[8]村里!M23+[9]村里!M23+[10]村里!M23+[11]村里!M23+[12]村里!M23 -> 1 | N23: =[1]村里!N23+[2]村里!N23+[3]村里!N23+[4]村里!N23+[5]村里!N23+[6]村里!N23+[7]村里!N23+[8]村里!N23+[9]村里!N23+[10]村里!N23+[11]村里!N23+[12]村里!N23 -> 0 | ... R23: =[1]村里!R23+[2]村里!R23+[3]村里!R23+[4]村里!R23+[5]村里!R23+[6]村里!R23+[7]村里!R23+[8]村里!R23+[9]村里!R23+[10]村里!R23+[11]村里!R23+[12]村里!R23 -> 6
A24: 重慶里 | B24: 1 | C24: 32 | D24: 459 | E24: 男 | F24: 578 | G24: =[1]村里!G24+[2]村里!G24+[3]村里!G24+[4]村里!G24+[5]村里!G24+[6]村里!G24+[7]村里!G24+[8]村里!G24+[9]村里!G24+[10]村里!G24+[11]村里!G24+[12]村里!G24 -> 26 | H24: =[1]村里!H24+[2]村里!H24+[3]村里!H24+[4]村里!H24+[5]村里!H24+[6]村里!H24+[7]村里!H24+[8]村里!H24+[9]村里!H24+[10]村里!H24+[11]村里!H24+[12]村里!H24 -> 24 | I24: =[1]村里!I24+[2]村里!I24+[3]村里!I24+[4]村里!I24+[5]村里!I24+[6]村里!I24+[7]村里!I24+[8]村里!I24+[9]村里!I24+[10]村里!I24+[11]村里!I24+[12]村里!I24 -> 14 | J24: =[1]村里!J24+[2]村里!J24+[3]村里!J24+[4]村里!J24+[5]村里!J24+[6]村里!J24+[7]村里!J24+[8]村里!J24+[9]村里!J24+[10]村里!J24+[11]村里!J24+[12]村里!J24 -> 27 | K24: =[1]村里!K24+[2]村里!K24+[3]村里!K24+[4]村里!K24+[5]村里!K24+[6]村里!K24+[7]村里!K24+[8]村里!K24+[9]村里!K24+[10]村里!K24+[11]村里!K24+[12]村里!K24 -> 8 | L24: =[1]村里!L24+[2]村里!L24+[3]村里!L24+[4]村里!L24+[5]村里!L24+[6]村里!L24+[7]村里!L24+[8]村里!L24+[9]村里!L24+[10]村里!L24+[11]村里!L24+[12]村里!L24 -> 5 | M24: =[1]村里!M24+[2]村里!M24+[3]村里!M24+[4]村里!M24+[5]村里!M24+[6]村里!M24+[7]村里!M24+[8]村里!M24+[9]村里!M24+[10]村里!M24+[11]村里!M24+[12]村里!M24 -> 0 | N24: =[1]村里!N24+[2]村里!N24+[3]村里!N24+[4]村里!N24+[5]村里!N24+[6]村里!N24+[7]村里!N24+[8]村里!N24+[9]村里!N24+[10]村里!N24+[11]村里!N24+[12]村里!N24 -> 0 | ... T24: =[1]村里!T24+[2]村里!T24+[3]村里!T24+[4]村里!T24+[5]村里!T24+[6]村里!T24+[7]村里!T24+[8]村里!T24+[9]村里!T24+[10]村里!T24+[11]村里!T24+[12]村里!T24 -> 1
E25: 女 | F25: 563 | G25: =[1]村里!G25+[2]村里!G25+[3]村里!G25+[4]村里!G25+[5]村里!G25+[6]村里!G25+[7]村里!G25+[8]村里!G25+[9]村里!G25+[10]村里!G25+[11]村里!G25+[12]村里!G25 -> 21 | H25: =[1]村里!H25+[2]村里!H25+[3]村里!H25+[4]村里!H25+[5]村里!H25+[6]村里!H25+[7]村里!H25+[8]村里!H25+[9]村里!H25+[10]村里!H25+[11]村里!H25+[12]村里!H25 -> 23 | I25: =[1]村里!I25+[2]村里!I25+[3]村里!I25+[4]村里!I25+[5]村里!I25+[6]村里!I25+[7]村里!I25+[8]村里!I25+[9]村里!I25+[10]村里!I25+[11]村里!I25+[12]村里!I25 -> 20 | J25: =[1]村里!J25+[2]村里!J25+[3]村里!J25+[4]村里!J25+[5]村里!J25+[6]村里!J25+[7]村里!J25+[8]村里!J25+[9]村里!J25+[10]村里!J25+[11]村里!J25+[12]村里!J25 -> 18 | K25: =[1]村里!K25+[2]村里!K25+[3]村里!K25+[4]村里!K25+[5]村里!K25+[6]村里!K25+[7]村里!K25+[8]村里!K25+[9]村里!K25+[10]村里!K25+[11]村里!K25+[12]村里!K25 -> 1 | L25: =[1]村里!L25+[2]村里!L25+[3]村里!L25+[4]村里!L25+[5]村里!L25+[6]村里!L25+[7]村里!L25+[8]村里!L25+[9]村里!L25+[10]村里!L25+[11]村里!L25+[12]村里!L25 -> 6 | M25: =[1]村里!M25+[2]村里!M25+[3]村里!M25+[4]村里!M25+[5]村里!M25+[6]村里!M25+[7]村里!M25+[8]村里!M25+[9]村里!M25+[10]村里!M25+[11]村里!M25+[12]村里!M25 -> 1 | N25: =[1]村里!N25+[2]村里!N25+[3]村里!N25+[4]村里!N25+[5]村里!N25+[6]村里!N25+[7]村里!N25+[8]村里!N25+[9]村里!N25+[10]村里!N25+[11]村里!N25+[12]村里!N25 -> 0 | ... R25: =[1]村里!R25+[2]村里!R25+[3]村里!R25+[4]村里!R25+[5]村里!R25+[6]村里!R25+[7]村里!R25+[8]村里!R25+[9]村里!R25+[10]村里!R25+[11]村里!R25+[12]村里!R25 -> 3
E26: 計 | F26: 887 | G26: =[1]村里!G26+[2]村里!G26+[3]村里!G26+[4]村里!G26+[5]村里!G26+[6]村里!G26+[7]村里!G26+[8]村里!G26+[9]村里!G26+[10]村里!G26+[11]村里!G26+[12]村里!G26 -> 68 | H26: =[1]村里!H26+[2]村里!H26+[3]村里!H26+[4]村里!H26+[5]村里!H26+[6]村里!H26+[7]村里!H26+[8]村里!H26+[9]村里!H26+[10]村里!H26+[11]村里!H26+[12]村里!H26 -> 69 | I26: =[1]村里!I26+[2]村里!I26+[3]村里!I26+[4]村里!I26+[5]村里!I26+[6]村里!I26+[7]村里!I26+[8]村里!I26+[9]村里!I26+[10]村里!I26+[11]村里!I26+[12]村里!I26 -> 41 | J26: =[1]村里!J26+[2]村里!J26+[3]村里!J26+[4]村里!J26+[5]村里!J26+[6]村里!J26+[7]村里!J26+[8]村里!J26+[9]村里!J26+[10]村里!J26+[11]村里!J26+[12]村里!J26 -> 52 | K26: =[1]村里!K26+[2]村里!K26+[3]村里!K26+[4]村里!K26+[5]村里!K26+[6]村里!K26+[7]村里!K26+[8]村里!K26+[9]村里!K26+[10]村里!K26+[11]村里!K26+[12]村里!K26 -> 4 | L26: =[1]村里!L26+[2]村里!L26+[3]村里!L26+[4]村里!L26+[5]村里!L26+[6]村里!L26+[7]村里!L26+[8]村里!L26+[9]村里!L26+[10]村里!L26+[11]村里!L26+[12]村里!L26 -> 6 | M26: =[1]村里!M26+[2]村里!M26+[3]村里!M26+[4]村里!M26+[5]村里!M26+[6]村里!M26+[7]村里!M26+[8]村里!M26+[9]村里!M26+[10]村里!M26+[11]村里!M26+[12]村里!M26 -> 0 | N26: =[1]村里!N26+[2]村里!N26+[3]村里!N26+[4]村里!N26+[5]村里!N26+[6]村里!N26+[7]村里!N26+[8]村里!N26+[9]村里!N26+[10]村里!N26+[11]村里!N26+[12]村里!N26 -> 0 | ... R26: =[1]村里!R26+[2]村里!R26+[3]村里!R26+[4]村里!R26+[5]村里!R26+[6]村里!R26+[7]村里!R26+[8]村里!R26+[9]村里!R26+[10]村里!R26+[11]村里!R26+[12]村里!R26 -> 2
A27: 中興里 | B27: 1 | C27: 19 | D27: 428 | E27: 男 | F27: 449 | G27: =[1]村里!G27+[2]村里!G27+[3]村里!G27+[4]村里!G27+[5]村里!G27+[6]村里!G27+[7]村里!G27+[8]村里!G27+[9]村里!G27+[10]村里!G27+[11]村里!G27+[12]村里!G27 -> 40 | H27: =[1]村里!H27+[2]村里!H27+[3]村里!H27+[4]村里!H27+[5]村里!H27+[6]村里!H27+[7]村里!H27+[8]村里!H27+[9]村里!H27+[10]村里!H27+[11]村里!H27+[12]村里!H27 -> 45 | I27: =[1]村里!I27+[2]村里!I27+[3]村里!I27+[4]村里!I27+[5]村里!I27+[6]村里!I27+[7]村里!I27+[8]村里!I27+[9]村里!I27+[10]村里!I27+[11]村里!I27+[12]村里!I27 -> 18 | J27: =[1]村里!J27+[2]村里!J27+[3]村里!J27+[4]村里!J27+[5]村里!J27+[6]村里!J27+[7]村里!J27+[8]村里!J27+[9]村里!J27+[10]村里!J27+[11]村里!J27+[12]村里!J27 -> 25 | K27: =[1]村里!K27+[2]村里!K27+[3]村里!K27+[4]村里!K27+[5]村里!K27+[6]村里!K27+[7]村里!K27+[8]村里!K27+[9]村里!K27+[10]村里!K27+[11]村里!K27+[12]村里!K27 -> 0 | L27: =[1]村里!L27+[2]村里!L27+[3]村里!L27+[4]村里!L27+[5]村里!L27+[6]村里!L27+[7]村里!L27+[8]村里!L27+[9]村里!L27+[10]村里!L27+[11]村里!L27+[12]村里!L27 -> 3 | M27: =[1]村里!M27+[2]村里!M27+[3]村里!M27+[4]村里!M27+[5]村里!M27+[6]村里!M27+[7]村里!M27+[8]村里!M27+[9]村里!M27+[10]村里!M27+[11]村里!M27+[12]村里!M27 -> 0 | N27: =[1]村里!N27+[2]村里!N27+[3]村里!N27+[4]村里!N27+[5]村里!N27+[6]村里!N27+[7]村里!N27+[8]村里!N27+[9]村里!N27+[10]村里!N27+[11]村里!N27+[12]村里!N27 -> 0 | ... T27: =[1]村里!T27+[2]村里!T27+[3]村里!T27+[4]村里!T27+[5]村里!T27+[6]村里!T27+[7]村里!T27+[8]村里!T27+[9]村里!T27+[10]村里!T27+[11]村里!T27+[12]村里!T27 -> 3
E28: 女 | F28: 438 | G28: =[1]村里!G28+[2]村里!G28+[3]村里!G28+[4]村里!G28+[5]村里!G28+[6]村里!G28+[7]村里!G28+[8]村里!G28+[9]村里!G28+[10]村里!G28+[11]村里!G28+[12]村里!G28 -> 28 | H28: =[1]村里!H28+[2]村里!H28+[3]村里!H28+[4]村里!H28+[5]村里!H28+[6]村里!H28+[7]村里!H28+[8]村里!H28+[9]村里!H28+[10]村里!H28+[11]村里!H28+[12]村里!H28 -> 24 | I28: =[1]村里!I28+[2]村里!I28+[3]村里!I28+[4]村里!I28+[5]村里!I28+[6]村里!I28+[7]村里!I28+[8]村里!I28+[9]村里!I28+[10]村里!I28+[11]村里!I28+[12]村里!I28 -> 23 | J28: =[1]村里!J28+[2]村里!J28+[3]村里!J28+[4]村里!J28+[5]村里!J28+[6]村里!J28+[7]村里!J28+[8]村里!J28+[9]村里!J28+[10]村里!J28+[11]村里!J28+[12]村里!J28 -> 27 | K28: =[1]村里!K28+[2]村里!K28+[3]村里!K28+[4]村里!K28+[5]村里!K28+[6]村里!K28+[7]村里!K28+[8]村里!K28+[9]村里!K28+[10]村里!K28+[11]村里!K28+[12]村里!K28 -> 4 | L28: =[1]村里!L28+[2]村里!L28+[3]村里!L28+[4]村里!L28+[5]村里!L28+[6]村里!L28+[7]村里!L28+[8]村里!L28+[9]村里!L28+[10]村里!L28+[11]村里!L28+[12]村里!L28 -> 3 | M28: =[1]村里!M28+[2]村里!M28+[3]村里!M28+[4]村里!M28+[5]村里!M28+[6]村里!M28+[7]村里!M28+[8]村里!M28+[9]村里!M28+[10]村里!M28+[11]村里!M28+[12]村里!M28 -> 0 | N28: =[1]村里!N28+[2]村里!N28+[3]村里!N28+[4]村里!N28+[5]村里!N28+[6]村里!N28+[7]村里!N28+[8]村里!N28+[9]村里!N28+[10]村里!N28+[11]村里!N28+[12]村里!N28 -> 0 | ... R28: =[1]村里!R28+[2]村里!R28+[3]村里!R28+[4]村里!R28+[5]村里!R28+[6]村里!R28+[7]村里!R28+[8]村里!R28+[9]村里!R28+[10]村里!R28+[11]村里!R28+[12]村里!R28 -> 1
E29: 計 | F29: 2259 | G29: =[1]村里!G29+[2]村里!G29+[3]村里!G29+[4]村里!G29+[5]村里!G29+[6]村里!G29+[7]村里!G29+[8]村里!G29+[9]村里!G29+[10]村里!G29+[11]村里!G29+[12]村里!G29 -> 94 | H29: =[1]村里!H29+[2]村里!H29+[3]村里!H29+[4]村里!H29+[5]村里!H29+[6]村里!H29+[7]村里!H29+[8]村里!H29+[9]村里!H29+[10]村里!H29+[11]村里!H29+[12]村里!H29 -> 83 | I29: =[1]村里!I29+[2]村里!I29+[3]村里!I29+[4]村里!I29+[5]村里!I29+[6]村里!I29+[7]村里!I29+[8]村里!I29+[9]村里!I29+[10]村里!I29+[11]村里!I29+[12]村里!I29 -> 79 | J29: =[1]村里!J29+[2]村里!J29+[3]村里!J29+[4]村里!J29+[5]村里!J29+[6]村里!J29+[7]村里!J29+[8]村里!J29+[9]村里!J29+[10]村里!J29+[11]村里!J29+[12]村里!J29 -> 100 | K29: =[1]村里!K29+[2]村里!K29+[3]村里!K29+[4]村里!K29+[5]村里!K29+[6]村里!K29+[7]村里!K29+[8]村里!K29+[9]村里!K29+[10]村里!K29+[11]村里!K29+[12]村里!K29 -> 26 | L29: =[1]村里!L29+[2]村里!L29+[3]村里!L29+[4]村里!L29+[5]村里!L29+[6]村里!L29+[7]村里!L29+[8]村里!L29+[9]村里!L29+[10]村里!L29+[11]村里!L29+[12]村里!L29 -> 18 | M29: =[1]村里!M29+[2]村里!M29+[3]村里!M29+[4]村里!M29+[5]村里!M29+[6]村里!M29+[7]村里!M29+[8]村里!M29+[9]村里!M29+[10]村里!M29+[11]村里!M29+[12]村里!M29 -> 0 | N29: =[1]村里!N29+[2]村里!N29+[3]村里!N29+[4]村里!N29+[5]村里!N29+[6]村里!N29+[7]村里!N29+[8]村里!N29+[9]村里!N29+[10]村里!N29+[11]村里!N29+[12]村里!N29 -> 0 | ... R29: =[1]村里!R29+[2]村里!R29+[3]村里!R29+[4]村里!R29+[5]村里!R29+[6]村里!R29+[7]村里!R29+[8]村里!R29+[9]村里!R29+[10]村里!R29+[11]村里!R29+[12]村里!R29 -> 7
A30: 光復里 | B30: 1 | C30: 29 | D30: 901 | E30: 男 | F30: 1081 | G30: =[1]村里!G30+[2]村里!G30+[3]村里!G30+[4]村里!G30+[5]村里!G30+[6]村里!G30+[7]村里!G30+[8]村里!G30+[9]村里!G30+[10]村里!G30+[11]村里!G30+[12]村里!G30 -> 49 | H30: =[1]村里!H30+[2]村里!H30+[3]村里!H30+[4]村里!H30+[5]村里!H30+[6]村里!H30+[7]村里!H30+[8]村里!H30+[9]村里!H30+[10]村里!H30+[11]村里!H30+[12]村里!H30 -> 43 | I30: =[1]村里!I30+[2]村里!I30+[3]村里!I30+[4]村里!I30+[5]村里!I30+[6]村里!I30+[7]村里!I30+[8]村里!I30+[9]村里!I30+[10]村里!I30+[11]村里!I30+[12]村里!I30 -> 39 | J30: =[1]村里!J30+[2]村里!J30+[3]村里!J30+[4]村里!J30+[5]村里!J30+[6]村里!J30+[7]村里!J30+[8]村里!J30+[9]村里!J30+[10]村里!J30+[11]村里!J30+[12]村里!J30 -> 44 | K30: =[1]村里!K30+[2]村里!K30+[3]村里!K30+[4]村里!K30+[5]村里!K30+[6]村里!K30+[7]村里!K30+[8]村里!K30+[9]村里!K30+[10]村里!K30+[11]村里!K30+[12]村里!K30 -> 8 | L30: =[1]村里!L30+[2]村里!L30+[3]村里!L30+[4]村里!L30+[5]村里!L30+[6]村里!L30+[7]村里!L30+[8]村里!L30+[9]村里!L30+[10]村里!L30+[11]村里!L30+[12]村里!L30 -> 7 | M30: =[1]村里!M30+[2]村里!M30+[3]村里!M30+[4]村里!M30+[5]村里!M30+[6]村里!M30+[7]村里!M30+[8]村里!M30+[9]村里!M30+[10]村里!M30+[11]村里!M30+[12]村里!M30 -> 0 | N30: =[1]村里!N30+[2]村里!N30+[3]村里!N30+[4]村里!N30+[5]村里!N30+[6]村里!N30+[7]村里!N30+[8]村里!N30+[9]村里!N30+[10]村里!N30+[11]村里!N30+[12]村里!N30 -> 0 | ... T30: =[1]村里!T30+[2]村里!T30+[3]村里!T30+[4]村里!T30+[5]村里!T30+[6]村里!T30+[7]村里!T30+[8]村里!T30+[9]村里!T30+[10]村里!T30+[11]村里!T30+[12]村里!T30 -> 4
E31: 女 | F31: 1178 | G31: =[1]村里!G31+[2]村里!G31+[3]村里!G31+[4]村里!G31+[5]村里!G31+[6]村里!G31+[7]村里!G31+[8]村里!G31+[9]村里!G31+[10]村里!G31+[11]村里!G31+[12]村里!G31 -> 45 | H31: =[1]村里!H31+[2]村里!H31+[3]村里!H31+[4]村里!H31+[5]村里!H31+[6]村里!H31+[7]村里!H31+[8]村里!H31+[9]村里!H31+[10]村里!H31+[11]村里!H31+[12]村里!H31 -> 40 | I31: =[1]村里!I31+[2]村里!I31+[3]村里!I31+[4]村里!I31+[5]村里!I31+[6]村里!I31+[7]村里!I31+[8]村里!I31+[9]村里!I31+[10]村里!I31+[11]村里!I31+[12]村里!I31 -> 40 | J31: =[1]村里!J31+[2]村里!J31+[3]村里!J31+[4]村里!J31+[5]村里!J31+[6]村里!J31+[7]村里!J31+[8]村里!J31+[9]村里!J31+[10]村里!J31+[11]村里!J31+[12]村里!J31 -> 56 | K31: =[1]村里!K31+[2]村里!K31+[3]村里!K31+[4]村里!K31+[5]村里!K31+[6]村里!K31+[7]村里!K31+[8]村里!K31+[9]村里!K31+[10]村里!K31+[11]村里!K31+[12]村里!K31 -> 18 | L31: =[1]村里!L31+[2]村里!L31+[3]村里!L31+[4]村里!L31+[5]村里!L31+[6]村里!L31+[7]村里!L31+[8]村里!L31+[9]村里!L31+[10]村里!L31+[11]村里!L31+[12]村里!L31 -> 11 | M31: =[1]村里!M31+[2]村里!M31+[3]村里!M31+[4]村里!M31+[5]村里!M31+[6]村里!M31+[7]村里!M31+[8]村里!M31+[9]村里!M31+[10]村里!M31+[11]村里!M31+[12]村里!M31 -> 0 | N31: =[1]村里!N31+[2]村里!N31+[3]村里!N31+[4]村里!N31+[5]村里!N31+[6]村里!N31+[7]村里!N31+[8]村里!N31+[9]村里!N31+[10]村里!N31+[11]村里!N31+[12]村里!N31 -> 0 | ... R31: =[1]村里!R31+[2]村里!R31+[3]村里!R31+[4]村里!R31+[5]村里!R31+[6]村里!R31+[7]村里!R31+[8]村里!R31+[9]村里!R31+[10]村里!R31+[11]村里!R31+[12]村里!R31 -> 4
E32: 計 | F32: 4726 | G32: =[1]村里!G32+[2]村里!G32+[3]村里!G32+[4]村里!G32+[5]村里!G32+[6]村里!G32+[7]村里!G32+[8]村里!G32+[9]村里!G32+[10]村里!G32+[11]村里!G32+[12]村里!G32 -> 181 | H32: =[1]村里!H32+[2]村里!H32+[3]村里!H32+[4]村里!H32+[5]村里!H32+[6]村里!H32+[7]村里!H32+[8]村里!H32+[9]村里!H32+[10]村里!H32+[11]村里!H32+[12]村里!H32 -> 189 | I32: =[1]村里!I32+[2]村里!I32+[3]村里!I32+[4]村里!I32+[5]村里!I32+[6]村里!I32+[7]村里!I32+[8]村里!I32+[9]村里!I32+[10]村里!I32+[11]村里!I32+[12]村里!I32 -> 137 | J32: =[1]村里!J32+[2]村里!J32+[3]村里!J32+[4]村里!J32+[5]村里!J32+[6]村里!J32+[7]村里!J32+[8]村里!J32+[9]村里!J32+[10]村里!J32+[11]村里!J32+[12]村里!J32 -> 155 | K32: =[1]村里!K32+[2]村里!K32+[3]村里!K32+[4]村里!K32+[5]村里!K32+[6]村里!K32+[7]村里!K32+[8]村里!K32+[9]村里!K32+[10]村里!K32+[11]村里!K32+[12]村里!K32 -> 29 | L32: =[1]村里!L32+[2]村里!L32+[3]村里!L32+[4]村里!L32+[5]村里!L32+[6]村里!L32+[7]村里!L32+[8]村里!L32+[9]村里!L32+[10]村里!L32+[11]村里!L32+[12]村里!L32 -> 40 | M32: =[1]村里!M32+[2]村里!M32+[3]村里!M32+[4]村里!M32+[5]村里!M32+[6]村里!M32+[7]村里!M32+[8]村里!M32+[9]村里!M32+[10]村里!M32+[11]村里!M32+[12]村里!M32 -> 0 | N32: =[1]村里!N32+[2]村里!N32+[3]村里!N32+[4]村里!N32+[5]村里!N32+[6]村里!N32+[7]村里!N32+[8]村里!N32+[9]村里!N32+[10]村里!N32+[11]村里!N32+[12]村里!N32 -> 0 | ... R32: =[1]村里!R32+[2]村里!R32+[3]村里!R32+[4]村里!R32+[5]村里!R32+[6]村里!R32+[7]村里!R32+[8]村里!R32+[9]村里!R32+[10]村里!R32+[11]村里!R32+[12]村里!R32 -> 18
A33: 光榮里 | B33: 1 | C33: 34 | D33: 1887 | E33: 男 | F33: 2256 | G33: =[1]村里!G33+[2]村里!G33+[3]村里!G33+[4]村里!G33+[5]村里!G33+[6]村里!G33+[7]村里!G33+[8]村里!G33+[9]村里!G33+[10]村里!G33+[11]村里!G33+[12]村里!G33 -> 92 | H33: =[1]村里!H33+[2]村里!H33+[3]村里!H33+[4]村里!H33+[5]村里!H33+[6]村里!H33+[7]村里!H33+[8]村里!H33+[9]村里!H33+[10]村里!H33+[11]村里!H33+[12]村里!H33 -> 115 | I33: =[1]村里!I33+[2]村里!I33+[3]村里!I33+[4]村里!I33+[5]村里!I33+[6]村里!I33+[7]村里!I33+[8]村里!I33+[9]村里!I33+[10]村里!I33+[11]村里!I33+[12]村里!I33 -> 72 | J33: =[1]村里!J33+[2]村里!J33+[3]村里!J33+[4]村里!J33+[5]村里!J33+[6]村里!J33+[7]村里!J33+[8]村里!J33+[9]村里!J33+[10]村里!J33+[11]村里!J33+[12]村里!J33 -> 78 | K33: =[1]村里!K33+[2]村里!K33+[3]村里!K33+[4]村里!K33+[5]村里!K33+[6]村里!K33+[7]村里!K33+[8]村里!K33+[9]村里!K33+[10]村里!K33+[11]村里!K33+[12]村里!K33 -> 21 | L33: =[1]村里!L33+[2]村里!L33+[3]村里!L33+[4]村里!L33+[5]村里!L33+[6]村里!L33+[7]村里!L33+[8]村里!L33+[9]村里!L33+[10]村里!L33+[11]村里!L33+[12]村里!L33 -> 22 | M33: =[1]村里!M33+[2]村里!M33+[3]村里!M33+[4]村里!M33+[5]村里!M33+[6]村里!M33+[7]村里!M33+[8]村里!M33+[9]村里!M33+[10]村里!M33+[11]村里!M33+[12]村里!M33 -> 0 | N33: =[1]村里!N33+[2]村里!N33+[3]村里!N33+[4]村里!N33+[5]村里!N33+[6]村里!N33+[7]村里!N33+[8]村里!N33+[9]村里!N33+[10]村里!N33+[11]村里!N33+[12]村里!N33 -> 0 | ... T33: =[1]村里!T33+[2]村里!T33+[3]村里!T33+[4]村里!T33+[5]村里!T33+[6]村里!T33+[7]村里!T33+[8]村里!T33+[9]村里!T33+[10]村里!T33+[11]村里!T33+[12]村里!T33 -> 15
E34: 女 | F34: 2470 | G34: =[1]村里!G34+[2]村里!G34+[3]村里!G34+[4]村里!G34+[5]村里!G34+[6]村里!G34+[7]村里!G34+[8]村里!G34+[9]村里!G34+[10]村里!G34+[11]村里!G34+[12]村里!G34 -> 89 | H34: =[1]村里!H34+[2]村里!H34+[3]村里!H34+[4]村里!H34+[5]村里!H34+[6]村里!H34+[7]村里!H34+[8]村里!H34+[9]村里!H34+[10]村里!H34+[11]村里!H34+[12]村里!H34 -> 74 | I34: =[1]村里!I34+[2]村里!I34+[3]村里!I34+[4]村里!I34+[5]村里!I34+[6]村里!I34+[7]村里!I34+[8]村里!I34+[9]村里!I34+[10]村里!I34+[11]村里!I34+[12]村里!I34 -> 65 | J34: =[1]村里!J34+[2]村里!J34+[3]村里!J34+[4]村里!J34+[5]村里!J34+[6]村里!J34+[7]村里!J34+[8]村里!J34+[9]村里!J34+[10]村里!J34+[11]村里!J34+[12]村里!J34 -> 77 | K34: =[1]村里!K34+[2]村里!K34+[3]村里!K34+[4]村里!K34+[5]村里!K34+[6]村里!K34+[7]村里!K34+[8]村里!K34+[9]村里!K34+[10]村里!K34+[11]村里!K34+[12]村里!K34 -> 8 | L34: =[1]村里!L34+[2]村里!L34+[3]村里!L34+[4]村里!L34+[5]村里!L34+[6]村里!L34+[7]村里!L34+[8]村里!L34+[9]村里!L34+[10]村里!L34+[11]村里!L34+[12]村里!L34 -> 18 | M34: =[1]村里!M34+[2]村里!M34+[3]村里!M34+[4]村里!M34+[5]村里!M34+[6]村里!M34+[7]村里!M34+[8]村里!M34+[9]村里!M34+[10]村里!M34+[11]村里!M34+[12]村里!M34 -> 0 | N34: =[1]村里!N34+[2]村里!N34+[3]村里!N34+[4]村里!N34+[5]村里!N34+[6]村里!N34+[7]村里!N34+[8]村里!N34+[9]村里!N34+[10]村里!N34+[11]村里!N34+[12]村里!N34 -> 0 | ... R34: =[1]村里!R34+[2]村里!R34+[3]村里!R34+[4]村里!R34+[5]村里!R34+[6]村里!R34+[7]村里!R34+[8]村里!R34+[9]村里!R34+[10]村里!R34+[11]村里!R34+[12]村里!R34 -> 8
E35: 計 | F35: 1364 | G35: =[1]村里!G35+[2]村里!G35+[3]村里!G35+[4]村里!G35+[5]村里!G35+[6]村里!G35+[7]村里!G35+[8]村里!G35+[9]村里!G35+[10]村里!G35+[11]村里!G35+[12]村里!G35 -> 60 | H35: =[1]村里!H35+[2]村里!H35+[3]村里!H35+[4]村里!H35+[5]村里!H35+[6]村里!H35+[7]村里!H35+[8]村里!H35+[9]村里!H35+[10]村里!H35+[11]村里!H35+[12]村里!H35 -> 71 | I35: =[1]村里!I35+[2]村里!I35+[3]村里!I35+[4]村里!I35+[5]村里!I35+[6]村里!I35+[7]村里!I35+[8]村里!I35+[9]村里!I35+[10]村里!I35+[11]村里!I35+[12]村里!I35 -> 35 | J35: =[1]村里!J35+[2]村里!J35+[3]村里!J35+[4]村里!J35+[5]村里!J35+[6]村里!J35+[7]村里!J35+[8]村里!J35+[9]村里!J35+[10]村里!J35+[11]村里!J35+[12]村里!J35 -> 59 | K35: =[1]村里!K35+[2]村里!K35+[3]村里!K35+[4]村里!K35+[5]村里!K35+[6]村里!K35+[7]村里!K35+[8]村里!K35+[9]村里!K35+[10]村里!K35+[11]村里!K35+[12]村里!K35 -> 5 | L35: =[1]村里!L35+[2]村里!L35+[3]村里!L35+[4]村里!L35+[5]村里!L35+[6]村里!L35+[7]村里!L35+[8]村里!L35+[9]村里!L35+[10]村里!L35+[11]村里!L35+[12]村里!L35 -> 21 | M35: =[1]村里!M35+[2]村里!M35+[3]村里!M35+[4]村里!M35+[5]村里!M35+[6]村里!M35+[7]村里!M35+[8]村里!M35+[9]村里!M35+[10]村里!M35+[11]村里!M35+[12]村里!M35 -> 0 | N35: =[1]村里!N35+[2]村里!N35+[3]村里!N35+[4]村里!N35+[5]村里!N35+[6]村里!N35+[7]村里!N35+[8]村里!N35+[9]村里!N35+[10]村里!N35+[11]村里!N35+[12]村里!N35 -> 0 | ... R35: =[1]村里!R35+[2]村里!R35+[3]村里!R35+[4]村里!R35+[5]村里!R35+[6]村里!R35+[7]村里!R35+[8]村里!R35+[9]村里!R35+[10]村里!R35+[11]村里!R35+[12]村里!R35 -> 3
A36: 光明里 | B36: 1 | C36: 33 | D36: 587 | E36: 男 | F36: 674 | G36: =[1]村里!G36+[2]村里!G36+[3]村里!G36+[4]村里!G36+[5]村里!G36+[6]村里!G36+[7]村里!G36+[8]村里!G36+[9]村里!G36+[10]村里!G36+[11]村里!G36+[12]村里!G36 -> 37 | H36: =[1]村里!H36+[2]村里!H36+[3]村里!H36+[4]村里!H36+[5]村里!H36+[6]村里!H36+[7]村里!H36+[8]村里!H36+[9]村里!H36+[10]村里!H36+[11]村里!H36+[12]村里!H36 -> 43 | I36: =[1]村里!I36+[2]村里!I36+[3]村里!I36+[4]村里!I36+[5]村里!I36+[6]村里!I36+[7]村里!I36+[8]村里!I36+[9]村里!I36+[10]村里!I36+[11]村里!I36+[12]村里!I36 -> 22 | J36: =[1]村里!J36+[2]村里!J36+[3]村里!J36+[4]村里!J36+[5]村里!J36+[6]村里!J36+[7]村里!J36+[8]村里!J36+[9]村里!J36+[10]村里!J36+[11]村里!J36+[12]村里!J36 -> 31 | K36: =[1]村里!K36+[2]村里!K36+[3]村里!K36+[4]村里!K36+[5]村里!K36+[6]村里!K36+[7]村里!K36+[8]村里!K36+[9]村里!K36+[10]村里!K36+[11]村里!K36+[12]村里!K36 -> 3 | L36: =[1]村里!L36+[2]村里!L36+[3]村里!L36+[4]村里!L36+[5]村里!L36+[6]村里!L36+[7]村里!L36+[8]村里!L36+[9]村里!L36+[10]村里!L36+[11]村里!L36+[12]村里!L36 -> 11 | M36: =[1]村里!M36+[2]村里!M36+[3]村里!M36+[4]村里!M36+[5]村里!M36+[6]村里!M36+[7]村里!M36+[8]村里!M36+[9]村里!M36+[10]村里!M36+[11]村里!M36+[12]村里!M36 -> 0 | N36: =[1]村里!N36+[2]村里!N36+[3]村里!N36+[4]村里!N36+[5]村里!N36+[6]村里!N36+[7]村里!N36+[8]村里!N36+[9]村里!N36+[10]村里!N36+[11]村里!N36+[12]村里!N36 -> 0 | ... T36: =[1]村里!T36+[2]村里!T36+[3]村里!T36+[4]村里!T36+[5]村里!T36+[6]村里!T36+[7]村里!T36+[8]村里!T36+[9]村里!T36+[10]村里!T36+[11]村里!T36+[12]村里!T36 -> 4
E37: 女 | F37: 690 | G37: =[1]村里!G37+[2]村里!G37+[3]村里!G37+[4]村里!G37+[5]村里!G37+[6]村里!G37+[7]村里!G37+[8]村里!G37+[9]村里!G37+[10]村里!G37+[11]村里!G37+[12]村里!G37 -> 23 | H37: =[1]村里!H37+[2]村里!H37+[3]村里!H37+[4]村里!H37+[5]村里!H37+[6]村里!H37+[7]村里!H37+[8]村里!H37+[9]村里!H37+[10]村里!H37+[11]村里!H37+[12]村里!H37 -> 28 | I37: =[1]村里!I37+[2]村里!I37+[3]村里!I37+[4]村里!I37+[5]村里!I37+[6]村里!I37+[7]村里!I37+[8]村里!I37+[9]村里!I37+[10]村里!I37+[11]村里!I37+[12]村里!I37 -> 13 | J37: =[1]村里!J37+[2]村里!J37+[3]村里!J37+[4]村里!J37+[5]村里!J37+[6]村里!J37+[7]村里!J37+[8]村里!J37+[9]村里!J37+[10]村里!J37+[11]村里!J37+[12]村里!J37 -> 28 | K37: =[1]村里!K37+[2]村里!K37+[3]村里!K37+[4]村里!K37+[5]村里!K37+[6]村里!K37+[7]村里!K37+[8]村里!K37+[9]村里!K37+[10]村里!K37+[11]村里!K37+[12]村里!K37 -> 2 | L37: =[1]村里!L37+[2]村里!L37+[3]村里!L37+[4]村里!L37+[5]村里!L37+[6]村里!L37+[7]村里!L37+[8]村里!L37+[9]村里!L37+[10]村里!L37+[11]村里!L37+[12]村里!L37 -> 10 | M37: =[1]村里!M37+[2]村里!M37+[3]村里!M37+[4]村里!M37+[5]村里!M37+[6]村里!M37+[7]村里!M37+[8]村里!M37+[9]村里!M37+[10]村里!M37+[11]村里!M37+[12]村里!M37 -> 0 | N37: =[1]村里!N37+[2]村里!N37+[3]村里!N37+[4]村里!N37+[5]村里!N37+[6]村里!N37+[7]村里!N37+[8]村里!N37+[9]村里!N37+[10]村里!N37+[11]村里!N37+[12]村里!N37 -> 0 | ... R37: =[1]村里!R37+[2]村里!R37+[3]村里!R37+[4]村里!R37+[5]村里!R37+[6]村里!R37+[7]村里!R37+[8]村里!R37+[9]村里!R37+[10]村里!R37+[11]村里!R37+[12]村里!R37 -> 1
E38: 計 | F38: 6213 | G38: =[1]村里!G38+[2]村里!G38+[3]村里!G38+[4]村里!G38+[5]村里!G38+[6]村里!G38+[7]村里!G38+[8]村里!G38+[9]村里!G38+[10]村里!G38+[11]村里!G38+[12]村里!G38 -> 228 | H38: =[1]村里!H38+[2]村里!H38+[3]村里!H38+[4]村里!H38+[5]村里!H38+[6]村里!H38+[7]村里!H38+[8]村里!H38+[9]村里!H38+[10]村里!H38+[11]村里!H38+[12]村里!H38 -> 288 | I38: =[1]村里!I38+[2]村里!I38+[3]村里!I38+[4]村里!I38+[5]村里!I38+[6]村里!I38+[7]村里!I38+[8]村里!I38+[9]村里!I38+[10]村里!I38+[11]村里!I38+[12]村里!I38 -> 207 | J38: =[1]村里!J38+[2]村里!J38+[3]村里!J38+[4]村里!J38+[5]村里!J38+[6]村里!J38+[7]村里!J38+[8]村里!J38+[9]村里!J38+[10]村里!J38+[11]村里!J38+[12]村里!J38 -> 239 | K38: =[1]村里!K38+[2]村里!K38+[3]村里!K38+[4]村里!K38+[5]村里!K38+[6]村里!K38+[7]村里!K38+[8]村里!K38+[9]村里!K38+[10]村里!K38+[11]村里!K38+[12]村里!K38 -> 45 | L38: =[1]村里!L38+[2]村里!L38+[3]村里!L38+[4]村里!L38+[5]村里!L38+[6]村里!L38+[7]村里!L38+[8]村里!L38+[9]村里!L38+[10]村里!L38+[11]村里!L38+[12]村里!L38 -> 35 | M38: =[1]村里!M38+[2]村里!M38+[3]村里!M38+[4]村里!M38+[5]村里!M38+[6]村里!M38+[7]村里!M38+[8]村里!M38+[9]村里!M38+[10]村里!M38+[11]村里!M38+[12]村里!M38 -> 1 | N38: =[1]村里!N38+[2]村里!N38+[3]村里!N38+[4]村里!N38+[5]村里!N38+[6]村里!N38+[7]村里!N38+[8]村里!N38+[9]村里!N38+[10]村里!N38+[11]村里!N38+[12]村里!N38 -> 0 | ... R38: =[1]村里!R38+[2]村里!R38+[3]村里!R38+[4]村里!R38+[5]村里!R38+[6]村里!R38+[7]村里!R38+[8]村里!R38+[9]村里!R38+[10]村里!R38+[11]村里!R38+[12]村里!R38 -> 12
A39: 朝陽里 | B39: 1 | C39: 37 | D39: 2292 | E39: 男 | F39: 3031 | G39: =[1]村里!G39+[2]村里!G39+[3]村里!G39+[4]村里!G39+[5]村里!G39+[6]村里!G39+[7]村里!G39+[8]村里!G39+[9]村里!G39+[10]村里!G39+[11]村里!G39+[12]村里!G39 -> 115 | H39: =[1]村里!H39+[2]村里!H39+[3]村里!H39+[4]村里!H39+[5]村里!H39+[6]村里!H39+[7]村里!H39+[8]村里!H39+[9]村里!H39+[10]村里!H39+[11]村里!H39+[12]村里!H39 -> 143 | I39: =[1]村里!I39+[2]村里!I39+[3]村里!I39+[4]村里!I39+[5]村里!I39+[6]村里!I39+[7]村里!I39+[8]村里!I39+[9]村里!I39+[10]村里!I39+[11]村里!I39+[12]村里!I39 -> 106 | J39: =[1]村里!J39+[2]村里!J39+[3]村里!J39+[4]村里!J39+[5]村里!J39+[6]村里!J39+[7]村里!J39+[8]村里!J39+[9]村里!J39+[10]村里!J39+[11]村里!J39+[12]村里!J39 -> 123 | K39: =[1]村里!K39+[2]村里!K39+[3]村里!K39+[4]村里!K39+[5]村里!K39+[6]村里!K39+[7]村里!K39+[8]村里!K39+[9]村里!K39+[10]村里!K39+[11]村里!K39+[12]村里!K39 -> 22 | L39: =[1]村里!L39+[2]村里!L39+[3]村里!L39+[4]村里!L39+[5]村里!L39+[6]村里!L39+[7]村里!L39+[8]村里!L39+[9]村里!L39+[10]村里!L39+[11]村里!L39+[12]村里!L39 -> 20 | M39: =[1]村里!M39+[2]村里!M39+[3]村里!M39+[4]村里!M39+[5]村里!M39+[6]村里!M39+[7]村里!M39+[8]村里!M39+[9]村里!M39+[10]村里!M39+[11]村里!M39+[12]村里!M39 -> 1 | N39: =[1]村里!N39+[2]村里!N39+[3]村里!N39+[4]村里!N39+[5]村里!N39+[6]村里!N39+[7]村里!N39+[8]村里!N39+[9]村里!N39+[10]村里!N39+[11]村里!N39+[12]村里!N39 -> 0 | ... T39: =[1]村里!T39+[2]村里!T39+[3]村里!T39+[4]村里!T39+[5]村里!T39+[6]村里!T39+[7]村里!T39+[8]村里!T39+[9]村里!T39+[10]村里!T39+[11]村里!T39+[12]村里!T39 -> 9
E40: 女 | F40: 3182 | G40: =[1]村里!G40+[2]村里!G40+[3]村里!G40+[4]村里!G40+[5]村里!G40+[6]村里!G40+[7]村里!G40+[8]村里!G40+[9]村里!G40+[10]村里!G40+[11]村里!G40+[12]村里!G40 -> 113 | H40: =[1]村里!H40+[2]村里!H40+[3]村里!H40+[4]村里!H40+[5]村里!H40+[6]村里!H40+[7]村里!H40+[8]村里!H40+[9]村里!H40+[10]村里!H40+[11]村里!H40+[12]村里!H40 -> 145 | I40: =[1]村里!I40+[2]村里!I40+[3]村里!I40+[4]村里!I40+[5]村里!I40+[6]村里!I40+[7]村里!I40+[8]村里!I40+[9]村里!I40+[10]村里!I40+[11]村里!I40+[12]村里!I40 -> 101 | J40: =[1]村里!J40+[2]村里!J40+[3]村里!J40+[4]村里!J40+[5]村里!J40+[6]村里!J40+[7]村里!J40+[8]村里!J40+[9]村里!J40+[10]村里!J40+[11]村里!J40+[12]村里!J40 -> 116 | K40: =[1]村里!K40+[2]村里!K40+[3]村里!K40+[4]村里!K40+[5]村里!K40+[6]村里!K40+[7]村里!K40+[8]村里!K40+[9]村里!K40+[10]村里!K40+[11]村里!K40+[12]村里!K40 -> 23 | L40: =[1]村里!L40+[2]村里!L40+[3]村里!L40+[4]村里!L40+[5]村里!L40+[6]村里!L40+[7]村里!L40+[8]村里!L40+[9]村里!L40+[10]村里!L40+[11]村里!L40+[12]村里!L40 -> 15 | M40: =[1]村里!M40+[2]村里!M40+[3]村里!M40+[4]村里!M40+[5]村里!M40+[6]村里!M40+[7]村里!M40+[8]村里!M40+[9]村里!M40+[10]村里!M40+[11]村里!M40+[12]村里!M40 -> 0 | N40: =[1]村里!N40+[2]村里!N40+[3]村里!N40+[4]村里!N40+[5]村里!N40+[6]村里!N40+[7]村里!N40+[8]村里!N40+[9]村里!N40+[10]村里!N40+[11]村里!N40+[12]村里!N40 -> 0 | ... R40: =[1]村里!R40+[2]村里!R40+[3]村里!R40+[4]村里!R40+[5]村里!R40+[6]村里!R40+[7]村里!R40+[8]村里!R40+[9]村里!R40+[10]村里!R40+[11]村里!R40+[12]村里!R40 -> 6
E41: 計 | F41: 2903 | G41: =[1]村里!G41+[2]村里!G41+[3]村里!G41+[4]村里!G41+[5]村里!G41+[6]村里!G41+[7]村里!G41+[8]村里!G41+[9]村里!G41+[10]村里!G41+[11]村里!G41+[12]村里!G41 -> 115 | H41: =[1]村里!H41+[2]村里!H41+[3]村里!H41+[4]村里!H41+[5]村里!H41+[6]村里!H41+[7]村里!H41+[8]村里!H41+[9]村里!H41+[10]村里!H41+[11]村里!H41+[12]村里!H41 -> 121 | I41: =[1]村里!I41+[2]村里!I41+[3]村里!I41+[4]村里!I41+[5]村里!I41+[6]村里!I41+[7]村里!I41+[8]村里!I41+[9]村里!I41+[10]村里!I41+[11]村里!I41+[12]村里!I41 -> 98 | J41: =[1]村里!J41+[2]村里!J41+[3]村里!J41+[4]村里!J41+[5]村里!J41+[6]村里!J41+[7]村里!J41+[8]村里!J41+[9]村里!J41+[10]村里!J41+[11]村里!J41+[12]村里!J41 -> 109 | K41: =[1]村里!K41+[2]村里!K41+[3]村里!K41+[4]村里!K41+[5]村里!K41+[6]村里!K41+[7]村里!K41+[8]村里!K41+[9]村里!K41+[10]村里!K41+[11]村里!K41+[12]村里!K41 -> 13 | L41: =[1]村里!L41+[2]村里!L41+[3]村里!L41+[4]村里!L41+[5]村里!L41+[6]村里!L41+[7]村里!L41+[8]村里!L41+[9]村里!L41+[10]村里!L41+[11]村里!L41+[12]村里!L41 -> 14 | M41: =[1]村里!M41+[2]村里!M41+[3]村里!M41+[4]村里!M41+[5]村里!M41+[6]村里!M41+[7]村里!M41+[8]村里!M41+[9]村里!M41+[10]村里!M41+[11]村里!M41+[12]村里!M41 -> 2 | N41: =[1]村里!N41+[2]村里!N41+[3]村里!N41+[4]村里!N41+[5]村里!N41+[6]村里!N41+[7]村里!N41+[8]村里!N41+[9]村里!N41+[10]村里!N41+[11]村里!N41+[12]村里!N41 -> 0 | ... R41: =[1]村里!R41+[2]村里!R41+[3]村里!R41+[4]村里!R41+[5]村里!R41+[6]村里!R41+[7]村里!R41+[8]村里!R41+[9]村里!R41+[10]村里!R41+[11]村里!R41+[12]村里!R41 -> 10
A42: 陽明里 | B42: 1 | C42: 28 | D42: 1126 | E42: 男 | F42: 1436 | G42: =[1]村里!G42+[2]村里!G42+[3]村里!G42+[4]村里!G42+[5]村里!G42+[6]村里!G42+[7]村里!G42+[8]村里!G42+[9]村里!G42+[10]村里!G42+[11]村里!G42+[12]村里!G42 -> 63 | H42: =[1]村里!H42+[2]村里!H42+[3]村里!H42+[4]村里!H42+[5]村里!H42+[6]村里!H42+[7]村里!H42+[8]村里!H42+[9]村里!H42+[10]村里!H42+[11]村里!H42+[12]村里!H42 -> 58 | I42: =[1]村里!I42+[2]村里!I42+[3]村里!I42+[4]村里!I42+[5]村里!I42+[6]村里!I42+[7]村里!I42+[8]村里!I42+[9]村里!I42+[10]村里!I42+[11]村里!I42+[12]村里!I42 -> 44 | J42: =[1]村里!J42+[2]村里!J42+[3]村里!J42+[4]村里!J42+[5]村里!J42+[6]村里!J42+[7]村里!J42+[8]村里!J42+[9]村里!J42+[10]村里!J42+[11]村里!J42+[12]村里!J42 -> 56 | K42: =[1]村里!K42+[2]村里!K42+[3]村里!K42+[4]村里!K42+[5]村里!K42+[6]村里!K42+[7]村里!K42+[8]村里!K42+[9]村里!K42+[10]村里!K42+[11]村里!K42+[12]村里!K42 -> 7 | L42: =[1]村里!L42+[2]村里!L42+[3]村里!L42+[4]村里!L42+[5]村里!L42+[6]村里!L42+[7]村里!L42+[8]村里!L42+[9]村里!L42+[10]村里!L42+[11]村里!L42+[12]村里!L42 -> 4 | M42: =[1]村里!M42+[2]村里!M42+[3]村里!M42+[4]村里!M42+[5]村里!M42+[6]村里!M42+[7]村里!M42+[8]村里!M42+[9]村里!M42+[10]村里!M42+[11]村里!M42+[12]村里!M42 -> 1 | N42: =[1]村里!N42+[2]村里!N42+[3]村里!N42+[4]村里!N42+[5]村里!N42+[6]村里!N42+[7]村里!N42+[8]村里!N42+[9]村里!N42+[10]村里!N42+[11]村里!N42+[12]村里!N42 -> 0 | ... T42: =[1]村里!T42+[2]村里!T42+[3]村里!T42+[4]村里!T42+[5]村里!T42+[6]村里!T42+[7]村里!T42+[8]村里!T42+[9]村里!T42+[10]村里!T42+[11]村里!T42+[12]村里!T42 -> 8
E43: 女 | F43: 1467 | G43: =[1]村里!G43+[2]村里!G43+[3]村里!G43+[4]村里!G43+[5]村里!G43+[6]村里!G43+[7]村里!G43+[8]村里!G43+[9]村里!G43+[10]村里!G43+[11]村里!G43+[12]村里!G43 -> 52 | H43: =[1]村里!H43+[2]村里!H43+[3]村里!H43+[4]村里!H43+[5]村里!H43+[6]村里!H43+[7]村里!H43+[8]村里!H43+[9]村里!H43+[10]村里!H43+[11]村里!H43+[12]村里!H43 -> 63 | I43: =[1]村里!I43+[2]村里!I43+[3]村里!I43+[4]村里!I43+[5]村里!I43+[6]村里!I43+[7]村里!I43+[8]村里!I43+[9]村里!I43+[10]村里!I43+[11]村里!I43+[12]村里!I43 -> 54 | J43: =[1]村里!J43+[2]村里!J43+[3]村里!J43+[4]村里!J43+[5]村里!J43+[6]村里!J43+[7]村里!J43+[8]村里!J43+[9]村里!J43+[10]村里!J43+[11]村里!J43+[12]村里!J43 -> 53 | K43: =[1]村里!K43+[2]村里!K43+[3]村里!K43+[4]村里!K43+[5]村里!K43+[6]村里!K43+[7]村里!K43+[8]村里!K43+[9]村里!K43+[10]村里!K43+[11]村里!K43+[12]村里!K43 -> 6 | L43: =[1]村里!L43+[2]村里!L43+[3]村里!L43+[4]村里!L43+[5]村里!L43+[6]村里!L43+[7]村里!L43+[8]村里!L43+[9]村里!L43+[10]村里!L43+[11]村里!L43+[12]村里!L43 -> 10 | M43: =[1]村里!M43+[2]村里!M43+[3]村里!M43+[4]村里!M43+[5]村里!M43+[6]村里!M43+[7]村里!M43+[8]村里!M43+[9]村里!M43+[10]村里!M43+[11]村里!M43+[12]村里!M43 -> 1 | N43: =[1]村里!N43+[2]村里!N43+[3]村里!N43+[4]村里!N43+[5]村里!N43+[6]村里!N43+[7]村里!N43+[8]村里!N43+[9]村里!N43+[10]村里!N43+[11]村里!N43+[12]村里!N43 -> 0 | ... R43: =[1]村里!R43+[2]村里!R43+[3]村里!R43+[4]村里!R43+[5]村里!R43+[6]村里!R43+[7]村里!R43+[8]村里!R43+[9]村里!R43+[10]村里!R43+[11]村里!R43+[12]村里!R43 -> 4
E44: 計 | F44: 1709 | G44: =[1]村里!G44+[2]村里!G44+[3]村里!G44+[4]村里!G44+[5]村里!G44+[6]村里!G44+[7]村里!G44+[8]村里!G44+[9]村里!G44+[10]村里!G44+[11]村里!G44+[12]村里!G44 -> 72 | H44: =[1]村里!H44+[2]村里!H44+[3]村里!H44+[4]村里!H44+[5]村里!H44+[6]村里!H44+[7]村里!H44+[8]村里!H44+[9]村里!H44+[10]村里!H44+[11]村里!H44+[12]村里!H44 -> 79 | I44: =[1]村里!I44+[2]村里!I44+[3]村里!I44+[4]村里!I44+[5]村里!I44+[6]村里!I44+[7]村里!I44+[8]村里!I44+[9]村里!I44+[10]村里!I44+[11]村里!I44+[12]村里!I44 -> 62 | J44: =[1]村里!J44+[2]村里!J44+[3]村里!J44+[4]村里!J44+[5]村里!J44+[6]村里!J44+[7]村里!J44+[8]村里!J44+[9]村里!J44+[10]村里!J44+[11]村里!J44+[12]村里!J44 -> 59 | K44: =[1]村里!K44+[2]村里!K44+[3]村里!K44+[4]村里!K44+[5]村里!K44+[6]村里!K44+[7]村里!K44+[8]村里!K44+[9]村里!K44+[10]村里!K44+[11]村里!K44+[12]村里!K44 -> 15 | L44: =[1]村里!L44+[2]村里!L44+[3]村里!L44+[4]村里!L44+[5]村里!L44+[6]村里!L44+[7]村里!L44+[8]村里!L44+[9]村里!L44+[10]村里!L44+[11]村里!L44+[12]村里!L44 -> 13 | M44: =[1]村里!M44+[2]村里!M44+[3]村里!M44+[4]村里!M44+[5]村里!M44+[6]村里!M44+[7]村里!M44+[8]村里!M44+[9]村里!M44+[10]村里!M44+[11]村里!M44+[12]村里!M44 -> 0 | N44: =[1]村里!N44+[2]村里!N44+[3]村里!N44+[4]村里!N44+[5]村里!N44+[6]村里!N44+[7]村里!N44+[8]村里!N44+[9]村里!N44+[10]村里!N44+[11]村里!N44+[12]村里!N44 -> 0 | ... R44: =[1]村里!R44+[2]村里!R44+[3]村里!R44+[4]村里!R44+[5]村里!R44+[6]村里!R44+[7]村里!R44+[8]村里!R44+[9]村里!R44+[10]村里!R44+[11]村里!R44+[12]村里!R44 -> 1
A45: 重光里 | B45: 1 | C45: 13 | D45: 627 | E45: 男 | F45: 873 | G45: =[1]村里!G45+[2]村里!G45+[3]村里!G45+[4]村里!G45+[5]村里!G45+[6]村里!G45+[7]村里!G45+[8]村里!G45+[9]村里!G45+[10]村里!G45+[11]村里!G45+[12]村里!G45 -> 39 | H45: =[1]村里!H45+[2]村里!H45+[3]村里!H45+[4]村里!H45+[5]村里!H45+[6]村里!H45+[7]村里!H45+[8]村里!H45+[9]村里!H45+[10]村里!H45+[11]村里!H45+[12]村里!H45 -> 43 | I45: =[1]村里!I45+[2]村里!I45+[3]村里!I45+[4]村里!I45+[5]村里!I45+[6]村里!I45+[7]村里!I45+[8]村里!I45+[9]村里!I45+[10]村里!I45+[11]村里!I45+[12]村里!I45 -> 25 | J45: =[1]村里!J45+[2]村里!J45+[3]村里!J45+[4]村里!J45+[5]村里!J45+[6]村里!J45+[7]村里!J45+[8]村里!J45+[9]村里!J45+[10]村里!J45+[11]村里!J45+[12]村里!J45 -> 26 | K45: =[1]村里!K45+[2]村里!K45+[3]村里!K45+[4]村里!K45+[5]村里!K45+[6]村里!K45+[7]村里!K45+[8]村里!K45+[9]村里!K45+[10]村里!K45+[11]村里!K45+[12]村里!K45 -> 8 | L45: =[1]村里!L45+[2]村里!L45+[3]村里!L45+[4]村里!L45+[5]村里!L45+[6]村里!L45+[7]村里!L45+[8]村里!L45+[9]村里!L45+[10]村里!L45+[11]村里!L45+[12]村里!L45 -> 5 | M45: =[1]村里!M45+[2]村里!M45+[3]村里!M45+[4]村里!M45+[5]村里!M45+[6]村里!M45+[7]村里!M45+[8]村里!M45+[9]村里!M45+[10]村里!M45+[11]村里!M45+[12]村里!M45 -> 0 | N45: =[1]村里!N45+[2]村里!N45+[3]村里!N45+[4]村里!N45+[5]村里!N45+[6]村里!N45+[7]村里!N45+[8]村里!N45+[9]村里!N45+[10]村里!N45+[11]村里!N45+[12]村里!N45 -> 0 | ... T45: =[1]村里!T45+[2]村里!T45+[3]村里!T45+[4]村里!T45+[5]村里!T45+[6]村里!T45+[7]村里!T45+[8]村里!T45+[9]村里!T45+[10]村里!T45+[11]村里!T45+[12]村里!T45 -> 3
E46: 女 | F46: 836 | G46: =[1]村里!G46+[2]村里!G46+[3]村里!G46+[4]村里!G46+[5]村里!G46+[6]村里!G46+[7]村里!G46+[8]村里!G46+[9]村里!G46+[10]村里!G46+[11]村里!G46+[12]村里!G46 -> 33 | H46: =[1]村里!H46+[2]村里!H46+[3]村里!H46+[4]村里!H46+[5]村里!H46+[6]村里!H46+[7]村里!H46+[8]村里!H46+[9]村里!H46+[10]村里!H46+[11]村里!H46+[12]村里!H46 -> 36 | I46: =[1]村里!I46+[2]村里!I46+[3]村里!I46+[4]村里!I46+[5]村里!I46+[6]村里!I46+[7]村里!I46+[8]村里!I46+[9]村里!I46+[10]村里!I46+[11]村里!I46+[12]村里!I46 -> 37 | J46: =[1]村里!J46+[2]村里!J46+[3]村里!J46+[4]村里!J46+[5]村里!J46+[6]村里!J46+[7]村里!J46+[8]村里!J46+[9]村里!J46+[10]村里!J46+[11]村里!J46+[12]村里!J46 -> 33 | K46: =[1]村里!K46+[2]村里!K46+[3]村里!K46+[4]村里!K46+[5]村里!K46+[6]村里!K46+[7]村里!K46+[8]村里!K46+[9]村里!K46+[10]村里!K46+[11]村里!K46+[12]村里!K46 -> 7 | L46: =[1]村里!L46+[2]村里!L46+[3]村里!L46+[4]村里!L46+[5]村里!L46+[6]村里!L46+[7]村里!L46+[8]村里!L46+[9]村里!L46+[10]村里!L46+[11]村里!L46+[12]村里!L46 -> 8 | M46: =[1]村里!M46+[2]村里!M46+[3]村里!M46+[4]村里!M46+[5]村里!M46+[6]村里!M46+[7]村里!M46+[8]村里!M46+[9]村里!M46+[10]村里!M46+[11]村里!M46+[12]村里!M46 -> 0 | N46: =[1]村里!N46+[2]村里!N46+[3]村里!N46+[4]村里!N46+[5]村里!N46+[6]村里!N46+[7]村里!N46+[8]村里!N46+[9]村里!N46+[10]村里!N46+[11]村里!N46+[12]村里!N46 -> 0 | ... R46: =[1]村里!R46+[2]村里!R46+[3]村里!R46+[4]村里!R46+[5]村里!R46+[6]村里!R46+[7]村里!R46+[8]村里!R46+[9]村里!R46+[10]村里!R46+[11]村里!R46+[12]村里!R46 -> 1
E47: 計 | F47: 6912 | G47: =[1]村里!G47+[2]村里!G47+[3]村里!G47+[4]村里!G47+[5]村里!G47+[6]村里!G47+[7]村里!G47+[8]村里!G47+[9]村里!G47+[10]村里!G47+[11]村里!G47+[12]村里!G47 -> 669 | H47: =[1]村里!H47+[2]村里!H47+[3]村里!H47+[4]村里!H47+[5]村里!H47+[6]村里!H47+[7]村里!H47+[8]村里!H47+[9]村里!H47+[10]村里!H47+[11]村里!H47+[12]村里!H47 -> 523 | I47: =[1]村里!I47+[2]村里!I47+[3]村里!I47+[4]村里!I47+[5]村里!I47+[6]村里!I47+[7]村里!I47+[8]村里!I47+[9]村里!I47+[10]村里!I47+[11]村里!I47+[12]村里!I47 -> 251 | J47: =[1]村里!J47+[2]村里!J47+[3]村里!J47+[4]村里!J47+[5]村里!J47+[6]村里!J47+[7]村里!J47+[8]村里!J47+[9]村里!J47+[10]村里!J47+[11]村里!J47+[12]村里!J47 -> 295 | K47: =[1]村里!K47+[2]村里!K47+[3]村里!K47+[4]村里!K47+[5]村里!K47+[6]村里!K47+[7]村里!K47+[8]村里!K47+[9]村里!K47+[10]村里!K47+[11]村里!K47+[12]村里!K47 -> 42 | L47: =[1]村里!L47+[2]村里!L47+[3]村里!L47+[4]村里!L47+[5]村里!L47+[6]村里!L47+[7]村里!L47+[8]村里!L47+[9]村里!L47+[10]村里!L47+[11]村里!L47+[12]村里!L47 -> 31 | M47: =[1]村里!M47+[2]村里!M47+[3]村里!M47+[4]村里!M47+[5]村里!M47+[6]村里!M47+[7]村里!M47+[8]村里!M47+[9]村里!M47+[10]村里!M47+[11]村里!M47+[12]村里!M47 -> 0 | N47: =[1]村里!N47+[2]村里!N47+[3]村里!N47+[4]村里!N47+[5]村里!N47+[6]村里!N47+[7]村里!N47+[8]村里!N47+[9]村里!N47+[10]村里!N47+[11]村里!N47+[12]村里!N47 -> 1 | ... R47: =[1]村里!R47+[2]村里!R47+[3]村里!R47+[4]村里!R47+[5]村里!R47+[6]村里!R47+[7]村里!R47+[8]村里!R47+[9]村里!R47+[10]村里!R47+[11]村里!R47+[12]村里!R47 -> 22
A48: 西衛里 | B48: 1 | C48: 30 | D48: 3585 | E48: 男 | F48: 3522 | G48: =[1]村里!G48+[2]村里!G48+[3]村里!G48+[4]村里!G48+[5]村里!G48+[6]村里!G48+[7]村里!G48+[8]村里!G48+[9]村里!G48+[10]村里!G48+[11]村里!G48+[12]村里!G48 -> 359 | H48: =[1]村里!H48+[2]村里!H48+[3]村里!H48+[4]村里!H48+[5]村里!H48+[6]村里!H48+[7]村里!H48+[8]村里!H48+[9]村里!H48+[10]村里!H48+[11]村里!H48+[12]村里!H48 -> 280 | I48: =[1]村里!I48+[2]村里!I48+[3]村里!I48+[4]村里!I48+[5]村里!I48+[6]村里!I48+[7]村里!I48+[8]村里!I48+[9]村里!I48+[10]村里!I48+[11]村里!I48+[12]村里!I48 -> 121 | J48: =[1]村里!J48+[2]村里!J48+[3]村里!J48+[4]村里!J48+[5]村里!J48+[6]村里!J48+[7]村里!J48+[8]村里!J48+[9]村里!J48+[10]村里!J48+[11]村里!J48+[12]村里!J48 -> 150 | K48: =[1]村里!K48+[2]村里!K48+[3]村里!K48+[4]村里!K48+[5]村里!K48+[6]村里!K48+[7]村里!K48+[8]村里!K48+[9]村里!K48+[10]村里!K48+[11]村里!K48+[12]村里!K48 -> 27 | L48: =[1]村里!L48+[2]村里!L48+[3]村里!L48+[4]村里!L48+[5]村里!L48+[6]村里!L48+[7]村里!L48+[8]村里!L48+[9]村里!L48+[10]村里!L48+[11]村里!L48+[12]村里!L48 -> 19 | M48: =[1]村里!M48+[2]村里!M48+[3]村里!M48+[4]村里!M48+[5]村里!M48+[6]村里!M48+[7]村里!M48+[8]村里!M48+[9]村里!M48+[10]村里!M48+[11]村里!M48+[12]村里!M48 -> 0 | N48: =[1]村里!N48+[2]村里!N48+[3]村里!N48+[4]村里!N48+[5]村里!N48+[6]村里!N48+[7]村里!N48+[8]村里!N48+[9]村里!N48+[10]村里!N48+[11]村里!N48+[12]村里!N48 -> 1 | ... T48: =[1]村里!T48+[2]村里!T48+[3]村里!T48+[4]村里!T48+[5]村里!T48+[6]村里!T48+[7]村里!T48+[8]村里!T48+[9]村里!T48+[10]村里!T48+[11]村里!T48+[12]村里!T48 -> 12
E49: 女 | F49: 3390 | G49: =[1]村里!G49+[2]村里!G49+[3]村里!G49+[4]村里!G49+[5]村里!G49+[6]村里!G49+[7]村里!G49+[8]村里!G49+[9]村里!G49+[10]村里!G49+[11]村里!G49+[12]村里!G49 -> 310 | H49: =[1]村里!H49+[2]村里!H49+[3]村里!H49+[4]村里!H49+[5]村里!H49+[6]村里!H49+[7]村里!H49+[8]村里!H49+[9]村里!H49+[10]村里!H49+[11]村里!H49+[12]村里!H49 -> 243 | I49: =[1]村里!I49+[2]村里!I49+[3]村里!I49+[4]村里!I49+[5]村里!I49+[6]村里!I49+[7]村里!I49+[8]村里!I49+[9]村里!I49+[10]村里!I49+[11]村里!I49+[12]村里!I49 -> 130 | J49: =[1]村里!J49+[2]村里!J49+[3]村里!J49+[4]村里!J49+[5]村里!J49+[6]村里!J49+[7]村里!J49+[8]村里!J49+[9]村里!J49+[10]村里!J49+[11]村里!J49+[12]村里!J49 -> 145 | K49: =[1]村里!K49+[2]村里!K49+[3]村里!K49+[4]村里!K49+[5]村里!K49+[6]村里!K49+[7]村里!K49+[8]村里!K49+[9]村里!K49+[10]村里!K49+[11]村里!K49+[12]村里!K49 -> 15 | L49: =[1]村里!L49+[2]村里!L49+[3]村里!L49+[4]村里!L49+[5]村里!L49+[6]村里!L49+[7]村里!L49+[8]村里!L49+[9]村里!L49+[10]村里!L49+[11]村里!L49+[12]村里!L49 -> 12 | M49: =[1]村里!M49+[2]村里!M49+[3]村里!M49+[4]村里!M49+[5]村里!M49+[6]村里!M49+[7]村里!M49+[8]村里!M49+[9]村里!M49+[10]村里!M49+[11]村里!M49+[12]村里!M49 -> 0 | N49: =[1]村里!N49+[2]村里!N49+[3]村里!N49+[4]村里!N49+[5]村里!N49+[6]村里!N49+[7]村里!N49+[8]村里!N49+[9]村里!N49+[10]村里!N49+[11]村里!N49+[12]村里!N49 -> 0 | ... R49: =[1]村里!R49+[2]村里!R49+[3]村里!R49+[4]村里!R49+[5]村里!R49+[6]村里!R49+[7]村里!R49+[8]村里!R49+[9]村里!R49+[10]村里!R49+[11]村里!R49+[12]村里!R49 -> 8
E50: 計 | F50: 3859 | G50: =[1]村里!G50+[2]村里!G50+[3]村里!G50+[4]村里!G50+[5]村里!G50+[6]村里!G50+[7]村里!G50+[8]村里!G50+[9]村里!G50+[10]村里!G50+[11]村里!G50+[12]村里!G50 -> 172 | H50: =[1]村里!H50+[2]村里!H50+[3]村里!H50+[4]村里!H50+[5]村里!H50+[6]村里!H50+[7]村里!H50+[8]村里!H50+[9]村里!H50+[10]村里!H50+[11]村里!H50+[12]村里!H50 -> 186 | I50: =[1]村里!I50+[2]村里!I50+[3]村里!I50+[4]村里!I50+[5]村里!I50+[6]村里!I50+[7]村里!I50+[8]村里!I50+[9]村里!I50+[10]村里!I50+[11]村里!I50+[12]村里!I50 -> 228 | J50: =[1]村里!J50+[2]村里!J50+[3]村里!J50+[4]村里!J50+[5]村里!J50+[6]村里!J50+[7]村里!J50+[8]村里!J50+[9]村里!J50+[10]村里!J50+[11]村里!J50+[12]村里!J50 -> 173 | K50: =[1]村里!K50+[2]村里!K50+[3]村里!K50+[4]村里!K50+[5]村里!K50+[6]村里!K50+[7]村里!K50+[8]村里!K50+[9]村里!K50+[10]村里!K50+[11]村里!K50+[12]村里!K50 -> 22 | L50: =[1]村里!L50+[2]村里!L50+[3]村里!L50+[4]村里!L50+[5]村里!L50+[6]村里!L50+[7]村里!L50+[8]村里!L50+[9]村里!L50+[10]村里!L50+[11]村里!L50+[12]村里!L50 -> 18 | M50: =[1]村里!M50+[2]村里!M50+[3]村里!M50+[4]村里!M50+[5]村里!M50+[6]村里!M50+[7]村里!M50+[8]村里!M50+[9]村里!M50+[10]村里!M50+[11]村里!M50+[12]村里!M50 -> 0 | N50: =[1]村里!N50+[2]村里!N50+[3]村里!N50+[4]村里!N50+[5]村里!N50+[6]村里!N50+[7]村里!N50+[8]村里!N50+[9]村里!N50+[10]村里!N50+[11]村里!N50+[12]村里!N50 -> 0 | ... R50: =[1]村里!R50+[2]村里!R50+[3]村里!R50+[4]村里!R50+[5]村里!R50+[6]村里!R50+[7]村里!R50+[8]村里!R50+[9]村里!R50+[10]村里!R50+[11]村里!R50+[12]村里!R50 -> 25
A51: 西文里 | B51: 1 | C51: 24 | D51: 1437 | E51: 男 | F51: 1941 | G51: =[1]村里!G51+[2]村里!G51+[3]村里!G51+[4]村里!G51+[5]村里!G51+[6]村里!G51+[7]村里!G51+[8]村里!G51+[9]村里!G51+[10]村里!G51+[11]村里!G51+[12]村里!G51 -> 96 | H51: =[1]村里!H51+[2]村里!H51+[3]村里!H51+[4]村里!H51+[5]村里!H51+[6]村里!H51+[7]村里!H51+[8]村里!H51+[9]村里!H51+[10]村里!H51+[11]村里!H51+[12]村里!H51 -> 103 | I51: =[1]村里!I51+[2]村里!I51+[3]村里!I51+[4]村里!I51+[5]村里!I51+[6]村里!I51+[7]村里!I51+[8]村里!I51+[9]村里!I51+[10]村里!I51+[11]村里!I51+[12]村里!I51 -> 104 | J51: =[1]村里!J51+[2]村里!J51+[3]村里!J51+[4]村里!J51+[5]村里!J51+[6]村里!J51+[7]村里!J51+[8]村里!J51+[9]村里!J51+[10]村里!J51+[11]村里!J51+[12]村里!J51 -> 78 | K51: =[1]村里!K51+[2]村里!K51+[3]村里!K51+[4]村里!K51+[5]村里!K51+[6]村里!K51+[7]村里!K51+[8]村里!K51+[9]村里!K51+[10]村里!K51+[11]村里!K51+[12]村里!K51 -> 11 | L51: =[1]村里!L51+[2]村里!L51+[3]村里!L51+[4]村里!L51+[5]村里!L51+[6]村里!L51+[7]村里!L51+[8]村里!L51+[9]村里!L51+[10]村里!L51+[11]村里!L51+[12]村里!L51 -> 9 | M51: =[1]村里!M51+[2]村里!M51+[3]村里!M51+[4]村里!M51+[5]村里!M51+[6]村里!M51+[7]村里!M51+[8]村里!M51+[9]村里!M51+[10]村里!M51+[11]村里!M51+[12]村里!M51 -> 0 | N51: =[1]村里!N51+[2]村里!N51+[3]村里!N51+[4]村里!N51+[5]村里!N51+[6]村里!N51+[7]村里!N51+[8]村里!N51+[9]村里!N51+[10]村里!N51+[11]村里!N51+[12]村里!N51 -> 0 | ... T51: =[1]村里!T51+[2]村里!T51+[3]村里!T51+[4]村里!T51+[5]村里!T51+[6]村里!T51+[7]村里!T51+[8]村里!T51+[9]村里!T51+[10]村里!T51+[11]村里!T51+[12]村里!T51 -> 11
E52: 女 | F52: 1918 | G52: =[1]村里!G52+[2]村里!G52+[3]村里!G52+[4]村里!G52+[5]村里!G52+[6]村里!G52+[7]村里!G52+[8]村里!G52+[9]村里!G52+[10]村里!G52+[11]村里!G52+[12]村里!G52 -> 76 | H52: =[1]村里!H52+[2]村里!H52+[3]村里!H52+[4]村里!H52+[5]村里!H52+[6]村里!H52+[7]村里!H52+[8]村里!H52+[9]村里!H52+[10]村里!H52+[11]村里!H52+[12]村里!H52 -> 83 | I52: =[1]村里!I52+[2]村里!I52+[3]村里!I52+[4]村里!I52+[5]村里!I52+[6]村里!I52+[7]村里!I52+[8]村里!I52+[9]村里!I52+[10]村里!I52+[11]村里!I52+[12]村里!I52 -> 124 | J52: =[1]村里!J52+[2]村里!J52+[3]村里!J52+[4]村里!J52+[5]村里!J52+[6]村里!J52+[7]村里!J52+[8]村里!J52+[9]村里!J52+[10]村里!J52+[11]村里!J52+[12]村里!J52 -> 95 | K52: =[1]村里!K52+[2]村里!K52+[3]村里!K52+[4]村里!K52+[5]村里!K52+[6]村里!K52+[7]村里!K52+[8]村里!K52+[9]村里!K52+[10]村里!K52+[11]村里!K52+[12]村里!K52 -> 11 | L52: =[1]村里!L52+[2]村里!L52+[3]村里!L52+[4]村里!L52+[5]村里!L52+[6]村里!L52+[7]村里!L52+[8]村里!L52+[9]村里!L52+[10]村里!L52+[11]村里!L52+[12]村里!L52 -> 9 | M52: =[1]村里!M52+[2]村里!M52+[3]村里!M52+[4]村里!M52+[5]村里!M52+[6]村里!M52+[7]村里!M52+[8]村里!M52+[9]村里!M52+[10]村里!M52+[11]村里!M52+[12]村里!M52 -> 0 | N52: =[1]村里!N52+[2]村里!N52+[3]村里!N52+[4]村里!N52+[5]村里!N52+[6]村里!N52+[7]村里!N52+[8]村里!N52+[9]村里!N52+[10]村里!N52+[11]村里!N52+[12]村里!N52 -> 0 | ... R52: =[1]村里!R52+[2]村里!R52+[3]村里!R52+[4]村里!R52+[5]村里!R52+[6]村里!R52+[7]村里!R52+[8]村里!R52+[9]村里!R52+[10]村里!R52+[11]村里!R52+[12]村里!R52 -> 13
E53: 計 | F53: 4019 | G53: =[1]村里!G53+[2]村里!G53+[3]村里!G53+[4]村里!G53+[5]村里!G53+[6]村里!G53+[7]村里!G53+[8]村里!G53+[9]村里!G53+[10]村里!G53+[11]村里!G53+[12]村里!G53 -> 171 | H53: =[1]村里!H53+[2]村里!H53+[3]村里!H53+[4]村里!H53+[5]村里!H53+[6]村里!H53+[7]村里!H53+[8]村里!H53+[9]村里!H53+[10]村里!H53+[11]村里!H53+[12]村里!H53 -> 178 | I53: =[1]村里!I53+[2]村里!I53+[3]村里!I53+[4]村里!I53+[5]村里!I53+[6]村里!I53+[7]村里!I53+[8]村里!I53+[9]村里!I53+[10]村里!I53+[11]村里!I53+[12]村里!I53 -> 194 | J53: =[1]村里!J53+[2]村里!J53+[3]村里!J53+[4]村里!J53+[5]村里!J53+[6]村里!J53+[7]村里!J53+[8]村里!J53+[9]村里!J53+[10]村里!J53+[11]村里!J53+[12]村里!J53 -> 190 | K53: =[1]村里!K53+[2]村里!K53+[3]村里!K53+[4]村里!K53+[5]村里!K53+[6]村里!K53+[7]村里!K53+[8]村里!K53+[9]村里!K53+[10]村里!K53+[11]村里!K53+[12]村里!K53 -> 33 | L53: =[1]村里!L53+[2]村里!L53+[3]村里!L53+[4]村里!L53+[5]村里!L53+[6]村里!L53+[7]村里!L53+[8]村里!L53+[9]村里!L53+[10]村里!L53+[11]村里!L53+[12]村里!L53 -> 27 | M53: =[1]村里!M53+[2]村里!M53+[3]村里!M53+[4]村里!M53+[5]村里!M53+[6]村里!M53+[7]村里!M53+[8]村里!M53+[9]村里!M53+[10]村里!M53+[11]村里!M53+[12]村里!M53 -> 1 | N53: =[1]村里!N53+[2]村里!N53+[3]村里!N53+[4]村里!N53+[5]村里!N53+[6]村里!N53+[7]村里!N53+[8]村里!N53+[9]村里!N53+[10]村里!N53+[11]村里!N53+[12]村里!N53 -> 1 | ... R53: =[1]村里!R53+[2]村里!R53+[3]村里!R53+[4]村里!R53+[5]村里!R53+[6]村里!R53+[7]村里!R53+[8]村里!R53+[9]村里!R53+[10]村里!R53+[11]村里!R53+[12]村里!R53 -> 27
A54: 東文里 | B54: 1 | C54: 18 | D54: 1374 | E54: 男 | F54: 1983 | G54: =[1]村里!G54+[2]村里!G54+[3]村里!G54+[4]村里!G54+[5]村里!G54+[6]村里!G54+[7]村里!G54+[8]村里!G54+[9]村里!G54+[10]村里!G54+[11]村里!G54+[12]村里!G54 -> 88 | H54: =[1]村里!H54+[2]村里!H54+[3]村里!H54+[4]村里!H54+[5]村里!H54+[6]村里!H54+[7]村里!H54+[8]村里!H54+[9]村里!H54+[10]村里!H54+[11]村里!H54+[12]村里!H54 -> 93 | I54: =[1]村里!I54+[2]村里!I54+[3]村里!I54+[4]村里!I54+[5]村里!I54+[6]村里!I54+[7]村里!I54+[8]村里!I54+[9]村里!I54+[10]村里!I54+[11]村里!I54+[12]村里!I54 -> 103 | J54: =[1]村里!J54+[2]村里!J54+[3]村里!J54+[4]村里!J54+[5]村里!J54+[6]村里!J54+[7]村里!J54+[8]村里!J54+[9]村里!J54+[10]村里!J54+[11]村里!J54+[12]村里!J54 -> 85 | K54: =[1]村里!K54+[2]村里!K54+[3]村里!K54+[4]村里!K54+[5]村里!K54+[6]村里!K54+[7]村里!K54+[8]村里!K54+[9]村里!K54+[10]村里!K54+[11]村里!K54+[12]村里!K54 -> 12 | L54: =[1]村里!L54+[2]村里!L54+[3]村里!L54+[4]村里!L54+[5]村里!L54+[6]村里!L54+[7]村里!L54+[8]村里!L54+[9]村里!L54+[10]村里!L54+[11]村里!L54+[12]村里!L54 -> 20 | M54: =[1]村里!M54+[2]村里!M54+[3]村里!M54+[4]村里!M54+[5]村里!M54+[6]村里!M54+[7]村里!M54+[8]村里!M54+[9]村里!M54+[10]村里!M54+[11]村里!M54+[12]村里!M54 -> 0 | N54: =[1]村里!N54+[2]村里!N54+[3]村里!N54+[4]村里!N54+[5]村里!N54+[6]村里!N54+[7]村里!N54+[8]村里!N54+[9]村里!N54+[10]村里!N54+[11]村里!N54+[12]村里!N54 -> 0 | ... T54: =[1]村里!T54+[2]村里!T54+[3]村里!T54+[4]村里!T54+[5]村里!T54+[6]村里!T54+[7]村里!T54+[8]村里!T54+[9]村里!T54+[10]村里!T54+[11]村里!T54+[12]村里!T54 -> 12
E55: 女 | F55: 2036 | G55: =[1]村里!G55+[2]村里!G55+[3]村里!G55+[4]村里!G55+[5]村里!G55+[6]村里!G55+[7]村里!G55+[8]村里!G55+[9]村里!G55+[10]村里!G55+[11]村里!G55+[12]村里!G55 -> 83 | H55: =[1]村里!H55+[2]村里!H55+[3]村里!H55+[4]村里!H55+[5]村里!H55+[6]村里!H55+[7]村里!H55+[8]村里!H55+[9]村里!H55+[10]村里!H55+[11]村里!H55+[12]村里!H55 -> 85 | I55: =[1]村里!I55+[2]村里!I55+[3]村里!I55+[4]村里!I55+[5]村里!I55+[6]村里!I55+[7]村里!I55+[8]村里!I55+[9]村里!I55+[10]村里!I55+[11]村里!I55+[12]村里!I55 -> 91 | J55: =[1]村里!J55+[2]村里!J55+[3]村里!J55+[4]村里!J55+[5]村里!J55+[6]村里!J55+[7]村里!J55+[8]村里!J55+[9]村里!J55+[10]村里!J55+[11]村里!J55+[12]村里!J55 -> 105 | K55: =[1]村里!K55+[2]村里!K55+[3]村里!K55+[4]村里!K55+[5]村里!K55+[6]村里!K55+[7]村里!K55+[8]村里!K55+[9]村里!K55+[10]村里!K55+[11]村里!K55+[12]村里!K55 -> 21 | L55: =[1]村里!L55+[2]村里!L55+[3]村里!L55+[4]村里!L55+[5]村里!L55+[6]村里!L55+[7]村里!L55+[8]村里!L55+[9]村里!L55+[10]村里!L55+[11]村里!L55+[12]村里!L55 -> 7 | M55: =[1]村里!M55+[2]村里!M55+[3]村里!M55+[4]村里!M55+[5]村里!M55+[6]村里!M55+[7]村里!M55+[8]村里!M55+[9]村里!M55+[10]村里!M55+[11]村里!M55+[12]村里!M55 -> 1 | N55: =[1]村里!N55+[2]村里!N55+[3]村里!N55+[4]村里!N55+[5]村里!N55+[6]村里!N55+[7]村里!N55+[8]村里!N55+[9]村里!N55+[10]村里!N55+[11]村里!N55+[12]村里!N55 -> 1 | ... R55: =[1]村里!R55+[2]村里!R55+[3]村里!R55+[4]村里!R55+[5]村里!R55+[6]村里!R55+[7]村里!R55+[8]村里!R55+[9]村里!R55+[10]村里!R55+[11]村里!R55+[12]村里!R55 -> 17
E56: 計 | F56: 2066 | G56: =[1]村里!G56+[2]村里!G56+[3]村里!G56+[4]村里!G56+[5]村里!G56+[6]村里!G56+[7]村里!G56+[8]村里!G56+[9]村里!G56+[10]村里!G56+[11]村里!G56+[12]村里!G56 -> 179 | H56: =[1]村里!H56+[2]村里!H56+[3]村里!H56+[4]村里!H56+[5]村里!H56+[6]村里!H56+[7]村里!H56+[8]村里!H56+[9]村里!H56+[10]村里!H56+[11]村里!H56+[12]村里!H56 -> 136 | I56: =[1]村里!I56+[2]村里!I56+[3]村里!I56+[4]村里!I56+[5]村里!I56+[6]村里!I56+[7]村里!I56+[8]村里!I56+[9]村里!I56+[10]村里!I56+[11]村里!I56+[12]村里!I56 -> 80 | J56: =[1]村里!J56+[2]村里!J56+[3]村里!J56+[4]村里!J56+[5]村里!J56+[6]村里!J56+[7]村里!J56+[8]村里!J56+[9]村里!J56+[10]村里!J56+[11]村里!J56+[12]村里!J56 -> 84 | K56: =[1]村里!K56+[2]村里!K56+[3]村里!K56+[4]村里!K56+[5]村里!K56+[6]村里!K56+[7]村里!K56+[8]村里!K56+[9]村里!K56+[10]村里!K56+[11]村里!K56+[12]村里!K56 -> 13 | L56: =[1]村里!L56+[2]村里!L56+[3]村里!L56+[4]村里!L56+[5]村里!L56+[6]村里!L56+[7]村里!L56+[8]村里!L56+[9]村里!L56+[10]村里!L56+[11]村里!L56+[12]村里!L56 -> 14 | M56: =[1]村里!M56+[2]村里!M56+[3]村里!M56+[4]村里!M56+[5]村里!M56+[6]村里!M56+[7]村里!M56+[8]村里!M56+[9]村里!M56+[10]村里!M56+[11]村里!M56+[12]村里!M56 -> 0 | N56: =[1]村里!N56+[2]村里!N56+[3]村里!N56+[4]村里!N56+[5]村里!N56+[6]村里!N56+[7]村里!N56+[8]村里!N56+[9]村里!N56+[10]村里!N56+[11]村里!N56+[12]村里!N56 -> 0 | ... R56: =[1]村里!R56+[2]村里!R56+[3]村里!R56+[4]村里!R56+[5]村里!R56+[6]村里!R56+[7]村里!R56+[8]村里!R56+[9]村里!R56+[10]村里!R56+[11]村里!R56+[12]村里!R56 -> 5
A57: 案山里 | B57: 1 | C57: 23 | D57: 1006 | E57: 男 | F57: 1200 | G57: =[1]村里!G57+[2]村里!G57+[3]村里!G57+[4]村里!G57+[5]村里!G57+[6]村里!G57+[7]村里!G57+[8]村里!G57+[9]村里!G57+[10]村里!G57+[11]村里!G57+[12]村里!G57 -> 128 | H57: =[1]村里!H57+[2]村里!H57+[3]村里!H57+[4]村里!H57+[5]村里!H57+[6]村里!H57+[7]村里!H57+[8]村里!H57+[9]村里!H57+[10]村里!H57+[11]村里!H57+[12]村里!H57 -> 99 | I57: =[1]村里!I57+[2]村里!I57+[3]村里!I57+[4]村里!I57+[5]村里!I57+[6]村里!I57+[7]村里!I57+[8]村里!I57+[9]村里!I57+[10]村里!I57+[11]村里!I57+[12]村里!I57 -> 39 | J57: =[1]村里!J57+[2]村里!J57+[3]村里!J57+[4]村里!J57+[5]村里!J57+[6]村里!J57+[7]村里!J57+[8]村里!J57+[9]村里!J57+[10]村里!J57+[11]村里!J57+[12]村里!J57 -> 51 | K57: =[1]村里!K57+[2]村里!K57+[3]村里!K57+[4]村里!K57+[5]村里!K57+[6]村里!K57+[7]村里!K57+[8]村里!K57+[9]村里!K57+[10]村里!K57+[11]村里!K57+[12]村里!K57 -> 8 | L57: =[1]村里!L57+[2]村里!L57+[3]村里!L57+[4]村里!L57+[5]村里!L57+[6]村里!L57+[7]村里!L57+[8]村里!L57+[9]村里!L57+[10]村里!L57+[11]村里!L57+[12]村里!L57 -> 9 | M57: =[1]村里!M57+[2]村里!M57+[3]村里!M57+[4]村里!M57+[5]村里!M57+[6]村里!M57+[7]村里!M57+[8]村里!M57+[9]村里!M57+[10]村里!M57+[11]村里!M57+[12]村里!M57 -> 0 | N57: =[1]村里!N57+[2]村里!N57+[3]村里!N57+[4]村里!N57+[5]村里!N57+[6]村里!N57+[7]村里!N57+[8]村里!N57+[9]村里!N57+[10]村里!N57+[11]村里!N57+[12]村里!N57 -> 0 | ... T57: =[1]村里!T57+[2]村里!T57+[3]村里!T57+[4]村里!T57+[5]村里!T57+[6]村里!T57+[7]村里!T57+[8]村里!T57+[9]村里!T57+[10]村里!T57+[11]村里!T57+[12]村里!T57 -> 6
E58: 女 | F58: 866 | G58: =[1]村里!G58+[2]村里!G58+[3]村里!G58+[4]村里!G58+[5]村里!G58+[6]村里!G58+[7]村里!G58+[8]村里!G58+[9]村里!G58+[10]村里!G58+[11]村里!G58+[12]村里!G58 -> 51 | H58: =[1]村里!H58+[2]村里!H58+[3]村里!H58+[4]村里!H58+[5]村里!H58+[6]村里!H58+[7]村里!H58+[8]村里!H58+[9]村里!H58+[10]村里!H58+[11]村里!H58+[12]村里!H58 -> 37 | I58: =[1]村里!I58+[2]村里!I58+[3]村里!I58+[4]村里!I58+[5]村里!I58+[6]村里!I58+[7]村里!I58+[8]村里!I58+[9]村里!I58+[10]村里!I58+[11]村里!I58+[12]村里!I58 -> 41 | J58: =[1]村里!J58+[2]村里!J58+[3]村里!J58+[4]村里!J58+[5]村里!J58+[6]村里!J58+[7]村里!J58+[8]村里!J58+[9]村里!J58+[10]村里!J58+[11]村里!J58+[12]村里!J58 -> 33 | K58: =[1]村里!K58+[2]村里!K58+[3]村里!K58+[4]村里!K58+[5]村里!K58+[6]村里!K58+[7]村里!K58+[8]村里!K58+[9]村里!K58+[10]村里!K58+[11]村里!K58+[12]村里!K58 -> 5 | L58: =[1]村里!L58+[2]村里!L58+[3]村里!L58+[4]村里!L58+[5]村里!L58+[6]村里!L58+[7]村里!L58+[8]村里!L58+[9]村里!L58+[10]村里!L58+[11]村里!L58+[12]村里!L58 -> 5 | M58: =[1]村里!M58+[2]村里!M58+[3]村里!M58+[4]村里!M58+[5]村里!M58+[6]村里!M58+[7]村里!M58+[8]村里!M58+[9]村里!M58+[10]村里!M58+[11]村里!M58+[12]村里!M58 -> 0 | N58: =[1]村里!N58+[2]村里!N58+[3]村里!N58+[4]村里!N58+[5]村里!N58+[6]村里!N58+[7]村里!N58+[8]村里!N58+[9]村里!N58+[10]村里!N58+[11]村里!N58+[12]村里!N58 -> 0 | ... R58: =[1]村里!R58+[2]村里!R58+[3]村里!R58+[4]村里!R58+[5]村里!R58+[6]村里!R58+[7]村里!R58+[8]村里!R58+[9]村里!R58+[10]村里!R58+[11]村里!R58+[12]村里!R58 -> 0
E59: 計 | F59: 1091 | G59: =[1]村里!G59+[2]村里!G59+[3]村里!G59+[4]村里!G59+[5]村里!G59+[6]村里!G59+[7]村里!G59+[8]村里!G59+[9]村里!G59+[10]村里!G59+[11]村里!G59+[12]村里!G59 -> 161 | H59: =[1]村里!H59+[2]村里!H59+[3]村里!H59+[4]村里!H59+[5]村里!H59+[6]村里!H59+[7]村里!H59+[8]村里!H59+[9]村里!H59+[10]村里!H59+[11]村里!H59+[12]村里!H59 -> 87 | I59: =[1]村里!I59+[2]村里!I59+[3]村里!I59+[4]村里!I59+[5]村里!I59+[6]村里!I59+[7]村里!I59+[8]村里!I59+[9]村里!I59+[10]村里!I59+[11]村里!I59+[12]村里!I59 -> 117 | J59: =[1]村里!J59+[2]村里!J59+[3]村里!J59+[4]村里!J59+[5]村里!J59+[6]村里!J59+[7]村里!J59+[8]村里!J59+[9]村里!J59+[10]村里!J59+[11]村里!J59+[12]村里!J59 -> 44 | K59: =[1]村里!K59+[2]村里!K59+[3]村里!K59+[4]村里!K59+[5]村里!K59+[6]村里!K59+[7]村里!K59+[8]村里!K59+[9]村里!K59+[10]村里!K59+[11]村里!K59+[12]村里!K59 -> 15 | L59: =[1]村里!L59+[2]村里!L59+[3]村里!L59+[4]村里!L59+[5]村里!L59+[6]村里!L59+[7]村里!L59+[8]村里!L59+[9]村里!L59+[10]村里!L59+[11]村里!L59+[12]村里!L59 -> 9 | M59: =[1]村里!M59+[2]村里!M59+[3]村里!M59+[4]村里!M59+[5]村里!M59+[6]村里!M59+[7]村里!M59+[8]村里!M59+[9]村里!M59+[10]村里!M59+[11]村里!M59+[12]村里!M59 -> 0 | N59: =[1]村里!N59+[2]村里!N59+[3]村里!N59+[4]村里!N59+[5]村里!N59+[6]村里!N59+[7]村里!N59+[8]村里!N59+[9]村里!N59+[10]村里!N59+[11]村里!N59+[12]村里!N59 -> 0 | ... R59: =[1]村里!R59+[2]村里!R59+[3]村里!R59+[4]村里!R59+[5]村里!R59+[6]村里!R59+[7]村里!R59+[8]村里!R59+[9]村里!R59+[10]村里!R59+[11]村里!R59+[12]村里!R59 -> 1
A60: 光華里 | B60: 1 | C60: 15 | D60: 505 | E60: 男 | F60: 633 | G60: =[1]村里!G60+[2]村里!G60+[3]村里!G60+[4]村里!G60+[5]村里!G60+[6]村里!G60+[7]村里!G60+[8]村里!G60+[9]村里!G60+[10]村里!G60+[11]村里!G60+[12]村里!G60 -> 107 | H60: =[1]村里!H60+[2]村里!H60+[3]村里!H60+[4]村里!H60+[5]村里!H60+[6]村里!H60+[7]村里!H60+[8]村里!H60+[9]村里!H60+[10]村里!H60+[11]村里!H60+[12]村里!H60 -> 56 | I60: =[1]村里!I60+[2]村里!I60+[3]村里!I60+[4]村里!I60+[5]村里!I60+[6]村里!I60+[7]村里!I60+[8]村里!I60+[9]村里!I60+[10]村里!I60+[11]村里!I60+[12]村里!I60 -> 66 | J60: =[1]村里!J60+[2]村里!J60+[3]村里!J60+[4]村里!J60+[5]村里!J60+[6]村里!J60+[7]村里!J60+[8]村里!J60+[9]村里!J60+[10]村里!J60+[11]村里!J60+[12]村里!J60 -> 21 | K60: =[1]村里!K60+[2]村里!K60+[3]村里!K60+[4]村里!K60+[5]村里!K60+[6]村里!K60+[7]村里!K60+[8]村里!K60+[9]村里!K60+[10]村里!K60+[11]村里!K60+[12]村里!K60 -> 11 | L60: =[1]村里!L60+[2]村里!L60+[3]村里!L60+[4]村里!L60+[5]村里!L60+[6]村里!L60+[7]村里!L60+[8]村里!L60+[9]村里!L60+[10]村里!L60+[11]村里!L60+[12]村里!L60 -> 6 | M60: =[1]村里!M60+[2]村里!M60+[3]村里!M60+[4]村里!M60+[5]村里!M60+[6]村里!M60+[7]村里!M60+[8]村里!M60+[9]村里!M60+[10]村里!M60+[11]村里!M60+[12]村里!M60 -> 0 | N60: =[1]村里!N60+[2]村里!N60+[3]村里!N60+[4]村里!N60+[5]村里!N60+[6]村里!N60+[7]村里!N60+[8]村里!N60+[9]村里!N60+[10]村里!N60+[11]村里!N60+[12]村里!N60 -> 0 | ... T60: =[1]村里!T60+[2]村里!T60+[3]村里!T60+[4]村里!T60+[5]村里!T60+[6]村里!T60+[7]村里!T60+[8]村里!T60+[9]村里!T60+[10]村里!T60+[11]村里!T60+[12]村里!T60 -> 1
E61: 女 | F61: 458 | G61: =[1]村里!G61+[2]村里!G61+[3]村里!G61+[4]村里!G61+[5]村里!G61+[6]村里!G61+[7]村里!G61+[8]村里!G61+[9]村里!G61+[10]村里!G61+[11]村里!G61+[12]村里!G61 -> 54 | H61: =[1]村里!H61+[2]村里!H61+[3]村里!H61+[4]村里!H61+[5]村里!H61+[6]村里!H61+[7]村里!H61+[8]村里!H61+[9]村里!H61+[10]村里!H61+[11]村里!H61+[12]村里!H61 -> 31 | I61: =[1]村里!I61+[2]村里!I61+[3]村里!I61+[4]村里!I61+[5]村里!I61+[6]村里!I61+[7]村里!I61+[8]村里!I61+[9]村里!I61+[10]村里!I61+[11]村里!I61+[12]村里!I61 -> 51 | J61: =[1]村里!J61+[2]村里!J61+[3]村里!J61+[4]村里!J61+[5]村里!J61+[6]村里!J61+[7]村里!J61+[8]村里!J61+[9]村里!J61+[10]村里!J61+[11]村里!J61+[12]村里!J61 -> 23 | K61: =[1]村里!K61+[2]村里!K61+[3]村里!K61+[4]村里!K61+[5]村里!K61+[6]村里!K61+[7]村里!K61+[8]村里!K61+[9]村里!K61+[10]村里!K61+[11]村里!K61+[12]村里!K61 -> 4 | L61: =[1]村里!L61+[2]村里!L61+[3]村里!L61+[4]村里!L61+[5]村里!L61+[6]村里!L61+[7]村里!L61+[8]村里!L61+[9]村里!L61+[10]村里!L61+[11]村里!L61+[12]村里!L61 -> 3 | M61: =[1]村里!M61+[2]村里!M61+[3]村里!M61+[4]村里!M61+[5]村里!M61+[6]村里!M61+[7]村里!M61+[8]村里!M61+[9]村里!M61+[10]村里!M61+[11]村里!M61+[12]村里!M61 -> 0 | N61: =[1]村里!N61+[2]村里!N61+[3]村里!N61+[4]村里!N61+[5]村里!N61+[6]村里!N61+[7]村里!N61+[8]村里!N61+[9]村里!N61+[10]村里!N61+[11]村里!N61+[12]村里!N61 -> 0 | ... R61: =[1]村里!R61+[2]村里!R61+[3]村里!R61+[4]村里!R61+[5]村里!R61+[6]村里!R61+[7]村里!R61+[8]村里!R61+[9]村里!R61+[10]村里!R61+[11]村里!R61+[12]村里!R61 -> 0
E62: 計 | F62: 1090 | G62: =[1]村里!G62+[2]村里!G62+[3]村里!G62+[4]村里!G62+[5]村里!G62+[6]村里!G62+[7]村里!G62+[8]村里!G62+[9]村里!G62+[10]村里!G62+[11]村里!G62+[12]村里!G62 -> 54 | H62: =[1]村里!H62+[2]村里!H62+[3]村里!H62+[4]村里!H62+[5]村里!H62+[6]村里!H62+[7]村里!H62+[8]村里!H62+[9]村里!H62+[10]村里!H62+[11]村里!H62+[12]村里!H62 -> 60 | I62: =[1]村里!I62+[2]村里!I62+[3]村里!I62+[4]村里!I62+[5]村里!I62+[6]村里!I62+[7]村里!I62+[8]村里!I62+[9]村里!I62+[10]村里!I62+[11]村里!I62+[12]村里!I62 -> 27 | J62: =[1]村里!J62+[2]村里!J62+[3]村里!J62+[4]村里!J62+[5]村里!J62+[6]村里!J62+[7]村里!J62+[8]村里!J62+[9]村里!J62+[10]村里!J62+[11]村里!J62+[12]村里!J62 -> 32 | K62: =[1]村里!K62+[2]村里!K62+[3]村里!K62+[4]村里!K62+[5]村里!K62+[6]村里!K62+[7]村里!K62+[8]村里!K62+[9]村里!K62+[10]村里!K62+[11]村里!K62+[12]村里!K62 -> 8 | L62: =[1]村里!L62+[2]村里!L62+[3]村里!L62+[4]村里!L62+[5]村里!L62+[6]村里!L62+[7]村里!L62+[8]村里!L62+[9]村里!L62+[10]村里!L62+[11]村里!L62+[12]村里!L62 -> 9 | M62: =[1]村里!M62+[2]村里!M62+[3]村里!M62+[4]村里!M62+[5]村里!M62+[6]村里!M62+[7]村里!M62+[8]村里!M62+[9]村里!M62+[10]村里!M62+[11]村里!M62+[12]村里!M62 -> 1 | N62: =[1]村里!N62+[2]村里!N62+[3]村里!N62+[4]村里!N62+[5]村里!N62+[6]村里!N62+[7]村里!N62+[8]村里!N62+[9]村里!N62+[10]村里!N62+[11]村里!N62+[12]村里!N62 -> 0 | ... R62: =[1]村里!R62+[2]村里!R62+[3]村里!R62+[4]村里!R62+[5]村里!R62+[6]村里!R62+[7]村里!R62+[8]村里!R62+[9]村里!R62+[10]村里!R62+[11]村里!R62+[12]村里!R62 -> 4
A63: 前寮里 | B63: 1 | C63: 8 | D63: 403 | E63: 男 | F63: 573 | G63: =[1]村里!G63+[2]村里!G63+[3]村里!G63+[4]村里!G63+[5]村里!G63+[6]村里!G63+[7]村里!G63+[8]村里!G63+[9]村里!G63+[10]村里!G63+[11]村里!G63+[12]村里!G63 -> 26 | H63: =[1]村里!H63+[2]村里!H63+[3]村里!H63+[4]村里!H63+[5]村里!H63+[6]村里!H63+[7]村里!H63+[8]村里!H63+[9]村里!H63+[10]村里!H63+[11]村里!H63+[12]村里!H63 -> 38 | I63: =[1]村里!I63+[2]村里!I63+[3]村里!I63+[4]村里!I63+[5]村里!I63+[6]村里!I63+[7]村里!I63+[8]村里!I63+[9]村里!I63+[10]村里!I63+[11]村里!I63+[12]村里!I63 -> 13 | J63: =[1]村里!J63+[2]村里!J63+[3]村里!J63+[4]村里!J63+[5]村里!J63+[6]村里!J63+[7]村里!J63+[8]村里!J63+[9]村里!J63+[10]村里!J63+[11]村里!J63+[12]村里!J63 -> 14 | K63: =[1]村里!K63+[2]村里!K63+[3]村里!K63+[4]村里!K63+[5]村里!K63+[6]村里!K63+[7]村里!K63+[8]村里!K63+[9]村里!K63+[10]村里!K63+[11]村里!K63+[12]村里!K63 -> 4 | L63: =[1]村里!L63+[2]村里!L63+[3]村里!L63+[4]村里!L63+[5]村里!L63+[6]村里!L63+[7]村里!L63+[8]村里!L63+[9]村里!L63+[10]村里!L63+[11]村里!L63+[12]村里!L63 -> 4 | M63: =[1]村里!M63+[2]村里!M63+[3]村里!M63+[4]村里!M63+[5]村里!M63+[6]村里!M63+[7]村里!M63+[8]村里!M63+[9]村里!M63+[10]村里!M63+[11]村里!M63+[12]村里!M63 -> 0 | N63: =[1]村里!N63+[2]村里!N63+[3]村里!N63+[4]村里!N63+[5]村里!N63+[6]村里!N63+[7]村里!N63+[8]村里!N63+[9]村里!N63+[10]村里!N63+[11]村里!N63+[12]村里!N63 -> 0 | ... T63: =[1]村里!T63+[2]村里!T63+[3]村里!T63+[4]村里!T63+[5]村里!T63+[6]村里!T63+[7]村里!T63+[8]村里!T63+[9]村里!T63+[10]村里!T63+[11]村里!T63+[12]村里!T63 -> 3
E64: 女 | F64: 517 | G64: =[1]村里!G64+[2]村里!G64+[3]村里!G64+[4]村里!G64+[5]村里!G64+[6]村里!G64+[7]村里!G64+[8]村里!G64+[9]村里!G64+[10]村里!G64+[11]村里!G64+[12]村里!G64 -> 28 | H64: =[1]村里!H64+[2]村里!H64+[3]村里!H64+[4]村里!H64+[5]村里!H64+[6]村里!H64+[7]村里!H64+[8]村里!H64+[9]村里!H64+[10]村里!H64+[11]村里!H64+[12]村里!H64 -> 22 | I64: =[1]村里!I64+[2]村里!I64+[3]村里!I64+[4]村里!I64+[5]村里!I64+[6]村里!I64+[7]村里!I64+[8]村里!I64+[9]村里!I64+[10]村里!I64+[11]村里!I64+[12]村里!I64 -> 14 | J64: =[1]村里!J64+[2]村里!J64+[3]村里!J64+[4]村里!J64+[5]村里!J64+[6]村里!J64+[7]村里!J64+[8]村里!J64+[9]村里!J64+[10]村里!J64+[11]村里!J64+[12]村里!J64 -> 18 | K64: =[1]村里!K64+[2]村里!K64+[3]村里!K64+[4]村里!K64+[5]村里!K64+[6]村里!K64+[7]村里!K64+[8]村里!K64+[9]村里!K64+[10]村里!K64+[11]村里!K64+[12]村里!K64 -> 4 | L64: =[1]村里!L64+[2]村里!L64+[3]村里!L64+[4]村里!L64+[5]村里!L64+[6]村里!L64+[7]村里!L64+[8]村里!L64+[9]村里!L64+[10]村里!L64+[11]村里!L64+[12]村里!L64 -> 5 | M64: =[1]村里!M64+[2]村里!M64+[3]村里!M64+[4]村里!M64+[5]村里!M64+[6]村里!M64+[7]村里!M64+[8]村里!M64+[9]村里!M64+[10]村里!M64+[11]村里!M64+[12]村里!M64 -> 1 | N64: =[1]村里!N64+[2]村里!N64+[3]村里!N64+[4]村里!N64+[5]村里!N64+[6]村里!N64+[7]村里!N64+[8]村里!N64+[9]村里!N64+[10]村里!N64+[11]村里!N64+[12]村里!N64 -> 0 | ... R64: =[1]村里!R64+[2]村里!R64+[3]村里!R64+[4]村里!R64+[5]村里!R64+[6]村里!R64+[7]村里!R64+[8]村里!R64+[9]村里!R64+[10]村里!R64+[11]村里!R64+[12]村里!R64 -> 3
E65: 計 | F65: 3077 | G65: =[1]村里!G65+[2]村里!G65+[3]村里!G65+[4]村里!G65+[5]村里!G65+[6]村里!G65+[7]村里!G65+[8]村里!G65+[9]村里!G65+[10]村里!G65+[11]村里!G65+[12]村里!G65 -> 103 | H65: =[1]村里!H65+[2]村里!H65+[3]村里!H65+[4]村里!H65+[5]村里!H65+[6]村里!H65+[7]村里!H65+[8]村里!H65+[9]村里!H65+[10]村里!H65+[11]村里!H65+[12]村里!H65 -> 104 | I65: =[1]村里!I65+[2]村里!I65+[3]村里!I65+[4]村里!I65+[5]村里!I65+[6]村里!I65+[7]村里!I65+[8]村里!I65+[9]村里!I65+[10]村里!I65+[11]村里!I65+[12]村里!I65 -> 121 | J65: =[1]村里!J65+[2]村里!J65+[3]村里!J65+[4]村里!J65+[5]村里!J65+[6]村里!J65+[7]村里!J65+[8]村里!J65+[9]村里!J65+[10]村里!J65+[11]村里!J65+[12]村里!J65 -> 101 | K65: =[1]村里!K65+[2]村里!K65+[3]村里!K65+[4]村里!K65+[5]村里!K65+[6]村里!K65+[7]村里!K65+[8]村里!K65+[9]村里!K65+[10]村里!K65+[11]村里!K65+[12]村里!K65 -> 28 | L65: =[1]村里!L65+[2]村里!L65+[3]村里!L65+[4]村里!L65+[5]村里!L65+[6]村里!L65+[7]村里!L65+[8]村里!L65+[9]村里!L65+[10]村里!L65+[11]村里!L65+[12]村里!L65 -> 19 | M65: =[1]村里!M65+[2]村里!M65+[3]村里!M65+[4]村里!M65+[5]村里!M65+[6]村里!M65+[7]村里!M65+[8]村里!M65+[9]村里!M65+[10]村里!M65+[11]村里!M65+[12]村里!M65 -> 0 | N65: =[1]村里!N65+[2]村里!N65+[3]村里!N65+[4]村里!N65+[5]村里!N65+[6]村里!N65+[7]村里!N65+[8]村里!N65+[9]村里!N65+[10]村里!N65+[11]村里!N65+[12]村里!N65 -> 0 | ... R65: =[1]村里!R65+[2]村里!R65+[3]村里!R65+[4]村里!R65+[5]村里!R65+[6]村里!R65+[7]村里!R65+[8]村里!R65+[9]村里!R65+[10]村里!R65+[11]村里!R65+[12]村里!R65 -> 8
A66: 石泉里 | B66: 1 | C66: 17 | D66: 1122 | E66: 男 | F66: 1538 | G66: =[1]村里!G66+[2]村里!G66+[3]村里!G66+[4]村里!G66+[5]村里!G66+[6]村里!G66+[7]村里!G66+[8]村里!G66+[9]村里!G66+[10]村里!G66+[11]村里!G66+[12]村里!G66 -> 50 | H66: =[1]村里!H66+[2]村里!H66+[3]村里!H66+[4]村里!H66+[5]村里!H66+[6]村里!H66+[7]村里!H66+[8]村里!H66+[9]村里!H66+[10]村里!H66+[11]村里!H66+[12]村里!H66 -> 56 | I66: =[1]村里!I66+[2]村里!I66+[3]村里!I66+[4]村里!I66+[5]村里!I66+[6]村里!I66+[7]村里!I66+[8]村里!I66+[9]村里!I66+[10]村里!I66+[11]村里!I66+[12]村里!I66 -> 60 | J66: =[1]村里!J66+[2]村里!J66+[3]村里!J66+[4]村里!J66+[5]村里!J66+[6]村里!J66+[7]村里!J66+[8]村里!J66+[9]村里!J66+[10]村里!J66+[11]村里!J66+[12]村里!J66 -> 48 | K66: =[1]村里!K66+[2]村里!K66+[3]村里!K66+[4]村里!K66+[5]村里!K66+[6]村里!K66+[7]村里!K66+[8]村里!K66+[9]村里!K66+[10]村里!K66+[11]村里!K66+[12]村里!K66 -> 13 | L66: =[1]村里!L66+[2]村里!L66+[3]村里!L66+[4]村里!L66+[5]村里!L66+[6]村里!L66+[7]村里!L66+[8]村里!L66+[9]村里!L66+[10]村里!L66+[11]村里!L66+[12]村里!L66 -> 13 | M66: =[1]村里!M66+[2]村里!M66+[3]村里!M66+[4]村里!M66+[5]村里!M66+[6]村里!M66+[7]村里!M66+[8]村里!M66+[9]村里!M66+[10]村里!M66+[11]村里!M66+[12]村里!M66 -> 0 | N66: =[1]村里!N66+[2]村里!N66+[3]村里!N66+[4]村里!N66+[5]村里!N66+[6]村里!N66+[7]村里!N66+[8]村里!N66+[9]村里!N66+[10]村里!N66+[11]村里!N66+[12]村里!N66 -> 0 | ... T66: =[1]村里!T66+[2]村里!T66+[3]村里!T66+[4]村里!T66+[5]村里!T66+[6]村里!T66+[7]村里!T66+[8]村里!T66+[9]村里!T66+[10]村里!T66+[11]村里!T66+[12]村里!T66 -> 10
E67: 女 | F67: 1539 | G67: =[1]村里!G67+[2]村里!G67+[3]村里!G67+[4]村里!G67+[5]村里!G67+[6]村里!G67+[7]村里!G67+[8]村里!G67+[9]村里!G67+[10]村里!G67+[11]村里!G67+[12]村里!G67 -> 53 | H67: =[1]村里!H67+[2]村里!H67+[3]村里!H67+[4]村里!H67+[5]村里!H67+[6]村里!H67+[7]村里!H67+[8]村里!H67+[9]村里!H67+[10]村里!H67+[11]村里!H67+[12]村里!H67 -> 48 | I67: =[1]村里!I67+[2]村里!I67+[3]村里!I67+[4]村里!I67+[5]村里!I67+[6]村里!I67+[7]村里!I67+[8]村里!I67+[9]村里!I67+[10]村里!I67+[11]村里!I67+[12]村里!I67 -> 61 | J67: =[1]村里!J67+[2]村里!J67+[3]村里!J67+[4]村里!J67+[5]村里!J67+[6]村里!J67+[7]村里!J67+[8]村里!J67+[9]村里!J67+[10]村里!J67+[11]村里!J67+[12]村里!J67 -> 53 | K67: =[1]村里!K67+[2]村里!K67+[3]村里!K67+[4]村里!K67+[5]村里!K67+[6]村里!K67+[7]村里!K67+[8]村里!K67+[9]村里!K67+[10]村里!K67+[11]村里!K67+[12]村里!K67 -> 15 | L67: =[1]村里!L67+[2]村里!L67+[3]村里!L67+[4]村里!L67+[5]村里!L67+[6]村里!L67+[7]村里!L67+[8]村里!L67+[9]村里!L67+[10]村里!L67+[11]村里!L67+[12]村里!L67 -> 6 | M67: =[1]村里!M67+[2]村里!M67+[3]村里!M67+[4]村里!M67+[5]村里!M67+[6]村里!M67+[7]村里!M67+[8]村里!M67+[9]村里!M67+[10]村里!M67+[11]村里!M67+[12]村里!M67 -> 0 | N67: =[1]村里!N67+[2]村里!N67+[3]村里!N67+[4]村里!N67+[5]村里!N67+[6]村里!N67+[7]村里!N67+[8]村里!N67+[9]村里!N67+[10]村里!N67+[11]村里!N67+[12]村里!N67 -> 0 | ... R67: =[1]村里!R67+[2]村里!R67+[3]村里!R67+[4]村里!R67+[5]村里!R67+[6]村里!R67+[7]村里!R67+[8]村里!R67+[9]村里!R67+[10]村里!R67+[11]村里!R67+[12]村里!R67 -> 4
E68: 計 | F68: 477 | G68: =[1]村里!G68+[2]村里!G68+[3]村里!G68+[4]村里!G68+[5]村里!G68+[6]村里!G68+[7]村里!G68+[8]村里!G68+[9]村里!G68+[10]村里!G68+[11]村里!G68+[12]村里!G68 -> 7 | H68: =[1]村里!H68+[2]村里!H68+[3]村里!H68+[4]村里!H68+[5]村里!H68+[6]村里!H68+[7]村里!H68+[8]村里!H68+[9]村里!H68+[10]村里!H68+[11]村里!H68+[12]村里!H68 -> 10 | I68: =[1]村里!I68+[2]村里!I68+[3]村里!I68+[4]村里!I68+[5]村里!I68+[6]村里!I68+[7]村里!I68+[8]村里!I68+[9]村里!I68+[10]村里!I68+[11]村里!I68+[12]村里!I68 -> 21 | J68: =[1]村里!J68+[2]村里!J68+[3]村里!J68+[4]村里!J68+[5]村里!J68+[6]村里!J68+[7]村里!J68+[8]村里!J68+[9]村里!J68+[10]村里!J68+[11]村里!J68+[12]村里!J68 -> 12 | K68: =[1]村里!K68+[2]村里!K68+[3]村里!K68+[4]村里!K68+[5]村里!K68+[6]村里!K68+[7]村里!K68+[8]村里!K68+[9]村里!K68+[10]村里!K68+[11]村里!K68+[12]村里!K68 -> 3 | L68: =[1]村里!L68+[2]村里!L68+[3]村里!L68+[4]村里!L68+[5]村里!L68+[6]村里!L68+[7]村里!L68+[8]村里!L68+[9]村里!L68+[10]村里!L68+[11]村里!L68+[12]村里!L68 -> 6 | M68: =[1]村里!M68+[2]村里!M68+[3]村里!M68+[4]村里!M68+[5]村里!M68+[6]村里!M68+[7]村里!M68+[8]村里!M68+[9]村里!M68+[10]村里!M68+[11]村里!M68+[12]村里!M68 -> 0 | N68: =[1]村里!N68+[2]村里!N68+[3]村里!N68+[4]村里!N68+[5]村里!N68+[6]村里!N68+[7]村里!N68+[8]村里!N68+[9]村里!N68+[10]村里!N68+[11]村里!N68+[12]村里!N68 -> 0 | ... R68: =[1]村里!R68+[2]村里!R68+[3]村里!R68+[4]村里!R68+[5]村里!R68+[6]村里!R68+[7]村里!R68+[8]村里!R68+[9]村里!R68+[10]村里!R68+[11]村里!R68+[12]村里!R68 -> 1
A69: 菜園里 | B69: 1 | C69: 8 | D69: 161 | E69: 男 | F69: 245 | G69: =[1]村里!G69+[2]村里!G69+[3]村里!G69+[4]村里!G69+[5]村里!G69+[6]村里!G69+[7]村里!G69+[8]村里!G69+[9]村里!G69+[10]村里!G69+[11]村里!G69+[12]村里!G69 -> 4 | H69: =[1]村里!H69+[2]村里!H69+[3]村里!H69+[4]村里!H69+[5]村里!H69+[6]村里!H69+[7]村里!H69+[8]村里!H69+[9]村里!H69+[10]村里!H69+[11]村里!H69+[12]村里!H69 -> 8 | I69: =[1]村里!I69+[2]村里!I69+[3]村里!I69+[4]村里!I69+[5]村里!I69+[6]村里!I69+[7]村里!I69+[8]村里!I69+[9]村里!I69+[10]村里!I69+[11]村里!I69+[12]村里!I69 -> 14 | J69: =[1]村里!J69+[2]村里!J69+[3]村里!J69+[4]村里!J69+[5]村里!J69+[6]村里!J69+[7]村里!J69+[8]村里!J69+[9]村里!J69+[10]村里!J69+[11]村里!J69+[12]村里!J69 -> 7 | K69: =[1]村里!K69+[2]村里!K69+[3]村里!K69+[4]村里!K69+[5]村里!K69+[6]村里!K69+[7]村里!K69+[8]村里!K69+[9]村里!K69+[10]村里!K69+[11]村里!K69+[12]村里!K69 -> 0 | L69: =[1]村里!L69+[2]村里!L69+[3]村里!L69+[4]村里!L69+[5]村里!L69+[6]村里!L69+[7]村里!L69+[8]村里!L69+[9]村里!L69+[10]村里!L69+[11]村里!L69+[12]村里!L69 -> 3 | M69: =[1]村里!M69+[2]村里!M69+[3]村里!M69+[4]村里!M69+[5]村里!M69+[6]村里!M69+[7]村里!M69+[8]村里!M69+[9]村里!M69+[10]村里!M69+[11]村里!M69+[12]村里!M69 -> 0 | N69: =[1]村里!N69+[2]村里!N69+[3]村里!N69+[4]村里!N69+[5]村里!N69+[6]村里!N69+[7]村里!N69+[8]村里!N69+[9]村里!N69+[10]村里!N69+[11]村里!N69+[12]村里!N69 -> 0 | ... T69: =[1]村里!T69+[2]村里!T69+[3]村里!T69+[4]村里!T69+[5]村里!T69+[6]村里!T69+[7]村里!T69+[8]村里!T69+[9]村里!T69+[10]村里!T69+[11]村里!T69+[12]村里!T69 -> 1
E70: 女 | F70: 232 | G70: =[1]村里!G70+[2]村里!G70+[3]村里!G70+[4]村里!G70+[5]村里!G70+[6]村里!G70+[7]村里!G70+[8]村里!G70+[9]村里!G70+[10]村里!G70+[11]村里!G70+[12]村里!G70 -> 3 | H70: =[1]村里!H70+[2]村里!H70+[3]村里!H70+[4]村里!H70+[5]村里!H70+[6]村里!H70+[7]村里!H70+[8]村里!H70+[9]村里!H70+[10]村里!H70+[11]村里!H70+[12]村里!H70 -> 2 | I70: =[1]村里!I70+[2]村里!I70+[3]村里!I70+[4]村里!I70+[5]村里!I70+[6]村里!I70+[7]村里!I70+[8]村里!I70+[9]村里!I70+[10]村里!I70+[11]村里!I70+[12]村里!I70 -> 7 | J70: =[1]村里!J70+[2]村里!J70+[3]村里!J70+[4]村里!J70+[5]村里!J70+[6]村里!J70+[7]村里!J70+[8]村里!J70+[9]村里!J70+[10]村里!J70+[11]村里!J70+[12]村里!J70 -> 5 | K70: =[1]村里!K70+[2]村里!K70+[3]村里!K70+[4]村里!K70+[5]村里!K70+[6]村里!K70+[7]村里!K70+[8]村里!K70+[9]村里!K70+[10]村里!K70+[11]村里!K70+[12]村里!K70 -> 3 | L70: =[1]村里!L70+[2]村里!L70+[3]村里!L70+[4]村里!L70+[5]村里!L70+[6]村里!L70+[7]村里!L70+[8]村里!L70+[9]村里!L70+[10]村里!L70+[11]村里!L70+[12]村里!L70 -> 3 | M70: =[1]村里!M70+[2]村里!M70+[3]村里!M70+[4]村里!M70+[5]村里!M70+[6]村里!M70+[7]村里!M70+[8]村里!M70+[9]村里!M70+[10]村里!M70+[11]村里!M70+[12]村里!M70 -> 0 | N70: =[1]村里!N70+[2]村里!N70+[3]村里!N70+[4]村里!N70+[5]村里!N70+[6]村里!N70+[7]村里!N70+[8]村里!N70+[9]村里!N70+[10]村里!N70+[11]村里!N70+[12]村里!N70 -> 0 | ... R70: =[1]村里!R70+[2]村里!R70+[3]村里!R70+[4]村里!R70+[5]村里!R70+[6]村里!R70+[7]村里!R70+[8]村里!R70+[9]村里!R70+[10]村里!R70+[11]村里!R70+[12]村里!R70 -> 0
E71: 計 | F71: 2419 | G71: =[1]村里!G71+[2]村里!G71+[3]村里!G71+[4]村里!G71+[5]村里!G71+[6]村里!G71+[7]村里!G71+[8]村里!G71+[9]村里!G71+[10]村里!G71+[11]村里!G71+[12]村里!G71 -> 109 | H71: =[1]村里!H71+[2]村里!H71+[3]村里!H71+[4]村里!H71+[5]村里!H71+[6]村里!H71+[7]村里!H71+[8]村里!H71+[9]村里!H71+[10]村里!H71+[11]村里!H71+[12]村里!H71 -> 79 | I71: =[1]村里!I71+[2]村里!I71+[3]村里!I71+[4]村里!I71+[5]村里!I71+[6]村里!I71+[7]村里!I71+[8]村里!I71+[9]村里!I71+[10]村里!I71+[11]村里!I71+[12]村里!I71 -> 82 | J71: =[1]村里!J71+[2]村里!J71+[3]村里!J71+[4]村里!J71+[5]村里!J71+[6]村里!J71+[7]村里!J71+[8]村里!J71+[9]村里!J71+[10]村里!J71+[11]村里!J71+[12]村里!J71 -> 80 | K71: =[1]村里!K71+[2]村里!K71+[3]村里!K71+[4]村里!K71+[5]村里!K71+[6]村里!K71+[7]村里!K71+[8]村里!K71+[9]村里!K71+[10]村里!K71+[11]村里!K71+[12]村里!K71 -> 20 | L71: =[1]村里!L71+[2]村里!L71+[3]村里!L71+[4]村里!L71+[5]村里!L71+[6]村里!L71+[7]村里!L71+[8]村里!L71+[9]村里!L71+[10]村里!L71+[11]村里!L71+[12]村里!L71 -> 17 | M71: =[1]村里!M71+[2]村里!M71+[3]村里!M71+[4]村里!M71+[5]村里!M71+[6]村里!M71+[7]村里!M71+[8]村里!M71+[9]村里!M71+[10]村里!M71+[11]村里!M71+[12]村里!M71 -> 0 | N71: =[1]村里!N71+[2]村里!N71+[3]村里!N71+[4]村里!N71+[5]村里!N71+[6]村里!N71+[7]村里!N71+[8]村里!N71+[9]村里!N71+[10]村里!N71+[11]村里!N71+[12]村里!N71 -> 1 | ... R71: =[1]村里!R71+[2]村里!R71+[3]村里!R71+[4]村里!R71+[5]村里!R71+[6]村里!R71+[7]村里!R71+[8]村里!R71+[9]村里!R71+[10]村里!R71+[11]村里!R71+[12]村里!R71 -> 6
A72: 東衛里 | B72: 1 | C72: 21 | D72: 896 | E72: 男 | F72: 1254 | G72: =[1]村里!G72+[2]村里!G72+[3]村里!G72+[4]村里!G72+[5]村里!G72+[6]村里!G72+[7]村里!G72+[8]村里!G72+[9]村里!G72+[10]村里!G72+[11]村里!G72+[12]村里!G72 -> 60 | H72: =[1]村里!H72+[2]村里!H72+[3]村里!H72+[4]村里!H72+[5]村里!H72+[6]村里!H72+[7]村里!H72+[8]村里!H72+[9]村里!H72+[10]村里!H72+[11]村里!H72+[12]村里!H72 -> 43 | I72: =[1]村里!I72+[2]村里!I72+[3]村里!I72+[4]村里!I72+[5]村里!I72+[6]村里!I72+[7]村里!I72+[8]村里!I72+[9]村里!I72+[10]村里!I72+[11]村里!I72+[12]村里!I72 -> 40 | J72: =[1]村里!J72+[2]村里!J72+[3]村里!J72+[4]村里!J72+[5]村里!J72+[6]村里!J72+[7]村里!J72+[8]村里!J72+[9]村里!J72+[10]村里!J72+[11]村里!J72+[12]村里!J72 -> 32 | K72: =[1]村里!K72+[2]村里!K72+[3]村里!K72+[4]村里!K72+[5]村里!K72+[6]村里!K72+[7]村里!K72+[8]村里!K72+[9]村里!K72+[10]村里!K72+[11]村里!K72+[12]村里!K72 -> 11 | L72: =[1]村里!L72+[2]村里!L72+[3]村里!L72+[4]村里!L72+[5]村里!L72+[6]村里!L72+[7]村里!L72+[8]村里!L72+[9]村里!L72+[10]村里!L72+[11]村里!L72+[12]村里!L72 -> 16 | M72: =[1]村里!M72+[2]村里!M72+[3]村里!M72+[4]村里!M72+[5]村里!M72+[6]村里!M72+[7]村里!M72+[8]村里!M72+[9]村里!M72+[10]村里!M72+[11]村里!M72+[12]村里!M72 -> 0 | N72: =[1]村里!N72+[2]村里!N72+[3]村里!N72+[4]村里!N72+[5]村里!N72+[6]村里!N72+[7]村里!N72+[8]村里!N72+[9]村里!N72+[10]村里!N72+[11]村里!N72+[12]村里!N72 -> 1 | ... T72: =[1]村里!T72+[2]村里!T72+[3]村里!T72+[4]村里!T72+[5]村里!T72+[6]村里!T72+[7]村里!T72+[8]村里!T72+[9]村里!T72+[10]村里!T72+[11]村里!T72+[12]村里!T72 -> 6
E73: 女 | F73: 1165 | G73: =[1]村里!G73+[2]村里!G73+[3]村里!G73+[4]村里!G73+[5]村里!G73+[6]村里!G73+[7]村里!G73+[8]村里!G73+[9]村里!G73+[10]村里!G73+[11]村里!G73+[12]村里!G73 -> 49 | H73: =[1]村里!H73+[2]村里!H73+[3]村里!H73+[4]村里!H73+[5]村里!H73+[6]村里!H73+[7]村里!H73+[8]村里!H73+[9]村里!H73+[10]村里!H73+[11]村里!H73+[12]村里!H73 -> 36 | I73: =[1]村里!I73+[2]村里!I73+[3]村里!I73+[4]村里!I73+[5]村里!I73+[6]村里!I73+[7]村里!I73+[8]村里!I73+[9]村里!I73+[10]村里!I73+[11]村里!I73+[12]村里!I73 -> 42 | J73: =[1]村里!J73+[2]村里!J73+[3]村里!J73+[4]村里!J73+[5]村里!J73+[6]村里!J73+[7]村里!J73+[8]村里!J73+[9]村里!J73+[10]村里!J73+[11]村里!J73+[12]村里!J73 -> 48 | K73: =[1]村里!K73+[2]村里!K73+[3]村里!K73+[4]村里!K73+[5]村里!K73+[6]村里!K73+[7]村里!K73+[8]村里!K73+[9]村里!K73+[10]村里!K73+[11]村里!K73+[12]村里!K73 -> 9 | L73: =[1]村里!L73+[2]村里!L73+[3]村里!L73+[4]村里!L73+[5]村里!L73+[6]村里!L73+[7]村里!L73+[8]村里!L73+[9]村里!L73+[10]村里!L73+[11]村里!L73+[12]村里!L73 -> 1 | M73: =[1]村里!M73+[2]村里!M73+[3]村里!M73+[4]村里!M73+[5]村里!M73+[6]村里!M73+[7]村里!M73+[8]村里!M73+[9]村里!M73+[10]村里!M73+[11]村里!M73+[12]村里!M73 -> 0 | N73: =[1]村里!N73+[2]村里!N73+[3]村里!N73+[4]村里!N73+[5]村里!N73+[6]村里!N73+[7]村里!N73+[8]村里!N73+[9]村里!N73+[10]村里!N73+[11]村里!N73+[12]村里!N73 -> 0 | ... R73: =[1]村里!R73+[2]村里!R73+[3]村里!R73+[4]村里!R73+[5]村里!R73+[6]村里!R73+[7]村里!R73+[8]村里!R73+[9]村里!R73+[10]村里!R73+[11]村里!R73+[12]村里!R73 -> 4
E74: 計 | F74: 694 | G74: =[1]村里!G74+[2]村里!G74+[3]村里!G74+[4]村里!G74+[5]村里!G74+[6]村里!G74+[7]村里!G74+[8]村里!G74+[9]村里!G74+[10]村里!G74+[11]村里!G74+[12]村里!G74 -> 31 | H74: =[1]村里!H74+[2]村里!H74+[3]村里!H74+[4]村里!H74+[5]村里!H74+[6]村里!H74+[7]村里!H74+[8]村里!H74+[9]村里!H74+[10]村里!H74+[11]村里!H74+[12]村里!H74 -> 13 | I74: =[1]村里!I74+[2]村里!I74+[3]村里!I74+[4]村里!I74+[5]村里!I74+[6]村里!I74+[7]村里!I74+[8]村里!I74+[9]村里!I74+[10]村里!I74+[11]村里!I74+[12]村里!I74 -> 14 | J74: =[1]村里!J74+[2]村里!J74+[3]村里!J74+[4]村里!J74+[5]村里!J74+[6]村里!J74+[7]村里!J74+[8]村里!J74+[9]村里!J74+[10]村里!J74+[11]村里!J74+[12]村里!J74 -> 12 | K74: =[1]村里!K74+[2]村里!K74+[3]村里!K74+[4]村里!K74+[5]村里!K74+[6]村里!K74+[7]村里!K74+[8]村里!K74+[9]村里!K74+[10]村里!K74+[11]村里!K74+[12]村里!K74 -> 3 | L74: =[1]村里!L74+[2]村里!L74+[3]村里!L74+[4]村里!L74+[5]村里!L74+[6]村里!L74+[7]村里!L74+[8]村里!L74+[9]村里!L74+[10]村里!L74+[11]村里!L74+[12]村里!L74 -> 13 | M74: =[1]村里!M74+[2]村里!M74+[3]村里!M74+[4]村里!M74+[5]村里!M74+[6]村里!M74+[7]村里!M74+[8]村里!M74+[9]村里!M74+[10]村里!M74+[11]村里!M74+[12]村里!M74 -> 0 | N74: =[1]村里!N74+[2]村里!N74+[3]村里!N74+[4]村里!N74+[5]村里!N74+[6]村里!N74+[7]村里!N74+[8]村里!N74+[9]村里!N74+[10]村里!N74+[11]村里!N74+[12]村里!N74 -> 0 | ... R74: =[1]村里!R74+[2]村里!R74+[3]村里!R74+[4]村里!R74+[5]村里!R74+[6]村里!R74+[7]村里!R74+[8]村里!R74+[9]村里!R74+[10]村里!R74+[11]村里!R74+[12]村里!R74 -> 1
A75: 安宅里 | B75: 1 | C75: 11 | D75: 258 | E75: 男 | F75: 362 | G75: =[1]村里!G75+[2]村里!G75+[3]村里!G75+[4]村里!G75+[5]村里!G75+[6]村里!G75+[7]村里!G75+[8]村里!G75+[9]村里!G75+[10]村里!G75+[11]村里!G75+[12]村里!G75 -> 18 | H75: =[1]村里!H75+[2]村里!H75+[3]村里!H75+[4]村里!H75+[5]村里!H75+[6]村里!H75+[7]村里!H75+[8]村里!H75+[9]村里!H75+[10]村里!H75+[11]村里!H75+[12]村里!H75 -> 8 | I75: =[1]村里!I75+[2]村里!I75+[3]村里!I75+[4]村里!I75+[5]村里!I75+[6]村里!I75+[7]村里!I75+[8]村里!I75+[9]村里!I75+[10]村里!I75+[11]村里!I75+[12]村里!I75 -> 7 | J75: =[1]村里!J75+[2]村里!J75+[3]村里!J75+[4]村里!J75+[5]村里!J75+[6]村里!J75+[7]村里!J75+[8]村里!J75+[9]村里!J75+[10]村里!J75+[11]村里!J75+[12]村里!J75 -> 6 | K75: =[1]村里!K75+[2]村里!K75+[3]村里!K75+[4]村里!K75+[5]村里!K75+[6]村里!K75+[7]村里!K75+[8]村里!K75+[9]村里!K75+[10]村里!K75+[11]村里!K75+[12]村里!K75 -> 1 | L75: =[1]村里!L75+[2]村里!L75+[3]村里!L75+[4]村里!L75+[5]村里!L75+[6]村里!L75+[7]村里!L75+[8]村里!L75+[9]村里!L75+[10]村里!L75+[11]村里!L75+[12]村里!L75 -> 7 | M75: =[1]村里!M75+[2]村里!M75+[3]村里!M75+[4]村里!M75+[5]村里!M75+[6]村里!M75+[7]村里!M75+[8]村里!M75+[9]村里!M75+[10]村里!M75+[11]村里!M75+[12]村里!M75 -> 0 | N75: =[1]村里!N75+[2]村里!N75+[3]村里!N75+[4]村里!N75+[5]村里!N75+[6]村里!N75+[7]村里!N75+[8]村里!N75+[9]村里!N75+[10]村里!N75+[11]村里!N75+[12]村里!N75 -> 0 | ... T75: =[1]村里!T75+[2]村里!T75+[3]村里!T75+[4]村里!T75+[5]村里!T75+[6]村里!T75+[7]村里!T75+[8]村里!T75+[9]村里!T75+[10]村里!T75+[11]村里!T75+[12]村里!T75 -> 2
E76: 女 | F76: 332 | G76: =[1]村里!G76+[2]村里!G76+[3]村里!G76+[4]村里!G76+[5]村里!G76+[6]村里!G76+[7]村里!G76+[8]村里!G76+[9]村里!G76+[10]村里!G76+[11]村里!G76+[12]村里!G76 -> 13 | H76: =[1]村里!H76+[2]村里!H76+[3]村里!H76+[4]村里!H76+[5]村里!H76+[6]村里!H76+[7]村里!H76+[8]村里!H76+[9]村里!H76+[10]村里!H76+[11]村里!H76+[12]村里!H76 -> 5 | I76: =[1]村里!I76+[2]村里!I76+[3]村里!I76+[4]村里!I76+[5]村里!I76+[6]村里!I76+[7]村里!I76+[8]村里!I76+[9]村里!I76+[10]村里!I76+[11]村里!I76+[12]村里!I76 -> 7 | J76: =[1]村里!J76+[2]村里!J76+[3]村里!J76+[4]村里!J76+[5]村里!J76+[6]村里!J76+[7]村里!J76+[8]村里!J76+[9]村里!J76+[10]村里!J76+[11]村里!J76+[12]村里!J76 -> 6 | K76: =[1]村里!K76+[2]村里!K76+[3]村里!K76+[4]村里!K76+[5]村里!K76+[6]村里!K76+[7]村里!K76+[8]村里!K76+[9]村里!K76+[10]村里!K76+[11]村里!K76+[12]村里!K76 -> 2 | L76: =[1]村里!L76+[2]村里!L76+[3]村里!L76+[4]村里!L76+[5]村里!L76+[6]村里!L76+[7]村里!L76+[8]村里!L76+[9]村里!L76+[10]村里!L76+[11]村里!L76+[12]村里!L76 -> 6 | M76: =[1]村里!M76+[2]村里!M76+[3]村里!M76+[4]村里!M76+[5]村里!M76+[6]村里!M76+[7]村里!M76+[8]村里!M76+[9]村里!M76+[10]村里!M76+[11]村里!M76+[12]村里!M76 -> 0 | N76: =[1]村里!N76+[2]村里!N76+[3]村里!N76+[4]村里!N76+[5]村里!N76+[6]村里!N76+[7]村里!N76+[8]村里!N76+[9]村里!N76+[10]村里!N76+[11]村里!N76+[12]村里!N76 -> 0 | ... R76: =[1]村里!R76+[2]村里!R76+[3]村里!R76+[4]村里!R76+[5]村里!R76+[6]村里!R76+[7]村里!R76+[8]村里!R76+[9]村里!R76+[10]村里!R76+[11]村里!R76+[12]村里!R76 -> 1
E77: 計 | F77: 1153 | G77: =[1]村里!G77+[2]村里!G77+[3]村里!G77+[4]村里!G77+[5]村里!G77+[6]村里!G77+[7]村里!G77+[8]村里!G77+[9]村里!G77+[10]村里!G77+[11]村里!G77+[12]村里!G77 -> 35 | H77: =[1]村里!H77+[2]村里!H77+[3]村里!H77+[4]村里!H77+[5]村里!H77+[6]村里!H77+[7]村里!H77+[8]村里!H77+[9]村里!H77+[10]村里!H77+[11]村里!H77+[12]村里!H77 -> 22 | I77: =[1]村里!I77+[2]村里!I77+[3]村里!I77+[4]村里!I77+[5]村里!I77+[6]村里!I77+[7]村里!I77+[8]村里!I77+[9]村里!I77+[10]村里!I77+[11]村里!I77+[12]村里!I77 -> 88 | J77: =[1]村里!J77+[2]村里!J77+[3]村里!J77+[4]村里!J77+[5]村里!J77+[6]村里!J77+[7]村里!J77+[8]村里!J77+[9]村里!J77+[10]村里!J77+[11]村里!J77+[12]村里!J77 -> 66 | K77: =[1]村里!K77+[2]村里!K77+[3]村里!K77+[4]村里!K77+[5]村里!K77+[6]村里!K77+[7]村里!K77+[8]村里!K77+[9]村里!K77+[10]村里!K77+[11]村里!K77+[12]村里!K77 -> 11 | L77: =[1]村里!L77+[2]村里!L77+[3]村里!L77+[4]村里!L77+[5]村里!L77+[6]村里!L77+[7]村里!L77+[8]村里!L77+[9]村里!L77+[10]村里!L77+[11]村里!L77+[12]村里!L77 -> 10 | M77: =[1]村里!M77+[2]村里!M77+[3]村里!M77+[4]村里!M77+[5]村里!M77+[6]村里!M77+[7]村里!M77+[8]村里!M77+[9]村里!M77+[10]村里!M77+[11]村里!M77+[12]村里!M77 -> 0 | N77: =[1]村里!N77+[2]村里!N77+[3]村里!N77+[4]村里!N77+[5]村里!N77+[6]村里!N77+[7]村里!N77+[8]村里!N77+[9]村里!N77+[10]村里!N77+[11]村里!N77+[12]村里!N77 -> 0 | ... R77: =[1]村里!R77+[2]村里!R77+[3]村里!R77+[4]村里!R77+[5]村里!R77+[6]村里!R77+[7]村里!R77+[8]村里!R77+[9]村里!R77+[10]村里!R77+[11]村里!R77+[12]村里!R77 -> 1
A78: 烏崁里 | B78: 1 | C78: 13 | D78: 409 | E78: 男 | F78: 603 | G78: =[1]村里!G78+[2]村里!G78+[3]村里!G78+[4]村里!G78+[5]村里!G78+[6]村里!G78+[7]村里!G78+[8]村里!G78+[9]村里!G78+[10]村里!G78+[11]村里!G78+[12]村里!G78 -> 19 | H78: =[1]村里!H78+[2]村里!H78+[3]村里!H78+[4]村里!H78+[5]村里!H78+[6]村里!H78+[7]村里!H78+[8]村里!H78+[9]村里!H78+[10]村里!H78+[11]村里!H78+[12]村里!H78 -> 10 | I78: =[1]村里!I78+[2]村里!I78+[3]村里!I78+[4]村里!I78+[5]村里!I78+[6]村里!I78+[7]村里!I78+[8]村里!I78+[9]村里!I78+[10]村里!I78+[11]村里!I78+[12]村里!I78 -> 43 | J78: =[1]村里!J78+[2]村里!J78+[3]村里!J78+[4]村里!J78+[5]村里!J78+[6]村里!J78+[7]村里!J78+[8]村里!J78+[9]村里!J78+[10]村里!J78+[11]村里!J78+[12]村里!J78 -> 35 | K78: =[1]村里!K78+[2]村里!K78+[3]村里!K78+[4]村里!K78+[5]村里!K78+[6]村里!K78+[7]村里!K78+[8]村里!K78+[9]村里!K78+[10]村里!K78+[11]村里!K78+[12]村里!K78 -> 9 | L78: =[1]村里!L78+[2]村里!L78+[3]村里!L78+[4]村里!L78+[5]村里!L78+[6]村里!L78+[7]村里!L78+[8]村里!L78+[9]村里!L78+[10]村里!L78+[11]村里!L78+[12]村里!L78 -> 6 | M78: =[1]村里!M78+[2]村里!M78+[3]村里!M78+[4]村里!M78+[5]村里!M78+[6]村里!M78+[7]村里!M78+[8]村里!M78+[9]村里!M78+[10]村里!M78+[11]村里!M78+[12]村里!M78 -> 0 | N78: =[1]村里!N78+[2]村里!N78+[3]村里!N78+[4]村里!N78+[5]村里!N78+[6]村里!N78+[7]村里!N78+[8]村里!N78+[9]村里!N78+[10]村里!N78+[11]村里!N78+[12]村里!N78 -> 0 | ... T78: =[1]村里!T78+[2]村里!T78+[3]村里!T78+[4]村里!T78+[5]村里!T78+[6]村里!T78+[7]村里!T78+[8]村里!T78+[9]村里!T78+[10]村里!T78+[11]村里!T78+[12]村里!T78 -> 4
E79: 女 | F79: 550 | G79: =[1]村里!G79+[2]村里!G79+[3]村里!G79+[4]村里!G79+[5]村里!G79+[6]村里!G79+[7]村里!G79+[8]村里!G79+[9]村里!G79+[10]村里!G79+[11]村里!G79+[12]村里!G79 -> 16 | H79: =[1]村里!H79+[2]村里!H79+[3]村里!H79+[4]村里!H79+[5]村里!H79+[6]村里!H79+[7]村里!H79+[8]村里!H79+[9]村里!H79+[10]村里!H79+[11]村里!H79+[12]村里!H79 -> 12 | I79: =[1]村里!I79+[2]村里!I79+[3]村里!I79+[4]村里!I79+[5]村里!I79+[6]村里!I79+[7]村里!I79+[8]村里!I79+[9]村里!I79+[10]村里!I79+[11]村里!I79+[12]村里!I79 -> 45 | J79: =[1]村里!J79+[2]村里!J79+[3]村里!J79+[4]村里!J79+[5]村里!J79+[6]村里!J79+[7]村里!J79+[8]村里!J79+[9]村里!J79+[10]村里!J79+[11]村里!J79+[12]村里!J79 -> 31 | K79: =[1]村里!K79+[2]村里!K79+[3]村里!K79+[4]村里!K79+[5]村里!K79+[6]村里!K79+[7]村里!K79+[8]村里!K79+[9]村里!K79+[10]村里!K79+[11]村里!K79+[12]村里!K79 -> 2 | L79: =[1]村里!L79+[2]村里!L79+[3]村里!L79+[4]村里!L79+[5]村里!L79+[6]村里!L79+[7]村里!L79+[8]村里!L79+[9]村里!L79+[10]村里!L79+[11]村里!L79+[12]村里!L79 -> 4 | M79: =[1]村里!M79+[2]村里!M79+[3]村里!M79+[4]村里!M79+[5]村里!M79+[6]村里!M79+[7]村里!M79+[8]村里!M79+[9]村里!M79+[10]村里!M79+[11]村里!M79+[12]村里!M79 -> 0 | N79: =[1]村里!N79+[2]村里!N79+[3]村里!N79+[4]村里!N79+[5]村里!N79+[6]村里!N79+[7]村里!N79+[8]村里!N79+[9]村里!N79+[10]村里!N79+[11]村里!N79+[12]村里!N79 -> 0 | ... R79: =[1]村里!R79+[2]村里!R79+[3]村里!R79+[4]村里!R79+[5]村里!R79+[6]村里!R79+[7]村里!R79+[8]村里!R79+[9]村里!R79+[10]村里!R79+[11]村里!R79+[12]村里!R79 -> 0
E80: 計 | F80: 1233 | G80: =[1]村里!G80+[2]村里!G80+[3]村里!G80+[4]村里!G80+[5]村里!G80+[6]村里!G80+[7]村里!G80+[8]村里!G80+[9]村里!G80+[10]村里!G80+[11]村里!G80+[12]村里!G80 -> 53 | H80: =[1]村里!H80+[2]村里!H80+[3]村里!H80+[4]村里!H80+[5]村里!H80+[6]村里!H80+[7]村里!H80+[8]村里!H80+[9]村里!H80+[10]村里!H80+[11]村里!H80+[12]村里!H80 -> 53 | I80: =[1]村里!I80+[2]村里!I80+[3]村里!I80+[4]村里!I80+[5]村里!I80+[6]村里!I80+[7]村里!I80+[8]村里!I80+[9]村里!I80+[10]村里!I80+[11]村里!I80+[12]村里!I80 -> 76 | J80: =[1]村里!J80+[2]村里!J80+[3]村里!J80+[4]村里!J80+[5]村里!J80+[6]村里!J80+[7]村里!J80+[8]村里!J80+[9]村里!J80+[10]村里!J80+[11]村里!J80+[12]村里!J80 -> 55 | K80: =[1]村里!K80+[2]村里!K80+[3]村里!K80+[4]村里!K80+[5]村里!K80+[6]村里!K80+[7]村里!K80+[8]村里!K80+[9]村里!K80+[10]村里!K80+[11]村里!K80+[12]村里!K80 -> 8 | L80: =[1]村里!L80+[2]村里!L80+[3]村里!L80+[4]村里!L80+[5]村里!L80+[6]村里!L80+[7]村里!L80+[8]村里!L80+[9]村里!L80+[10]村里!L80+[11]村里!L80+[12]村里!L80 -> 7 | M80: =[1]村里!M80+[2]村里!M80+[3]村里!M80+[4]村里!M80+[5]村里!M80+[6]村里!M80+[7]村里!M80+[8]村里!M80+[9]村里!M80+[10]村里!M80+[11]村里!M80+[12]村里!M80 -> 0 | N80: =[1]村里!N80+[2]村里!N80+[3]村里!N80+[4]村里!N80+[5]村里!N80+[6]村里!N80+[7]村里!N80+[8]村里!N80+[9]村里!N80+[10]村里!N80+[11]村里!N80+[12]村里!N80 -> 0 | ... R80: =[1]村里!R80+[2]村里!R80+[3]村里!R80+[4]村里!R80+[5]村里!R80+[6]村里!R80+[7]村里!R80+[8]村里!R80+[9]村里!R80+[10]村里!R80+[11]村里!R80+[12]村里!R80 -> 7
A81: 興仁里 | B81: 1 | C81: 14 | D81: 506 | E81: 男 | F81: 626 | G81: =[1]村里!G81+[2]村里!G81+[3]村里!G81+[4]村里!G81+[5]村里!G81+[6]村里!G81+[7]村里!G81+[8]村里!G81+[9]村里!G81+[10]村里!G81+[11]村里!G81+[12]村里!G81 -> 32 | H81: =[1]村里!H81+[2]村里!H81+[3]村里!H81+[4]村里!H81+[5]村里!H81+[6]村里!H81+[7]村里!H81+[8]村里!H81+[9]村里!H81+[10]村里!H81+[11]村里!H81+[12]村里!H81 -> 35 | I81: =[1]村里!I81+[2]村里!I81+[3]村里!I81+[4]村里!I81+[5]村里!I81+[6]村里!I81+[7]村里!I81+[8]村里!I81+[9]村里!I81+[10]村里!I81+[11]村里!I81+[12]村里!I81 -> 38 | J81: =[1]村里!J81+[2]村里!J81+[3]村里!J81+[4]村里!J81+[5]村里!J81+[6]村里!J81+[7]村里!J81+[8]村里!J81+[9]村里!J81+[10]村里!J81+[11]村里!J81+[12]村里!J81 -> 33 | K81: =[1]村里!K81+[2]村里!K81+[3]村里!K81+[4]村里!K81+[5]村里!K81+[6]村里!K81+[7]村里!K81+[8]村里!K81+[9]村里!K81+[10]村里!K81+[11]村里!K81+[12]村里!K81 -> 5 | L81: =[1]村里!L81+[2]村里!L81+[3]村里!L81+[4]村里!L81+[5]村里!L81+[6]村里!L81+[7]村里!L81+[8]村里!L81+[9]村里!L81+[10]村里!L81+[11]村里!L81+[12]村里!L81 -> 4 | M81: =[1]村里!M81+[2]村里!M81+[3]村里!M81+[4]村里!M81+[5]村里!M81+[6]村里!M81+[7]村里!M81+[8]村里!M81+[9]村里!M81+[10]村里!M81+[11]村里!M81+[12]村里!M81 -> 0 | N81: =[1]村里!N81+[2]村里!N81+[3]村里!N81+[4]村里!N81+[5]村里!N81+[6]村里!N81+[7]村里!N81+[8]村里!N81+[9]村里!N81+[10]村里!N81+[11]村里!N81+[12]村里!N81 -> 0 | ... T81: =[1]村里!T81+[2]村里!T81+[3]村里!T81+[4]村里!T81+[5]村里!T81+[6]村里!T81+[7]村里!T81+[8]村里!T81+[9]村里!T81+[10]村里!T81+[11]村里!T81+[12]村里!T81 -> 3
E82: 女 | F82: 607 | G82: =[1]村里!G82+[2]村里!G82+[3]村里!G82+[4]村里!G82+[5]村里!G82+[6]村里!G82+[7]村里!G82+[8]村里!G82+[9]村里!G82+[10]村里!G82+[11]村里!G82+[12]村里!G82 -> 21 | H82: =[1]村里!H82+[2]村里!H82+[3]村里!H82+[4]村里!H82+[5]村里!H82+[6]村里!H82+[7]村里!H82+[8]村里!H82+[9]村里!H82+[10]村里!H82+[11]村里!H82+[12]村里!H82 -> 18 | I82: =[1]村里!I82+[2]村里!I82+[3]村里!I82+[4]村里!I82+[5]村里!I82+[6]村里!I82+[7]村里!I82+[8]村里!I82+[9]村里!I82+[10]村里!I82+[11]村里!I82+[12]村里!I82 -> 38 | J82: =[1]村里!J82+[2]村里!J82+[3]村里!J82+[4]村里!J82+[5]村里!J82+[6]村里!J82+[7]村里!J82+[8]村里!J82+[9]村里!J82+[10]村里!J82+[11]村里!J82+[12]村里!J82 -> 22 | K82: =[1]村里!K82+[2]村里!K82+[3]村里!K82+[4]村里!K82+[5]村里!K82+[6]村里!K82+[7]村里!K82+[8]村里!K82+[9]村里!K82+[10]村里!K82+[11]村里!K82+[12]村里!K82 -> 3 | L82: =[1]村里!L82+[2]村里!L82+[3]村里!L82+[4]村里!L82+[5]村里!L82+[6]村里!L82+[7]村里!L82+[8]村里!L82+[9]村里!L82+[10]村里!L82+[11]村里!L82+[12]村里!L82 -> 3 | M82: =[1]村里!M82+[2]村里!M82+[3]村里!M82+[4]村里!M82+[5]村里!M82+[6]村里!M82+[7]村里!M82+[8]村里!M82+[9]村里!M82+[10]村里!M82+[11]村里!M82+[12]村里!M82 -> 0 | N82: =[1]村里!N82+[2]村里!N82+[3]村里!N82+[4]村里!N82+[5]村里!N82+[6]村里!N82+[7]村里!N82+[8]村里!N82+[9]村里!N82+[10]村里!N82+[11]村里!N82+[12]村里!N82 -> 0 | ... R82: =[1]村里!R82+[2]村里!R82+[3]村里!R82+[4]村里!R82+[5]村里!R82+[6]村里!R82+[7]村里!R82+[8]村里!R82+[9]村里!R82+[10]村里!R82+[11]村里!R82+[12]村里!R82 -> 1
E83: 計 | F83: 679 | G83: =[1]村里!G83+[2]村里!G83+[3]村里!G83+[4]村里!G83+[5]村里!G83+[6]村里!G83+[7]村里!G83+[8]村里!G83+[9]村里!G83+[10]村里!G83+[11]村里!G83+[12]村里!G83 -> 18 | H83: =[1]村里!H83+[2]村里!H83+[3]村里!H83+[4]村里!H83+[5]村里!H83+[6]村里!H83+[7]村里!H83+[8]村里!H83+[9]村里!H83+[10]村里!H83+[11]村里!H83+[12]村里!H83 -> 16 | I83: =[1]村里!I83+[2]村里!I83+[3]村里!I83+[4]村里!I83+[5]村里!I83+[6]村里!I83+[7]村里!I83+[8]村里!I83+[9]村里!I83+[10]村里!I83+[11]村里!I83+[12]村里!I83 -> 41 | J83: =[1]村里!J83+[2]村里!J83+[3]村里!J83+[4]村里!J83+[5]村里!J83+[6]村里!J83+[7]村里!J83+[8]村里!J83+[9]村里!J83+[10]村里!J83+[11]村里!J83+[12]村里!J83 -> 22 | K83: =[1]村里!K83+[2]村里!K83+[3]村里!K83+[4]村里!K83+[5]村里!K83+[6]村里!K83+[7]村里!K83+[8]村里!K83+[9]村里!K83+[10]村里!K83+[11]村里!K83+[12]村里!K83 -> 6 | L83: =[1]村里!L83+[2]村里!L83+[3]村里!L83+[4]村里!L83+[5]村里!L83+[6]村里!L83+[7]村里!L83+[8]村里!L83+[9]村里!L83+[10]村里!L83+[11]村里!L83+[12]村里!L83 -> 4 | M83: =[1]村里!M83+[2]村里!M83+[3]村里!M83+[4]村里!M83+[5]村里!M83+[6]村里!M83+[7]村里!M83+[8]村里!M83+[9]村里!M83+[10]村里!M83+[11]村里!M83+[12]村里!M83 -> 0 | N83: =[1]村里!N83+[2]村里!N83+[3]村里!N83+[4]村里!N83+[5]村里!N83+[6]村里!N83+[7]村里!N83+[8]村里!N83+[9]村里!N83+[10]村里!N83+[11]村里!N83+[12]村里!N83 -> 0 | ... R83: =[1]村里!R83+[2]村里!R83+[3]村里!R83+[4]村里!R83+[5]村里!R83+[6]村里!R83+[7]村里!R83+[8]村里!R83+[9]村里!R83+[10]村里!R83+[11]村里!R83+[12]村里!R83 -> 2
A84: 鐵線里 | B84: 1 | C84: 7 | D84: 258 | E84: 男 | F84: 338 | G84: =[1]村里!G84+[2]村里!G84+[3]村里!G84+[4]村里!G84+[5]村里!G84+[6]村里!G84+[7]村里!G84+[8]村里!G84+[9]村里!G84+[10]村里!G84+[11]村里!G84+[12]村里!G84 -> 11 | H84: =[1]村里!H84+[2]村里!H84+[3]村里!H84+[4]村里!H84+[5]村里!H84+[6]村里!H84+[7]村里!H84+[8]村里!H84+[9]村里!H84+[10]村里!H84+[11]村里!H84+[12]村里!H84 -> 8 | I84: =[1]村里!I84+[2]村里!I84+[3]村里!I84+[4]村里!I84+[5]村里!I84+[6]村里!I84+[7]村里!I84+[8]村里!I84+[9]村里!I84+[10]村里!I84+[11]村里!I84+[12]村里!I84 -> 21 | J84: =[1]村里!J84+[2]村里!J84+[3]村里!J84+[4]村里!J84+[5]村里!J84+[6]村里!J84+[7]村里!J84+[8]村里!J84+[9]村里!J84+[10]村里!J84+[11]村里!J84+[12]村里!J84 -> 7 | K84: =[1]村里!K84+[2]村里!K84+[3]村里!K84+[4]村里!K84+[5]村里!K84+[6]村里!K84+[7]村里!K84+[8]村里!K84+[9]村里!K84+[10]村里!K84+[11]村里!K84+[12]村里!K84 -> 2 | L84: =[1]村里!L84+[2]村里!L84+[3]村里!L84+[4]村里!L84+[5]村里!L84+[6]村里!L84+[7]村里!L84+[8]村里!L84+[9]村里!L84+[10]村里!L84+[11]村里!L84+[12]村里!L84 -> 1 | M84: =[1]村里!M84+[2]村里!M84+[3]村里!M84+[4]村里!M84+[5]村里!M84+[6]村里!M84+[7]村里!M84+[8]村里!M84+[9]村里!M84+[10]村里!M84+[11]村里!M84+[12]村里!M84 -> 0 | N84: =[1]村里!N84+[2]村里!N84+[3]村里!N84+[4]村里!N84+[5]村里!N84+[6]村里!N84+[7]村里!N84+[8]村里!N84+[9]村里!N84+[10]村里!N84+[11]村里!N84+[12]村里!N84 -> 0 | ... T84: =[1]村里!T84+[2]村里!T84+[3]村里!T84+[4]村里!T84+[5]村里!T84+[6]村里!T84+[7]村里!T84+[8]村里!T84+[9]村里!T84+[10]村里!T84+[11]村里!T84+[12]村里!T84 -> 3
E85: 女 | F85: 341 | G85: =[1]村里!G85+[2]村里!G85+[3]村里!G85+[4]村里!G85+[5]村里!G85+[6]村里!G85+[7]村里!G85+[8]村里!G85+[9]村里!G85+[10]村里!G85+[11]村里!G85+[12]村里!G85 -> 7 | H85: =[1]村里!H85+[2]村里!H85+[3]村里!H85+[4]村里!H85+[5]村里!H85+[6]村里!H85+[7]村里!H85+[8]村里!H85+[9]村里!H85+[10]村里!H85+[11]村里!H85+[12]村里!H85 -> 8 | I85: =[1]村里!I85+[2]村里!I85+[3]村里!I85+[4]村里!I85+[5]村里!I85+[6]村里!I85+[7]村里!I85+[8]村里!I85+[9]村里!I85+[10]村里!I85+[11]村里!I85+[12]村里!I85 -> 20 | J85: =[1]村里!J85+[2]村里!J85+[3]村里!J85+[4]村里!J85+[5]村里!J85+[6]村里!J85+[7]村里!J85+[8]村里!J85+[9]村里!J85+[10]村里!J85+[11]村里!J85+[12]村里!J85 -> 15 | K85: =[1]村里!K85+[2]村里!K85+[3]村里!K85+[4]村里!K85+[5]村里!K85+[6]村里!K85+[7]村里!K85+[8]村里!K85+[9]村里!K85+[10]村里!K85+[11]村里!K85+[12]村里!K85 -> 4 | L85: =[1]村里!L85+[2]村里!L85+[3]村里!L85+[4]村里!L85+[5]村里!L85+[6]村里!L85+[7]村里!L85+[8]村里!L85+[9]村里!L85+[10]村里!L85+[11]村里!L85+[12]村里!L85 -> 3 | M85: =[1]村里!M85+[2]村里!M85+[3]村里!M85+[4]村里!M85+[5]村里!M85+[6]村里!M85+[7]村里!M85+[8]村里!M85+[9]村里!M85+[10]村里!M85+[11]村里!M85+[12]村里!M85 -> 0 | N85: =[1]村里!N85+[2]村里!N85+[3]村里!N85+[4]村里!N85+[5]村里!N85+[6]村里!N85+[7]村里!N85+[8]村里!N85+[9]村里!N85+[10]村里!N85+[11]村里!N85+[12]村里!N85 -> 0 | ... R85: =[1]村里!R85+[2]村里!R85+[3]村里!R85+[4]村里!R85+[5]村里!R85+[6]村里!R85+[7]村里!R85+[8]村里!R85+[9]村里!R85+[10]村里!R85+[11]村里!R85+[12]村里!R85 -> 1
E86: 計 | F86: 1955 | G86: =[1]村里!G86+[2]村里!G86+[3]村里!G86+[4]村里!G86+[5]村里!G86+[6]村里!G86+[7]村里!G86+[8]村里!G86+[9]村里!G86+[10]村里!G86+[11]村里!G86+[12]村里!G86 -> 62 | H86: =[1]村里!H86+[2]村里!H86+[3]村里!H86+[4]村里!H86+[5]村里!H86+[6]村里!H86+[7]村里!H86+[8]村里!H86+[9]村里!H86+[10]村里!H86+[11]村里!H86+[12]村里!H86 -> 52 | I86: =[1]村里!I86+[2]村里!I86+[3]村里!I86+[4]村里!I86+[5]村里!I86+[6]村里!I86+[7]村里!I86+[8]村里!I86+[9]村里!I86+[10]村里!I86+[11]村里!I86+[12]村里!I86 -> 70 | J86: =[1]村里!J86+[2]村里!J86+[3]村里!J86+[4]村里!J86+[5]村里!J86+[6]村里!J86+[7]村里!J86+[8]村里!J86+[9]村里!J86+[10]村里!J86+[11]村里!J86+[12]村里!J86 -> 80 | K86: =[1]村里!K86+[2]村里!K86+[3]村里!K86+[4]村里!K86+[5]村里!K86+[6]村里!K86+[7]村里!K86+[8]村里!K86+[9]村里!K86+[10]村里!K86+[11]村里!K86+[12]村里!K86 -> 15 | L86: =[1]村里!L86+[2]村里!L86+[3]村里!L86+[4]村里!L86+[5]村里!L86+[6]村里!L86+[7]村里!L86+[8]村里!L86+[9]村里!L86+[10]村里!L86+[11]村里!L86+[12]村里!L86 -> 22 | M86: =[1]村里!M86+[2]村里!M86+[3]村里!M86+[4]村里!M86+[5]村里!M86+[6]村里!M86+[7]村里!M86+[8]村里!M86+[9]村里!M86+[10]村里!M86+[11]村里!M86+[12]村里!M86 -> 0 | N86: =[1]村里!N86+[2]村里!N86+[3]村里!N86+[4]村里!N86+[5]村里!N86+[6]村里!N86+[7]村里!N86+[8]村里!N86+[9]村里!N86+[10]村里!N86+[11]村里!N86+[12]村里!N86 -> 1 | ... R86: =[1]村里!R86+[2]村里!R86+[3]村里!R86+[4]村里!R86+[5]村里!R86+[6]村里!R86+[7]村里!R86+[8]村里!R86+[9]村里!R86+[10]村里!R86+[11]村里!R86+[12]村里!R86 -> 8
A87: 山水里 | B87: 1 | C87: 22 | D87: 679 | E87: 男 | F87: 1017 | G87: =[1]村里!G87+[2]村里!G87+[3]村里!G87+[4]村里!G87+[5]村里!G87+[6]村里!G87+[7]村里!G87+[8]村里!G87+[9]村里!G87+[10]村里!G87+[11]村里!G87+[12]村里!G87 -> 25 | H87: =[1]村里!H87+[2]村里!H87+[3]村里!H87+[4]村里!H87+[5]村里!H87+[6]村里!H87+[7]村里!H87+[8]村里!H87+[9]村里!H87+[10]村里!H87+[11]村里!H87+[12]村里!H87 -> 26 | I87: =[1]村里!I87+[2]村里!I87+[3]村里!I87+[4]村里!I87+[5]村里!I87+[6]村里!I87+[7]村里!I87+[8]村里!I87+[9]村里!I87+[10]村里!I87+[11]村里!I87+[12]村里!I87 -> 38 | J87: =[1]村里!J87+[2]村里!J87+[3]村里!J87+[4]村里!J87+[5]村里!J87+[6]村里!J87+[7]村里!J87+[8]村里!J87+[9]村里!J87+[10]村里!J87+[11]村里!J87+[12]村里!J87 -> 37 | K87: =[1]村里!K87+[2]村里!K87+[3]村里!K87+[4]村里!K87+[5]村里!K87+[6]村里!K87+[7]村里!K87+[8]村里!K87+[9]村里!K87+[10]村里!K87+[11]村里!K87+[12]村里!K87 -> 8 | L87: =[1]村里!L87+[2]村里!L87+[3]村里!L87+[4]村里!L87+[5]村里!L87+[6]村里!L87+[7]村里!L87+[8]村里!L87+[9]村里!L87+[10]村里!L87+[11]村里!L87+[12]村里!L87 -> 15 | M87: =[1]村里!M87+[2]村里!M87+[3]村里!M87+[4]村里!M87+[5]村里!M87+[6]村里!M87+[7]村里!M87+[8]村里!M87+[9]村里!M87+[10]村里!M87+[11]村里!M87+[12]村里!M87 -> 0 | N87: =[1]村里!N87+[2]村里!N87+[3]村里!N87+[4]村里!N87+[5]村里!N87+[6]村里!N87+[7]村里!N87+[8]村里!N87+[9]村里!N87+[10]村里!N87+[11]村里!N87+[12]村里!N87 -> 1 | ... T87: =[1]村里!T87+[2]村里!T87+[3]村里!T87+[4]村里!T87+[5]村里!T87+[6]村里!T87+[7]村里!T87+[8]村里!T87+[9]村里!T87+[10]村里!T87+[11]村里!T87+[12]村里!T87 -> 5
E88: 女 | F88: 938 | G88: =[1]村里!G88+[2]村里!G88+[3]村里!G88+[4]村里!G88+[5]村里!G88+[6]村里!G88+[7]村里!G88+[8]村里!G88+[9]村里!G88+[10]村里!G88+[11]村里!G88+[12]村里!G88 -> 37 | H88: =[1]村里!H88+[2]村里!H88+[3]村里!H88+[4]村里!H88+[5]村里!H88+[6]村里!H88+[7]村里!H88+[8]村里!H88+[9]村里!H88+[10]村里!H88+[11]村里!H88+[12]村里!H88 -> 26 | I88: =[1]村里!I88+[2]村里!I88+[3]村里!I88+[4]村里!I88+[5]村里!I88+[6]村里!I88+[7]村里!I88+[8]村里!I88+[9]村里!I88+[10]村里!I88+[11]村里!I88+[12]村里!I88 -> 32 | J88: =[1]村里!J88+[2]村里!J88+[3]村里!J88+[4]村里!J88+[5]村里!J88+[6]村里!J88+[7]村里!J88+[8]村里!J88+[9]村里!J88+[10]村里!J88+[11]村里!J88+[12]村里!J88 -> 43 | K88: =[1]村里!K88+[2]村里!K88+[3]村里!K88+[4]村里!K88+[5]村里!K88+[6]村里!K88+[7]村里!K88+[8]村里!K88+[9]村里!K88+[10]村里!K88+[11]村里!K88+[12]村里!K88 -> 7 | L88: =[1]村里!L88+[2]村里!L88+[3]村里!L88+[4]村里!L88+[5]村里!L88+[6]村里!L88+[7]村里!L88+[8]村里!L88+[9]村里!L88+[10]村里!L88+[11]村里!L88+[12]村里!L88 -> 7 | M88: =[1]村里!M88+[2]村里!M88+[3]村里!M88+[4]村里!M88+[5]村里!M88+[6]村里!M88+[7]村里!M88+[8]村里!M88+[9]村里!M88+[10]村里!M88+[11]村里!M88+[12]村里!M88 -> 0 | N88: =[1]村里!N88+[2]村里!N88+[3]村里!N88+[4]村里!N88+[5]村里!N88+[6]村里!N88+[7]村里!N88+[8]村里!N88+[9]村里!N88+[10]村里!N88+[11]村里!N88+[12]村里!N88 -> 0 | ... R88: =[1]村里!R88+[2]村里!R88+[3]村里!R88+[4]村里!R88+[5]村里!R88+[6]村里!R88+[7]村里!R88+[8]村里!R88+[9]村里!R88+[10]村里!R88+[11]村里!R88+[12]村里!R88 -> 4
E89: 計 | F89: 2857 | G89: =[1]村里!G89+[2]村里!G89+[3]村里!G89+[4]村里!G89+[5]村里!G89+[6]村里!G89+[7]村里!G89+[8]村里!G89+[9]村里!G89+[10]村里!G89+[11]村里!G89+[12]村里!G89 -> 82 | H89: =[1]村里!H89+[2]村里!H89+[3]村里!H89+[4]村里!H89+[5]村里!H89+[6]村里!H89+[7]村里!H89+[8]村里!H89+[9]村里!H89+[10]村里!H89+[11]村里!H89+[12]村里!H89 -> 64 | I89: =[1]村里!I89+[2]村里!I89+[3]村里!I89+[4]村里!I89+[5]村里!I89+[6]村里!I89+[7]村里!I89+[8]村里!I89+[9]村里!I89+[10]村里!I89+[11]村里!I89+[12]村里!I89 -> 105 | J89: =[1]村里!J89+[2]村里!J89+[3]村里!J89+[4]村里!J89+[5]村里!J89+[6]村里!J89+[7]村里!J89+[8]村里!J89+[9]村里!J89+[10]村里!J89+[11]村里!J89+[12]村里!J89 -> 83 | K89: =[1]村里!K89+[2]村里!K89+[3]村里!K89+[4]村里!K89+[5]村里!K89+[6]村里!K89+[7]村里!K89+[8]村里!K89+[9]村里!K89+[10]村里!K89+[11]村里!K89+[12]村里!K89 -> 26 | L89: =[1]村里!L89+[2]村里!L89+[3]村里!L89+[4]村里!L89+[5]村里!L89+[6]村里!L89+[7]村里!L89+[8]村里!L89+[9]村里!L89+[10]村里!L89+[11]村里!L89+[12]村里!L89 -> 20 | M89: =[1]村里!M89+[2]村里!M89+[3]村里!M89+[4]村里!M89+[5]村里!M89+[6]村里!M89+[7]村里!M89+[8]村里!M89+[9]村里!M89+[10]村里!M89+[11]村里!M89+[12]村里!M89 -> 0 | N89: =[1]村里!N89+[2]村里!N89+[3]村里!N89+[4]村里!N89+[5]村里!N89+[6]村里!N89+[7]村里!N89+[8]村里!N89+[9]村里!N89+[10]村里!N89+[11]村里!N89+[12]村里!N89 -> 0 | ... R89: =[1]村里!R89+[2]村里!R89+[3]村里!R89+[4]村里!R89+[5]村里!R89+[6]村里!R89+[7]村里!R89+[8]村里!R89+[9]村里!R89+[10]村里!R89+[11]村里!R89+[12]村里!R89 -> 4
A90: 鎖港里 | B90: 1 | C90: 27 | D90: 1036 | E90: 男 | F90: 1475 | G90: =[1]村里!G90+[2]村里!G90+[3]村里!G90+[4]村里!G90+[5]村里!G90+[6]村里!G90+[7]村里!G90+[8]村里!G90+[9]村里!G90+[10]村里!G90+[11]村里!G90+[12]村里!G90 -> 42 | H90: =[1]村里!H90+[2]村里!H90+[3]村里!H90+[4]村里!H90+[5]村里!H90+[6]村里!H90+[7]村里!H90+[8]村里!H90+[9]村里!H90+[10]村里!H90+[11]村里!H90+[12]村里!H90 -> 25 | I90: =[1]村里!I90+[2]村里!I90+[3]村里!I90+[4]村里!I90+[5]村里!I90+[6]村里!I90+[7]村里!I90+[8]村里!I90+[9]村里!I90+[10]村里!I90+[11]村里!I90+[12]村里!I90 -> 57 | J90: =[1]村里!J90+[2]村里!J90+[3]村里!J90+[4]村里!J90+[5]村里!J90+[6]村里!J90+[7]村里!J90+[8]村里!J90+[9]村里!J90+[10]村里!J90+[11]村里!J90+[12]村里!J90 -> 48 | K90: =[1]村里!K90+[2]村里!K90+[3]村里!K90+[4]村里!K90+[5]村里!K90+[6]村里!K90+[7]村里!K90+[8]村里!K90+[9]村里!K90+[10]村里!K90+[11]村里!K90+[12]村里!K90 -> 14 | L90: =[1]村里!L90+[2]村里!L90+[3]村里!L90+[4]村里!L90+[5]村里!L90+[6]村里!L90+[7]村里!L90+[8]村里!L90+[9]村里!L90+[10]村里!L90+[11]村里!L90+[12]村里!L90 -> 11 | M90: =[1]村里!M90+[2]村里!M90+[3]村里!M90+[4]村里!M90+[5]村里!M90+[6]村里!M90+[7]村里!M90+[8]村里!M90+[9]村里!M90+[10]村里!M90+[11]村里!M90+[12]村里!M90 -> 0 | N90: =[1]村里!N90+[2]村里!N90+[3]村里!N90+[4]村里!N90+[5]村里!N90+[6]村里!N90+[7]村里!N90+[8]村里!N90+[9]村里!N90+[10]村里!N90+[11]村里!N90+[12]村里!N90 -> 0 | ... T90: =[1]村里!T90+[2]村里!T90+[3]村里!T90+[4]村里!T90+[5]村里!T90+[6]村里!T90+[7]村里!T90+[8]村里!T90+[9]村里!T90+[10]村里!T90+[11]村里!T90+[12]村里!T90 -> 7
E91: 女 | F91: 1382 | G91: =[1]村里!G91+[2]村里!G91+[3]村里!G91+[4]村里!G91+[5]村里!G91+[6]村里!G91+[7]村里!G91+[8]村里!G91+[9]村里!G91+[10]村里!G91+[11]村里!G91+[12]村里!G91 -> 40 | H91: =[1]村里!H91+[2]村里!H91+[3]村里!H91+[4]村里!H91+[5]村里!H91+[6]村里!H91+[7]村里!H91+[8]村里!H91+[9]村里!H91+[10]村里!H91+[11]村里!H91+[12]村里!H91 -> 39 | I91: =[1]村里!I91+[2]村里!I91+[3]村里!I91+[4]村里!I91+[5]村里!I91+[6]村里!I91+[7]村里!I91+[8]村里!I91+[9]村里!I91+[10]村里!I91+[11]村里!I91+[12]村里!I91 -> 48 | J91: =[1]村里!J91+[2]村里!J91+[3]村里!J91+[4]村里!J91+[5]村里!J91+[6]村里!J91+[7]村里!J91+[8]村里!J91+[9]村里!J91+[10]村里!J91+[11]村里!J91+[12]村里!J91 -> 35 | K91: =[1]村里!K91+[2]村里!K91+[3]村里!K91+[4]村里!K91+[5]村里!K91+[6]村里!K91+[7]村里!K91+[8]村里!K91+[9]村里!K91+[10]村里!K91+[11]村里!K91+[12]村里!K91 -> 12 | L91: =[1]村里!L91+[2]村里!L91+[3]村里!L91+[4]村里!L91+[5]村里!L91+[6]村里!L91+[7]村里!L91+[8]村里!L91+[9]村里!L91+[10]村里!L91+[11]村里!L91+[12]村里!L91 -> 9 | M91: =[1]村里!M91+[2]村里!M91+[3]村里!M91+[4]村里!M91+[5]村里!M91+[6]村里!M91+[7]村里!M91+[8]村里!M91+[9]村里!M91+[10]村里!M91+[11]村里!M91+[12]村里!M91 -> 0 | N91: =[1]村里!N91+[2]村里!N91+[3]村里!N91+[4]村里!N91+[5]村里!N91+[6]村里!N91+[7]村里!N91+[8]村里!N91+[9]村里!N91+[10]村里!N91+[11]村里!N91+[12]村里!N91 -> 0 | ... R91: =[1]村里!R91+[2]村里!R91+[3]村里!R91+[4]村里!R91+[5]村里!R91+[6]村里!R91+[7]村里!R91+[8]村里!R91+[9]村里!R91+[10]村里!R91+[11]村里!R91+[12]村里!R91 -> 4
E92: 計 | F92: 405 | G92: =[1]村里!G92+[2]村里!G92+[3]村里!G92+[4]村里!G92+[5]村里!G92+[6]村里!G92+[7]村里!G92+[8]村里!G92+[9]村里!G92+[10]村里!G92+[11]村里!G92+[12]村里!G92 -> 45 | H92: =[1]村里!H92+[2]村里!H92+[3]村里!H92+[4]村里!H92+[5]村里!H92+[6]村里!H92+[7]村里!H92+[8]村里!H92+[9]村里!H92+[10]村里!H92+[11]村里!H92+[12]村里!H92 -> 35 | I92: =[1]村里!I92+[2]村里!I92+[3]村里!I92+[4]村里!I92+[5]村里!I92+[6]村里!I92+[7]村里!I92+[8]村里!I92+[9]村里!I92+[10]村里!I92+[11]村里!I92+[12]村里!I92 -> 15 | J92: =[1]村里!J92+[2]村里!J92+[3]村里!J92+[4]村里!J92+[5]村里!J92+[6]村里!J92+[7]村里!J92+[8]村里!J92+[9]村里!J92+[10]村里!J92+[11]村里!J92+[12]村里!J92 -> 12 | K92: =[1]村里!K92+[2]村里!K92+[3]村里!K92+[4]村里!K92+[5]村里!K92+[6]村里!K92+[7]村里!K92+[8]村里!K92+[9]村里!K92+[10]村里!K92+[11]村里!K92+[12]村里!K92 -> 3 | L92: =[1]村里!L92+[2]村里!L92+[3]村里!L92+[4]村里!L92+[5]村里!L92+[6]村里!L92+[7]村里!L92+[8]村里!L92+[9]村里!L92+[10]村里!L92+[11]村里!L92+[12]村里!L92 -> 2 | M92: =[1]村里!M92+[2]村里!M92+[3]村里!M92+[4]村里!M92+[5]村里!M92+[6]村里!M92+[7]村里!M92+[8]村里!M92+[9]村里!M92+[10]村里!M92+[11]村里!M92+[12]村里!M92 -> 0 | N92: =[1]村里!N92+[2]村里!N92+[3]村里!N92+[4]村里!N92+[5]村里!N92+[6]村里!N92+[7]村里!N92+[8]村里!N92+[9]村里!N92+[10]村里!N92+[11]村里!N92+[12]村里!N92 -> 0 | ... R92: =[1]村里!R92+[2]村里!R92+[3]村里!R92+[4]村里!R92+[5]村里!R92+[6]村里!R92+[7]村里!R92+[8]村里!R92+[9]村里!R92+[10]村里!R92+[11]村里!R92+[12]村里!R92 -> 0
A93: 五德里 | B93: 1 | C93: 8 | D93: 229 | E93: 男 | F93: 258 | G93: =[1]村里!G93+[2]村里!G93+[3]村里!G93+[4]村里!G93+[5]村里!G93+[6]村里!G93+[7]村里!G93+[8]村里!G93+[9]村里!G93+[10]村里!G93+[11]村里!G93+[12]村里!G93 -> 30 | H93: =[1]村里!H93+[2]村里!H93+[3]村里!H93+[4]村里!H93+[5]村里!H93+[6]村里!H93+[7]村里!H93+[8]村里!H93+[9]村里!H93+[10]村里!H93+[11]村里!H93+[12]村里!H93 -> 27 | I93: =[1]村里!I93+[2]村里!I93+[3]村里!I93+[4]村里!I93+[5]村里!I93+[6]村里!I93+[7]村里!I93+[8]村里!I93+[9]村里!I93+[10]村里!I93+[11]村里!I93+[12]村里!I93 -> 7 | J93: =[1]村里!J93+[2]村里!J93+[3]村里!J93+[4]村里!J93+[5]村里!J93+[6]村里!J93+[7]村里!J93+[8]村里!J93+[9]村里!J93+[10]村里!J93+[11]村里!J93+[12]村里!J93 -> 5 | K93: =[1]村里!K93+[2]村里!K93+[3]村里!K93+[4]村里!K93+[5]村里!K93+[6]村里!K93+[7]村里!K93+[8]村里!K93+[9]村里!K93+[10]村里!K93+[11]村里!K93+[12]村里!K93 -> 2 | L93: =[1]村里!L93+[2]村里!L93+[3]村里!L93+[4]村里!L93+[5]村里!L93+[6]村里!L93+[7]村里!L93+[8]村里!L93+[9]村里!L93+[10]村里!L93+[11]村里!L93+[12]村里!L93 -> 2 | M93: =[1]村里!M93+[2]村里!M93+[3]村里!M93+[4]村里!M93+[5]村里!M93+[6]村里!M93+[7]村里!M93+[8]村里!M93+[9]村里!M93+[10]村里!M93+[11]村里!M93+[12]村里!M93 -> 0 | N93: =[1]村里!N93+[2]村里!N93+[3]村里!N93+[4]村里!N93+[5]村里!N93+[6]村里!N93+[7]村里!N93+[8]村里!N93+[9]村里!N93+[10]村里!N93+[11]村里!N93+[12]村里!N93 -> 0 | ... T93: =[1]村里!T93+[2]村里!T93+[3]村里!T93+[4]村里!T93+[5]村里!T93+[6]村里!T93+[7]村里!T93+[8]村里!T93+[9]村里!T93+[10]村里!T93+[11]村里!T93+[12]村里!T93 -> 1
E94: 女 | F94: 147 | G94: =[1]村里!G94+[2]村里!G94+[3]村里!G94+[4]村里!G94+[5]村里!G94+[6]村里!G94+[7]村里!G94+[8]村里!G94+[9]村里!G94+[10]村里!G94+[11]村里!G94+[12]村里!G94 -> 15 | H94: =[1]村里!H94+[2]村里!H94+[3]村里!H94+[4]村里!H94+[5]村里!H94+[6]村里!H94+[7]村里!H94+[8]村里!H94+[9]村里!H94+[10]村里!H94+[11]村里!H94+[12]村里!H94 -> 8 | I94: =[1]村里!I94+[2]村里!I94+[3]村里!I94+[4]村里!I94+[5]村里!I94+[6]村里!I94+[7]村里!I94+[8]村里!I94+[9]村里!I94+[10]村里!I94+[11]村里!I94+[12]村里!I94 -> 8 | J94: =[1]村里!J94+[2]村里!J94+[3]村里!J94+[4]村里!J94+[5]村里!J94+[6]村里!J94+[7]村里!J94+[8]村里!J94+[9]村里!J94+[10]村里!J94+[11]村里!J94+[12]村里!J94 -> 7 | K94: =[1]村里!K94+[2]村里!K94+[3]村里!K94+[4]村里!K94+[5]村里!K94+[6]村里!K94+[7]村里!K94+[8]村里!K94+[9]村里!K94+[10]村里!K94+[11]村里!K94+[12]村里!K94 -> 1 | L94: =[1]村里!L94+[2]村里!L94+[3]村里!L94+[4]村里!L94+[5]村里!L94+[6]村里!L94+[7]村里!L94+[8]村里!L94+[9]村里!L94+[10]村里!L94+[11]村里!L94+[12]村里!L94 -> 0 | M94: =[1]村里!M94+[2]村里!M94+[3]村里!M94+[4]村里!M94+[5]村里!M94+[6]村里!M94+[7]村里!M94+[8]村里!M94+[9]村里!M94+[10]村里!M94+[11]村里!M94+[12]村里!M94 -> 0 | N94: =[1]村里!N94+[2]村里!N94+[3]村里!N94+[4]村里!N94+[5]村里!N94+[6]村里!N94+[7]村里!N94+[8]村里!N94+[9]村里!N94+[10]村里!N94+[11]村里!N94+[12]村里!N94 -> 0 | ... R94: =[1]村里!R94+[2]村里!R94+[3]村里!R94+[4]村里!R94+[5]村里!R94+[6]村里!R94+[7]村里!R94+[8]村里!R94+[9]村里!R94+[10]村里!R94+[11]村里!R94+[12]村里!R94 -> 0
E95: 計 | F95: 439 | G95: =[1]村里!G95+[2]村里!G95+[3]村里!G95+[4]村里!G95+[5]村里!G95+[6]村里!G95+[7]村里!G95+[8]村里!G95+[9]村里!G95+[10]村里!G95+[11]村里!G95+[12]村里!G95 -> 19 | H95: =[1]村里!H95+[2]村里!H95+[3]村里!H95+[4]村里!H95+[5]村里!H95+[6]村里!H95+[7]村里!H95+[8]村里!H95+[9]村里!H95+[10]村里!H95+[11]村里!H95+[12]村里!H95 -> 12 | I95: =[1]村里!I95+[2]村里!I95+[3]村里!I95+[4]村里!I95+[5]村里!I95+[6]村里!I95+[7]村里!I95+[8]村里!I95+[9]村里!I95+[10]村里!I95+[11]村里!I95+[12]村里!I95 -> 14 | J95: =[1]村里!J95+[2]村里!J95+[3]村里!J95+[4]村里!J95+[5]村里!J95+[6]村里!J95+[7]村里!J95+[8]村里!J95+[9]村里!J95+[10]村里!J95+[11]村里!J95+[12]村里!J95 -> 24 | K95: =[1]村里!K95+[2]村里!K95+[3]村里!K95+[4]村里!K95+[5]村里!K95+[6]村里!K95+[7]村里!K95+[8]村里!K95+[9]村里!K95+[10]村里!K95+[11]村里!K95+[12]村里!K95 -> 2 | L95: =[1]村里!L95+[2]村里!L95+[3]村里!L95+[4]村里!L95+[5]村里!L95+[6]村里!L95+[7]村里!L95+[8]村里!L95+[9]村里!L95+[10]村里!L95+[11]村里!L95+[12]村里!L95 -> 3 | M95: =[1]村里!M95+[2]村里!M95+[3]村里!M95+[4]村里!M95+[5]村里!M95+[6]村里!M95+[7]村里!M95+[8]村里!M95+[9]村里!M95+[10]村里!M95+[11]村里!M95+[12]村里!M95 -> 0 | N95: =[1]村里!N95+[2]村里!N95+[3]村里!N95+[4]村里!N95+[5]村里!N95+[6]村里!N95+[7]村里!N95+[8]村里!N95+[9]村里!N95+[10]村里!N95+[11]村里!N95+[12]村里!N95 -> 0 | ... R95: =[1]村里!R95+[2]村里!R95+[3]村里!R95+[4]村里!R95+[5]村里!R95+[6]村里!R95+[7]村里!R95+[8]村里!R95+[9]村里!R95+[10]村里!R95+[11]村里!R95+[12]村里!R95 -> 4
A96: 井垵里 | B96: 1 | C96: 7 | D96: 141 | E96: 男 | F96: 219 | G96: =[1]村里!G96+[2]村里!G96+[3]村里!G96+[4]村里!G96+[5]村里!G96+[6]村里!G96+[7]村里!G96+[8]村里!G96+[9]村里!G96+[10]村里!G96+[11]村里!G96+[12]村里!G96 -> 12 | H96: =[1]村里!H96+[2]村里!H96+[3]村里!H96+[4]村里!H96+[5]村里!H96+[6]村里!H96+[7]村里!H96+[8]村里!H96+[9]村里!H96+[10]村里!H96+[11]村里!H96+[12]村里!H96 -> 9 | I96: =[1]村里!I96+[2]村里!I96+[3]村里!I96+[4]村里!I96+[5]村里!I96+[6]村里!I96+[7]村里!I96+[8]村里!I96+[9]村里!I96+[10]村里!I96+[11]村里!I96+[12]村里!I96 -> 3 | J96: =[1]村里!J96+[2]村里!J96+[3]村里!J96+[4]村里!J96+[5]村里!J96+[6]村里!J96+[7]村里!J96+[8]村里!J96+[9]村里!J96+[10]村里!J96+[11]村里!J96+[12]村里!J96 -> 14 | K96: =[1]村里!K96+[2]村里!K96+[3]村里!K96+[4]村里!K96+[5]村里!K96+[6]村里!K96+[7]村里!K96+[8]村里!K96+[9]村里!K96+[10]村里!K96+[11]村里!K96+[12]村里!K96 -> 0 | L96: =[1]村里!L96+[2]村里!L96+[3]村里!L96+[4]村里!L96+[5]村里!L96+[6]村里!L96+[7]村里!L96+[8]村里!L96+[9]村里!L96+[10]村里!L96+[11]村里!L96+[12]村里!L96 -> 1 | M96: =[1]村里!M96+[2]村里!M96+[3]村里!M96+[4]村里!M96+[5]村里!M96+[6]村里!M96+[7]村里!M96+[8]村里!M96+[9]村里!M96+[10]村里!M96+[11]村里!M96+[12]村里!M96 -> 0 | N96: =[1]村里!N96+[2]村里!N96+[3]村里!N96+[4]村里!N96+[5]村里!N96+[6]村里!N96+[7]村里!N96+[8]村里!N96+[9]村里!N96+[10]村里!N96+[11]村里!N96+[12]村里!N96 -> 0 | ... T96: =[1]村里!T96+[2]村里!T96+[3]村里!T96+[4]村里!T96+[5]村里!T96+[6]村里!T96+[7]村里!T96+[8]村里!T96+[9]村里!T96+[10]村里!T96+[11]村里!T96+[12]村里!T96 -> 3
E97: 女 | F97: 220 | G97: =[1]村里!G97+[2]村里!G97+[3]村里!G97+[4]村里!G97+[5]村里!G97+[6]村里!G97+[7]村里!G97+[8]村里!G97+[9]村里!G97+[10]村里!G97+[11]村里!G97+[12]村里!G97 -> 7 | H97: =[1]村里!H97+[2]村里!H97+[3]村里!H97+[4]村里!H97+[5]村里!H97+[6]村里!H97+[7]村里!H97+[8]村里!H97+[9]村里!H97+[10]村里!H97+[11]村里!H97+[12]村里!H97 -> 3 | I97: =[1]村里!I97+[2]村里!I97+[3]村里!I97+[4]村里!I97+[5]村里!I97+[6]村里!I97+[7]村里!I97+[8]村里!I97+[9]村里!I97+[10]村里!I97+[11]村里!I97+[12]村里!I97 -> 11 | J97: =[1]村里!J97+[2]村里!J97+[3]村里!J97+[4]村里!J97+[5]村里!J97+[6]村里!J97+[7]村里!J97+[8]村里!J97+[9]村里!J97+[10]村里!J97+[11]村里!J97+[12]村里!J97 -> 10 | K97: =[1]村里!K97+[2]村里!K97+[3]村里!K97+[4]村里!K97+[5]村里!K97+[6]村里!K97+[7]村里!K97+[8]村里!K97+[9]村里!K97+[10]村里!K97+[11]村里!K97+[12]村里!K97 -> 2 | L97: =[1]村里!L97+[2]村里!L97+[3]村里!L97+[4]村里!L97+[5]村里!L97+[6]村里!L97+[7]村里!L97+[8]村里!L97+[9]村里!L97+[10]村里!L97+[11]村里!L97+[12]村里!L97 -> 2 | M97: =[1]村里!M97+[2]村里!M97+[3]村里!M97+[4]村里!M97+[5]村里!M97+[6]村里!M97+[7]村里!M97+[8]村里!M97+[9]村里!M97+[10]村里!M97+[11]村里!M97+[12]村里!M97 -> 0 | N97: =[1]村里!N97+[2]村里!N97+[3]村里!N97+[4]村里!N97+[5]村里!N97+[6]村里!N97+[7]村里!N97+[8]村里!N97+[9]村里!N97+[10]村里!N97+[11]村里!N97+[12]村里!N97 -> 0 | ... R97: =[1]村里!R97+[2]村里!R97+[3]村里!R97+[4]村里!R97+[5]村里!R97+[6]村里!R97+[7]村里!R97+[8]村里!R97+[9]村里!R97+[10]村里!R97+[11]村里!R97+[12]村里!R97 -> 3
E98: 計 | F98: 1353 | G98: =[1]村里!G98+[2]村里!G98+[3]村里!G98+[4]村里!G98+[5]村里!G98+[6]村里!G98+[7]村里!G98+[8]村里!G98+[9]村里!G98+[10]村里!G98+[11]村里!G98+[12]村里!G98 -> 45 | H98: =[1]村里!H98+[2]村里!H98+[3]村里!H98+[4]村里!H98+[5]村里!H98+[6]村里!H98+[7]村里!H98+[8]村里!H98+[9]村里!H98+[10]村里!H98+[11]村里!H98+[12]村里!H98 -> 29 | I98: =[1]村里!I98+[2]村里!I98+[3]村里!I98+[4]村里!I98+[5]村里!I98+[6]村里!I98+[7]村里!I98+[8]村里!I98+[9]村里!I98+[10]村里!I98+[11]村里!I98+[12]村里!I98 -> 22 | J98: =[1]村里!J98+[2]村里!J98+[3]村里!J98+[4]村里!J98+[5]村里!J98+[6]村里!J98+[7]村里!J98+[8]村里!J98+[9]村里!J98+[10]村里!J98+[11]村里!J98+[12]村里!J98 -> 38 | K98: =[1]村里!K98+[2]村里!K98+[3]村里!K98+[4]村里!K98+[5]村里!K98+[6]村里!K98+[7]村里!K98+[8]村里!K98+[9]村里!K98+[10]村里!K98+[11]村里!K98+[12]村里!K98 -> 15 | L98: =[1]村里!L98+[2]村里!L98+[3]村里!L98+[4]村里!L98+[5]村里!L98+[6]村里!L98+[7]村里!L98+[8]村里!L98+[9]村里!L98+[10]村里!L98+[11]村里!L98+[12]村里!L98 -> 8 | M98: =[1]村里!M98+[2]村里!M98+[3]村里!M98+[4]村里!M98+[5]村里!M98+[6]村里!M98+[7]村里!M98+[8]村里!M98+[9]村里!M98+[10]村里!M98+[11]村里!M98+[12]村里!M98 -> 1 | N98: =[1]村里!N98+[2]村里!N98+[3]村里!N98+[4]村里!N98+[5]村里!N98+[6]村里!N98+[7]村里!N98+[8]村里!N98+[9]村里!N98+[10]村里!N98+[11]村里!N98+[12]村里!N98 -> 0 | ... R98: =[1]村里!R98+[2]村里!R98+[3]村里!R98+[4]村里!R98+[5]村里!R98+[6]村里!R98+[7]村里!R98+[8]村里!R98+[9]村里!R98+[10]村里!R98+[11]村里!R98+[12]村里!R98 -> 4
A99: 嵵裡里 | B99: 1 | C99: 15 | D99: 448 | E99: 男 | F99: 689 | G99: =[1]村里!G99+[2]村里!G99+[3]村里!G99+[4]村里!G99+[5]村里!G99+[6]村里!G99+[7]村里!G99+[8]村里!G99+[9]村里!G99+[10]村里!G99+[11]村里!G99+[12]村里!G99 -> 17 | H99: =[1]村里!H99+[2]村里!H99+[3]村里!H99+[4]村里!H99+[5]村里!H99+[6]村里!H99+[7]村里!H99+[8]村里!H99+[9]村里!H99+[10]村里!H99+[11]村里!H99+[12]村里!H99 -> 19 | I99: =[1]村里!I99+[2]村里!I99+[3]村里!I99+[4]村里!I99+[5]村里!I99+[6]村里!I99+[7]村里!I99+[8]村里!I99+[9]村里!I99+[10]村里!I99+[11]村里!I99+[12]村里!I99 -> 8 | J99: =[1]村里!J99+[2]村里!J99+[3]村里!J99+[4]村里!J99+[5]村里!J99+[6]村里!J99+[7]村里!J99+[8]村里!J99+[9]村里!J99+[10]村里!J99+[11]村里!J99+[12]村里!J99 -> 19 | K99: =[1]村里!K99+[2]村里!K99+[3]村里!K99+[4]村里!K99+[5]村里!K99+[6]村里!K99+[7]村里!K99+[8]村里!K99+[9]村里!K99+[10]村里!K99+[11]村里!K99+[12]村里!K99 -> 8 | L99: =[1]村里!L99+[2]村里!L99+[3]村里!L99+[4]村里!L99+[5]村里!L99+[6]村里!L99+[7]村里!L99+[8]村里!L99+[9]村里!L99+[10]村里!L99+[11]村里!L99+[12]村里!L99 -> 4 | M99: =[1]村里!M99+[2]村里!M99+[3]村里!M99+[4]村里!M99+[5]村里!M99+[6]村里!M99+[7]村里!M99+[8]村里!M99+[9]村里!M99+[10]村里!M99+[11]村里!M99+[12]村里!M99 -> 0 | N99: =[1]村里!N99+[2]村里!N99+[3]村里!N99+[4]村里!N99+[5]村里!N99+[6]村里!N99+[7]村里!N99+[8]村里!N99+[9]村里!N99+[10]村里!N99+[11]村里!N99+[12]村里!N99 -> 0 | ... T99: =[1]村里!T99+[2]村里!T99+[3]村里!T99+[4]村里!T99+[5]村里!T99+[6]村里!T99+[7]村里!T99+[8]村里!T99+[9]村里!T99+[10]村里!T99+[11]村里!T99+[12]村里!T99 -> 3
E100: 女 | F100: 664 | G100: =[1]村里!G100+[2]村里!G100+[3]村里!G100+[4]村里!G100+[5]村里!G100+[6]村里!G100+[7]村里!G100+[8]村里!G100+[9]村里!G100+[10]村里!G100+[11]村里!G100+[12]村里!G100 -> 28 | H100: =[1]村里!H100+[2]村里!H100+[3]村里!H100+[4]村里!H100+[5]村里!H100+[6]村里!H100+[7]村里!H100+[8]村里!H100+[9]村里!H100+[10]村里!H100+[11]村里!H100+[12]村里!H100 -> 10 | I100: =[1]村里!I100+[2]村里!I100+[3]村里!I100+[4]村里!I100+[5]村里!I100+[6]村里!I100+[7]村里!I100+[8]村里!I100+[9]村里!I100+[10]村里!I100+[11]村里!I100+[12]村里!I100 -> 14 | J100: =[1]村里!J100+[2]村里!J100+[3]村里!J100+[4]村里!J100+[5]村里!J100+[6]村里!J100+[7]村里!J100+[8]村里!J100+[9]村里!J100+[10]村里!J100+[11]村里!J100+[12]村里!J100 -> 19 | K100: =[1]村里!K100+[2]村里!K100+[3]村里!K100+[4]村里!K100+[5]村里!K100+[6]村里!K100+[7]村里!K100+[8]村里!K100+[9]村里!K100+[10]村里!K100+[11]村里!K100+[12]村里!K100 -> 7 | L100: =[1]村里!L100+[2]村里!L100+[3]村里!L100+[4]村里!L100+[5]村里!L100+[6]村里!L100+[7]村里!L100+[8]村里!L100+[9]村里!L100+[10]村里!L100+[11]村里!L100+[12]村里!L100 -> 4 | M100: =[1]村里!M100+[2]村里!M100+[3]村里!M100+[4]村里!M100+[5]村里!M100+[6]村里!M100+[7]村里!M100+[8]村里!M100+[9]村里!M100+[10]村里!M100+[11]村里!M100+[12]村里!M100 -> 1 | N100: =[1]村里!N100+[2]村里!N100+[3]村里!N100+[4]村里!N100+[5]村里!N100+[6]村里!N100+[7]村里!N100+[8]村里!N100+[9]村里!N100+[10]村里!N100+[11]村里!N100+[12]村里!N100 -> 0 | ... R100: =[1]村里!R100+[2]村里!R100+[3]村里!R100+[4]村里!R100+[5]村里!R100+[6]村里!R100+[7]村里!R100+[8]村里!R100+[9]村里!R100+[10]村里!R100+[11]村里!R100+[12]村里!R100 -> 4
...

Sheet 鄉市
F1: 澎湖縣各鄉市 村里、鄰、戶、人口與戶籍動態登記數按性別及登記項目分
J2: =村里!J2 -> 107年12月底 | Q2: =村里!O2 -> 製表日期:108年1月4日
A3: 區域 | B3: 村里 | C3: 鄰 | D3: 戶 | E3: 性 | F3: 人口 | G3: 遷入 | H3: 遷出 | I3: 住址 | J3: 變更 | K3: 出生 | L3: 死亡 | M3: 認領 | N3: 收養 | O3: 終止收 | P3: 監護 | Q3: 輔助 | R3: 未成年子女權利義 | S3: 結婚 | T3: 離婚
A4: 別 | B4: 數 | C4: 數 | D4: 數 | E4: 別 | F4: 數 | G4: 人數 | H4: 人數 | I4: 遷入 | J4: 遷出 | K4: 人數 | L4: 人數 | M4: 人數 | N4: 人數 | O4: 養人數 | P4: 人數 | Q4: 人數 | R4: 務行使負擔人數 | S4: 對數 | T4: 對數
E5: 計 | F5: =村里!F5 -> 104440 | G5: =村里!G5 -> 5189 | H5: =村里!H5 -> 4794 | I5: =村里!I5 -> 2905 | J5: =村里!J5 -> 2905 | K5: =村里!K5 -> 881 | L5: =村里!L5 -> 909 | M5: =村里!M5 -> 16 | ... R5: =村里!R5 -> 332
A6: 澎湖縣 | B6: =村里!B6 -> 96 | C6: =村里!C6 -> 1404 | D6: =村里!D6 -> 40574 | E6: 男 | F6: =村里!F6 -> 53807 | G6: =村里!G6 -> 2916 | H6: =村里!H6 -> 2700 | I6: =村里!I6 -> 1432 | J6: =村里!J6 -> 1432 | K6: =村里!K6 -> 470 | L6: =村里!L6 -> 527 | M6: =村里!M6 -> 8 | ... T6: =村里!T6 -> 249
A7: 總計 | E7: 女 | F7: =村里!F7 -> 50633 | G7: =村里!G7 -> 2273 | H7: =村里!H7 -> 2094 | I7: =村里!I7 -> 1473 | J7: =村里!J7 -> 1473 | K7: =村里!K7 -> 411 | L7: =村里!L7 -> 382 | M7: =村里!M7 -> 8 | ... R7: =村里!R7 -> 173
E8: 計 | F8: =村里!F8 -> 62610 | G8: =村里!G8 -> 3140 | H8: =村里!H8 -> 2846 | I8: =村里!I8 -> 2408 | J8: =村里!J8 -> 2408 | K8: =村里!K8 -> 465 | L8: =村里!L8 -> 457 | M8: =村里!M8 -> 8 | ... R8: =村里!R8 -> 207
A9: 馬公市 | B9: =村里!B9 -> 33 | C9: =村里!C9 -> 628 | D9: =村里!D9 -> 24963 | E9: 男 | F9: =村里!F9 -> 31848 | G9: =村里!G9 -> 1754 | H9: =村里!H9 -> 1602 | I9: =村里!I9 -> 1196 | J9: =村里!J9 -> 1196 | K9: =村里!K9 -> 254 | L9: =村里!L9 -> 259 | M9: =村里!M9 -> 3 | ... T9: =村里!T9 -> 154
E10: 女 | F10: =村里!F10 -> 30762 | G10: =村里!G10 -> 1386 | H10: =村里!H10 -> 1244 | I10: =村里!I10 -> 1212 | J10: =村里!J10 -> 1212 | K10: =村里!K10 -> 211 | L10: =村里!L10 -> 198 | M10: =村里!M10 -> 5 | ... R10: =村里!R10 -> 105
E11: 計 | F11: =村里!F110 -> 14594 | G11: =村里!G110 -> 818 | H11: =村里!H110 -> 718 | I11: =村里!I110 -> 210 | J11: =村里!J110 -> 210 | K11: =村里!K110 -> 137 | L11: =村里!L110 -> 151 | M11: =村里!M110 -> 3 | ... R11: =村里!R110 -> 44
A12: 湖西鄉 | B12: =村里!B111 -> 22 | C12: =村里!C111 -> 238 | D12: =村里!D111 -> 5697 | E12: 男 | F12: =村里!F111 -> 7714 | G12: =村里!G111 -> 490 | H12: =村里!H111 -> 414 | I12: =村里!I111 -> 98 | J12: =村里!J111 -> 98 | K12: =村里!K111 -> 80 | L12: =村里!L111 -> 95 | M12: =村里!M111 -> 2 | ... T12: =村里!T111 -> 37
E13: 女 | F13: =村里!F112 -> 6880 | G13: =村里!G112 -> 328 | H13: =村里!H112 -> 304 | I13: =村里!I112 -> 112 | J13: =村里!J112 -> 112 | K13: =村里!K112 -> 57 | L13: =村里!L112 -> 56 | M13: =村里!M112 -> 1 | ... R13: =村里!R112 -> 25
E14: 計 | F14: =村里!F179 -> 9827 | G14: =村里!G179 -> 418 | H14: =村里!H179 -> 411 | I14: =村里!I179 -> 106 | J14: =村里!J179 -> 106 | K14: =村里!K179 -> 107 | L14: =村里!L179 -> 104 | M14: =村里!M179 -> 2 | ... R14: =村里!R179 -> 27
A15: 白沙鄉 | B15: =村里!B180 -> 15 | C15: =村里!C180 -> 179 | D15: =村里!D180 -> 3463 | E15: 男 | F15: =村里!F180 -> 5126 | G15: =村里!G180 -> 231 | H15: =村里!H180 -> 236 | I15: =村里!I180 -> 49 | J15: =村里!J180 -> 49 | K15: =村里!K180 -> 50 | L15: =村里!L180 -> 59 | M15: =村里!M180 -> 1 | ... T15: =村里!T180 -> 21
E16: 女 | F16: =村里!F181 -> 4701 | G16: =村里!G181 -> 187 | H16: =村里!H181 -> 175 | I16: =村里!I181 -> 57 | J16: =村里!J181 -> 57 | K16: =村里!K181 -> 57 | L16: =村里!L181 -> 45 | M16: =村里!M181 -> 1 | ... R16: =村里!R181 -> 16
E17: 計 | F17: =村里!F227 -> 8349 | G17: =村里!G227 -> 300 | H17: =村里!H227 -> 340 | I17: =村里!I227 -> 80 | J17: =村里!J227 -> 80 | K17: =村里!K227 -> 81 | L17: =村里!L227 -> 100 | M17: =村里!M227 -> 1 | ... R17: =村里!R227 -> 27
A18: 西嶼鄉 | B18: =村里!B228 -> 11 | C18: =村里!C228 -> 167 | D18: =村里!D228 -> 3035 | E18: 男 | F18: =村里!F228 -> 4311 | G18: =村里!G228 -> 145 | H18: =村里!H228 -> 166 | I18: =村里!I228 -> 41 | J18: =村里!J228 -> 41 | K18: =村里!K228 -> 48 | L18: =村里!L228 -> 60 | M18: =村里!M228 -> 1 | ... T18: =村里!T228 -> 21
E19: 女 | F19: =村里!F229 -> 4038 | G19: =村里!G229 -> 155 | H19: =村里!H229 -> 174 | I19: =村里!I229 -> 39 | J19: =村里!J229 -> 39 | K19: =村里!K229 -> 33 | L19: =村里!L229 -> 40 | M19: =村里!M229 -> 0 | ... R19: =村里!R229 -> 14
E20: 計 | F20: =村里!F263 -> 5235 | G20: =村里!G263 -> 293 | H20: =村里!H263 -> 228 | I20: =村里!I263 -> 37 | J20: =村里!J263 -> 37 | K20: =村里!K263 -> 46 | L20: =村里!L263 -> 52 | M20: =村里!M263 -> 1 | ... R20: =村里!R263 -> 14
A21: 望安鄉 | B21: =村里!B264 -> 9 | C21: =村里!C264 -> 131 | D21: =村里!D264 -> 2035 | E21: 男 | F21: =村里!F264 -> 2830 | G21: =村里!G264 -> 175 | H21: =村里!H264 -> 132 | I21: =村里!I264 -> 23 | J21: =村里!J264 -> 23 | K21: =村里!K264 -> 21 | L21: =村里!L264 -> 33 | M21: =村里!M264 -> 0 | ... T21: =村里!T264 -> 10
E22: 女 | F22: =村里!F265 -> 2405 | G22: =村里!G265 -> 118 | H22: =村里!H265 -> 96 | I22: =村里!I265 -> 14 | J22: =村里!J265 -> 14 | K22: =村里!K265 -> 25 | L22: =村里!L265 -> 19 | M22: =村里!M265 -> 1 | ... R22: =村里!R265 -> 7
E23: 計 | F23: =村里!F293 -> 3825 | G23: =村里!G293 -> 220 | H23: =村里!H293 -> 251 | I23: =村里!I293 -> 64 | J23: =村里!J293 -> 64 | K23: =村里!K293 -> 45 | L23: =村里!L293 -> 45 | M23: =村里!M293 -> 1 | ... R23: =村里!R293 -> 13
A24: 七美鄉 | B24: =村里!B294 -> 6 | C24: =村里!C294 -> 61 | D24: =村里!D294 -> 1381 | E24: 男 | F24: =村里!F294 -> 1978 | G24: =村里!G294 -> 121 | H24: =村里!H294 -> 150 | I24: =村里!I294 -> 25 | J24: =村里!J294 -> 25 | K24: =村里!K294 -> 17 | L24: =村里!L294 -> 21 | M24: =村里!M294 -> 1 | ... T24: =村里!T294 -> 6
E25: 女 | F25: =村里!F295 -> 1847 | G25: =村里!G295 -> 99 | H25: =村里!H295 -> 101 | I25: =村里!I295 -> 39 | J25: =村里!J295 -> 39 | K25: =村里!K295 -> 28 | L25: =村里!L295 -> 24 | M25: =村里!M295 -> 0 | ... R25: =村里!R295 -> 6
