Workbook

Sheet 村里
F1: 澎湖縣 村里、鄰、戶、人口與戶籍動態登記數按性別、登記項目及村里分
J2: 107年12月底 | O2: 製表日期:108年1月4日
A3: 區域 | B3: 村里 | C3: 鄰 | D3: 戶 | E3: 性 | F3: 人口 | G3: 遷入 | H3: 遷出 | I3: 住址 | J3: 變更 | K3: 出生 | L3: 死亡 | M3: 認領 | N3: 收養 | O3: 終止收 | P3: 監護 | Q3: 輔助 | R3: 未成年子女權利義 | S3: 結婚 | T3: 離婚
A4: 別 | B4: 數 | C4: 數 | D4: 數 | E4: 別 | F4: 數 | G4: 人數 | H4: 人數 | I4: 遷入 | J4: 遷出 | K4: 人數 | L4: 人數 | M4: 人數 | N4: 人數 | O4: 養人數 | P4: 人數 | Q4: 人數 | R4: 務行使負擔人數 | S4: 對數 | T4: 對數
E5: 計 | F5: 104440 | G5: =[1]村里!G5+[2]村里!G5+[3]村里!G5+[4]村里!G5+[5]村里!G5+[6]村里!G5+[7]村里!G5+[8]村里!G5+[9]村里!G5+[10]村里!G5+[11]村里!G5+[12]村里!G5 -> 5189 | H5: =[1]村里!H5+[2]村里!H5+[3]村里!H5+[4]村里!H5+[5]村里!H5+[6]村里!H5+[7]村里!H5+[8]村里!H5+[9]村里!H5+[10]村里!H5+[11]村里!H5+[12]村里!H5 -> 4794 | I5: =[1]村里!I5+[2]村里!I5+[3]村里!I5+[4]村里!I5+[5]村里!I5+[6]村里!I5+[7]村里!I5+[8]村里!I5+[9]村里!I5+[10]村里!I5+[11]村里!I5+[12]村里!I5 -> 2905 | J5: =[1]村里!J5+[2]村里!J5+[3]村里!J5+[4]村里!J5+[5]村里!J5+[6]村里!J5+[7]村里!J5+[8]村里!J5+[9]村里!J5+[10]村里!J5+[11]村里!J5+[12]村里!J5 -> 2905 | K5: =[1]村里!K5+[2]村里!K5+[3]村里!K5+[4]村里!K5+[5]村里!K5+[6]村里!K5+[7]村里!K5+[8]村里!K5+[9]村里!K5+[10]村里!K5+[11]村里!K5+[12]村里!K5 -> 881 | L5: =[1]村里!L5+[2]村里!L5+[3]村里!L5+[4]村里!L5+[5]村里!L5+[6]村里!L5+[7]村里!L5+[8]村里!L5+[9]村里!L5+[10]村里!L5+[11]村里!L5+[12]村里!L5 -> 909 | M5: =[1]村里!M5+[2]村里!M5+[3]村里!M5+[4]村里!M5+[5]村里!M5+[6]村里!M5+[7]村里!M5+[8]村里!M5+[9]村里!M5+[10]村里!M5+[11]村里!M5+[12]村里!M5 -> 16 | N5: =[1]村里!N5+[2]村里!N5+[3]村里!N5+[4]村里!N5+[5]村里!N5+[6]村里!N5+[7]村里!N5+[8]村里!N5+[9]村里!N5+[10]村里!N5+[11]村里!N5+[12]村里!N5 -> 7 | ... R5: =[1]村里!R5+[2]村里!R5+[3]村里!R5+[4]村里!R5+[5]村里!R5+[6]村里!R5+[7]村里!R5+[8]村里!R5+[9]村里!R5+[10]村里!R5+[11]村里!R5+[12]村里!R5 -> 332
A6: 澎湖縣 | B6: 96 | C6: 1404 | D6: 40574 | E6: 男 | F6: 53807 | G6: =[1]村里!G6+[2]村里!G6+[3]村里!G6+[4]村里!G6+[5]村里!G6+[6]村里!G6+[7]村里!G6+[8]村里!G6+[9]村里!G6+[10]村里!G6+[11]村里!G6+[12]村里!G6 -> 2916 | H6: =[1]村里!H6+[2]村里!H6+[3]村里!H6+[4]村里!H6+[5]村里!H6+[6]村里!H6+[7]村里!H6+[8]村里!H6+[9]村里!H6+[10]村里!H6+[11]村里!H6+[12]村里!H6 -> 2700 | I6: =[1]村里!I6+[2]村里!I6+[3]村里!I6+[4]村里!I6+[5]村里!I6+[6]村里!I6+[7]村里!I6+[8]村里!I6+[9]村里!I6+[10]村里!I6+[11]村里!I6+[12]村里!I6 -> 1432 | J6: =[1]村里!J6+[2]村里!J6+[3]村里!J6+[4]村里!J6+[5]村里!J6+[6]村里!J6+[7]村里!J6+[8]村里!J6+[9]村里!J6+[10]村里!J6+[11]村里!J6+[12]村里!J6 -> 1432 | K6: =[1]村里!K6+[2]村里!K6+[3]村里!K6+[4]村里!K6+[5]村里!K6+[6]村里!K6+[7]村里!K6+[8]村里!K6+[9]村里!K6+[10]村里!K6+[11]村里!K6+[12]村里!K6 -> 470 | L6: =[1]村里!L6+[2]村里!L6+[3]村里!L6+[4]村里!L6+[5]村里!L6+[6]村里!L6+[7]村里!L6+[8]村里!L6+[9]村里!L6+[10]村里!L6+[11]村里!L6+[12]村里!L6 -> 527 | M6: =[1]村里!M6+[2]村里!M6+[3]村里!M6+[4]村里!M6+[5]村里!M6+[6]村里!M6+[7]村里!M6+[8]村里!M6+[9]村里!M6+[10]村里!M6+[11]村里!M6+[12]村里!M6 -> 8 | N6: =[1]村里!N6+[2]村里!N6+[3]村里!N6+[4]村里!N6+[5]村里!N6+[6]村里!N6+[7]村里!N6+[8]村里!N6+[9]村里!N6+[10]村里!N6+[11]村里!N6+[12]村里!N6 -> 6 | ... T6: =[1]村里!T6+[2]村里!T6+[3]村里!T6+[4]村里!T6+[5]村里!T6+[6]村里!T6+[7]村里!T6+[8]村里!T6+[9]村里!T6+[10]村里!T6+[11]村里!T6+[12]村里!T6 -> 249
E7: 女 | F7: 50633 | G7: =[1]村里!G7+[2]村里!G7+[3]村里!G7+[4]村里!G7+[5]村里!G7+[6]村里!G7+[7]村里!G7+[8]村里!G7+[9]村里!G7+[10]村里!G7+[11]村里!G7+[12]村里!G7 -> 2273 | H7: =[1]村里!H7+[2]村里!H7+[3]村里!H7+[4]村里!H7+[5]村里!H7+[6]村里!H7+[7]村里!H7+[8]村里!H7+[9]村里!H7+[10]村里!H7+[11]村里!H7+[12]村里!H7 -> 2094 | I7: =[1]村里!I7+[2]村里!I7+[3]村里!I7+[4]村里!I7+[5]村里!I7+[6]村里!I7+[7]村里!I7+[8]村里!I7+[9]村里!I7+[10]村里!I7+[11]村里!I7+[12]村里!I7 -> 1473 | J7: =[1]村里!J7+[2]村里!J7+[3]村里!J7+[4]村里!J7+[5]村里!J7+[6]村里!J7+[7]村里!J7+[8]村里!J7+[9]村里!J7+[10]村里!J7+[11]村里!J7+[12]村里!J7 -> 1473 | K7: =[1]村里!K7+[2]村里!K7+[3]村里!K7+[4]村里!K7+[5]村里!K7+[6]村里!K7+[7]村里!K7+[8]村里!K7+[9]村里!K7+[10]村里!K7+[11]村里!K7+[12]村里!K7 -> 411 | L7: =[1]村里!L7+[2]村里!L7+[3]村里!L7+[4]村里!L7+[5]村里!L7+[6]村里!L7+[7]村里!L7+[8]村里!L7+[9]村里!L7+[10]村里!L7+[11]村里!L7+[12]村里!L7 -> 382 | M7: =[1]村里!M7+[2]村里!M7+[3]村里!M7+[4]村里!M7+[5]村里!M7+[6]村里!M7+[7]村里!M7+[8]村里!M7+[9]村里!M7+[10]村里!M7+[11]村里!M7+[12]村里!M7 -> 8 | N7: =[1]村里!N7+[2]村里!N7+[3]村里!N7+[4]村里!N7+[5]村里!N7+[6]村里!N7+[7]村里!N7+[8]村里!N7+[9]村里!N7+[10]村里!N7+[11]村里!N7+[12]村里!N7 -> 1 | ... R7: =[1]村里!R7+[2]村里!R7+[3]村里!R7+[4]村里!R7+[5]村里!R7+[6]村里!R7+[7]村里!R7+[8]村里!R7+[9]村里!R7+[10]村里!R7+[11]村里!R7+[12]村里!R7 -> 173
E8: 計 | F8: 62610 | G8: =[1]村里!G8+[2]村里!G8+[3]村里!G8+[4]村里!G8+[5]村里!G8+[6]村里!G8+[7]村里!G8+[8]村里!G8+[9]村里!G8+[10]村里!G8+[11]村里!G8+[12]村里!G8 -> 3140 | H8: =[1]村里!H8+[2]村里!H8+[3]村里!H8+[4]村里!H8+[5]村里!H8+[6]村里!H8+[7]村里!H8+[8]村里!H8+[9]村里!H8+[10]村里!H8+[11]村里!H8+[12]村里!H8 -> 2846 | I8: =[1]村里!I8+[2]村里!I8+[3]村里!I8+[4]村里!I8+[5]村里!I8+[6]村里!I8+[7]村里!I8+[8]村里!I8+[9]村里!I8+[10]村里!I8+[11]村里!I8+[12]村里!I8 -> 2408 | J8: =[1]村里!J8+[2]村里!J8+[3]村里!J8+[4]村里!J8+[5]村里!J8+[6]村里!J8+[7]村里!J8+[8]村里!J8+[9]村里!J8+[10]村里!J8+[11]村里!J8+[12]村里!J8 -> 2408 | K8: =[1]村里!K8+[2]村里!K8+[3]村里!K8+[4]村里!K8+[5]村里!K8+[6]村里!K8+[7]村里!K8+[8]村里!K8+[9]村里!K8+[10]村里!K8+[11]村里!K8+[12]村里!K8 -> 465 | L8: =[1]村里!L8+[2]村里!L8+[3]村里!L8+[4]村里!L8+[5]村里!L8+[6]村里!L8+[7]村里!L8+[8]村里!L8+[9]村里!L8+[10]村里!L8+[11]村里!L8+[12]村里!L8 -> 457 | M8: =[1]村里!M8+[2]村里!M8+[3]村里!M8+[4]村里!M8+[5]村里!M8+[6]村里!M8+[7]村里!M8+[8]村里!M8+[9]村里!M8+[10]村里!M8+[11]村里!M8+[12]村里!M8 -> 8 | N8: =[1]村里!N8+[2]村里!N8+[3]村里!N8+[4]村里!N8+[5]村里!N8+[6]村里!N8+[7]村里!N8+[8]村里!N8+[9]村里!N8+[10]村里!N8+[11]村里!N8+[12]村里!N8 -> 4 | ... R8: =[1]村里!R8+[2]村里!R8+[3]村里!R8+[4]村里!R8+[5]村里!R8+[6]村里!R8+[7]村里!R8+[8]村里!R8+[9]村里!R8+[10]村里!R8+[11]村里!R8+[12]村里!R8 -> 207
A9: 馬公市 | B9: 33 | C9: 628 | D9: 24963 | E9: 男 | F9: 31848 | G9: =[1]村里!G9+[2]村里!G9+[3]村里!G9+[4]村里!G9+[5]村里!G9+[6]村里!G9+[7]村里!G9+[8]村里!G9+[9]村里!G9+[10]村里!G9+[11]村里!G9+[12]村里!G9 -> 1754 | H9: =[1]村里!H9+[2]村里!H9+[3]村里!H9+[4]村里!H9+[5]村里!H9+[6]村里!H9+[7]村里!H9+[8]村里!H9+[9]村里!H9+[10]村里!H9+[11]村里!H9+[12]村里!H9 -> 1602 | I9: =[1]村里!I9+[2]村里!I9+[3]村里!I9+[4]村里!I9+[5]村里!I9+[6]村里!I9+[7]村里!I9+[8]村里!I9+[9]村里!I9+[10]村里!I9+[11]村里!I9+[12]村里!I9 -> 1196 | J9: =[1]村里!J9+[2]村里!J9+[3]村里!J9+[4]村里!J9+[5]村里!J9+[6]村里!J9+[7]村里!J9+[8]村里!J9+[9]村里!J9+[10]村里!J9+[11]村里!J9+[12]村里!J9 -> 1196 | K9: =[1]村里!K9+[2]村里!K9+[3]村里!K9+[4]村里!K9+[5]村里!K9+[6]村里!K9+[7]村里!K9+[8]村里!K9+[9]村里!K9+[10]村里!K9+[11]村里!K9+[12]村里!K9 -> 254 | L9: =[1]村里!L9+[2]村里!L9+[3]村里!L9+[4]村里!L9+[5]村里!L9+[6]村里!L9+[7]村里!L9+[8]村里!L9+[9]村里!L9+[10]村里!L9+[11]村里!L9+[12]村里!L9 -> 259 | M9: =[1]村里!M9+[2]村里!M9+[3]村里!M9+[4]村里!M9+[5]村里!M9+[6]村里!M9+[7]村里!M9+[8]村里!M9+[9]村里!M9+[10]村里!M9+[11]村里!M9+[12]村里!M9 -> 3 | N9: =[1]村里!N9+[2]村里!N9+[3]村里!N9+[4]村里!N9+[5]村里!N9+[6]村里!N9+[7]村里!N9+[8]村里!N9+[9]村里!N9+[10]村里!N9+[11]村里!N9+[12]村里!N9 -> 3 | ... T9: =[1]村里!T9+[2]村里!T9+[3]村里!T9+[4]村里!T9+[5]村里!T9+[6]村里!T9+[7]村里!T9+[8]村里!T9+[9]村里!T9+[10]村里!T9+[11]村里!T9+[12]村里!T9 -> 154
E10: 女 | F10: 30762 | G10: =[1]村里!G10+[2]村里!G10+[3]村里!G10+[4]村里!G10+[5]村里!G10+[6]村里!G10+[7]村里!G10+[8]村里!G10+[9]村里!G10+[10]村里!G10+[11]村里!G10+[12]村里!G10 -> 1386 | H10: =[1]村里!H10+[2]村里!H10+[3]村里!H10+[4]村里!H10+[5]村里!H10+[6]村里!H10+[7]村里!H10+[8]村里!H10+[9]村里!H10+[10]村里!H10+[11]村里!H10+[12]村里!H10 -> 1244 | I10: =[1]村里!I10+[2]村里!I10+[3]村里!I10+[4]村里!I10+[5]村里!I10+[6]村里!I10+[7]村里!I10+[8]村里!I10+[9]村里!I10+[10]村里!I10+[11]村里!I10+[12]村里!I10 -> 1212 | J10: =[1]村里!J10+[2]村里!J10+[3]村里!J10+[4]村里!J10+[5]村里!J10+[6]村里!J10+[7]村里!J10+[8]村里!J10+[9]村里!J10+[10]村里!J10+[11]村里!J10+[12]村里!J10 -> 1212 | K10: =[1]村里!K10+[2]村里!K10+[3]村里!K10+[4]村里!K10+[5]村里!K10+[6]村里!K10+[7]村里!K10+[8]村里!K10+[9]村里!K10+[10]村里!K10+[11]村里!K10+[12]村里!K10 -> 211 | L10: =[1]村里!L10+[2]村里!L10+[3]村里!L10+[4]村里!L10+[5]村里!L10+[6]村里!L10+[7]村里!L10+[8]村里!L10+[9]村里!L10+[10]村里!L10+[11]村里!L10+[12]村里!L10 -> 198 | M10: =[1]村里!M10+[2]村里!M10+[3]村里!M10+[4]村里!M10+[5]村里!M10+[6]村里!M10+[7]村里!M10+[8]村里!M10+[9]村里!M10+[10]村里!M10+[11]村里!M10+[12]村里!M10 -> 5 | N10: =[1]村里!N10+[2]村里!N10+[3]村里!N10+[4]村里!N10+[5]村里!N10+[6]村里!N10+[7]村里!N10+[8]村里!N10+[9]村里!N10+[10]村里!N10+[11]村里!N10+[12]村里!N10 -> 1 | ... R10: =[1]村里!R10+[2]村里!R10+[3]村里!R10+[4]村里!R10+[5]村里!R10+[6]村里!R10+[7]村里!R10+[8]村里!R10+[9]村里!R10+[10]村里!R10+[11]村里!R10+[12]村里!R10 -> 105
E11: 計 | F11: 519 | G11: =[1]村里!G11+[2]村里!G11+[3]村里!G11+[4]村里!G11+[5]村里!G11+[6]村里!G11+[7]村里!G11+[8]村里!G11+[9]村里!G11+[10]村里!G11+[11]村里!G11+[12]村里!G11 -> 67 | H11: =[1]村里!H11+[2]村里!H11+[3]村里!H11+[4]村里!H11+[5]村里!H11+[6]村里!H11+[7]村里!H11+[8]村里!H11+[9]村里!H11+[10]村里!H11+[11]村里!H11+[12]村里!H11 -> 57 | I11: =[1]村里!I11+[2]村里!I11+[3]村里!I11+[4]村里!I11+[5]村里!I11+[6]村里!I11+[7]村里!I11+[8]村里!I11+[9]村里!I11+[10]村里!I11+[11]村里!I11+[12]村里!I11 -> 19 | J11: =[1]村里!J11+[2]村里!J11+[3]村里!J11+[4]村里!J11+[5]村里!J11+[6]村里!J11+[7]村里!J11+[8]村里!J11+[9]村里!J11+[10]村里!J11+[11]村里!J11+[12]村里!J11 -> 23 | K11: =[1]村里!K11+[2]村里!K11+[3]村里!K11+[4]村里!K11+[5]村里!K11+[6]村里!K11+[7]村里!K11+[8]村里!K11+[9]村里!K11+[10]村里!K11+[11]村里!K11+[12]村里!K11 -> 2 | L11: =[1]村里!L11+[2]村里!L11+[3]村里!L11+[4]村里!L11+[5]村里!L11+[6]村里!L11+[7]村里!L11+[8]村里!L11+[9]村里!L11+[10]村里!L11+[11]村里!L11+[12]村里!L11 -> 7 | M11: =[1]村里!M11+[2]村里!M11+[3]村里!M11+[4]村里!M11+[5]村里!M11+[6]村里!M11+[7]村里!M11+[8]村里!M11+[9]村里!M11+[10]村里!M11+[11]村里!M11+[12]村里!M11 -> 0 | N11: =[1]村里!N11+[2]村里!N11+[3]村里!N11+[4]村里!N11+[5]村里!N11+[6]村里!N11+[7]村里!N11+[8]村里!N11+[9]村里!N11+[10]村里!N11+[11]村里!N11+[12]村里!N11 -> 0 | ... R11: =[1]村里!R11+[2]村里!R11+[3]村里!R11+[4]村里!R11+[5]村里!R11+[6]村里!R11+[7]村里!R11+[8]村里!R11+[9]村里!R11+[10]村里!R11+[11]村里!R11+[12]村里!R11 -> 0
A12: 復興里 | B12: 1 | C12: 12 | D12: 325 | E12: 男 | F12: 325 | G12: =[1]村里!G12+[2]村里!G12+[3]村里!G12+[4]村里!G12+[5]村里!G12+[6]村里!G12+[7]村里!G12+[8]村里!G12+[9]村里!G12+[10]村里!G12+[11]村里!G12+[12]村里!G12 -> 57 | H12: =[1]村里!H12+[2]村里!H12+[3]村里!H12+[4]村里!H12+[5]村里!H12+[6]村里!H12+[7]村里!H12+[8]村里!H12+[9]村里!H12+[10]村里!H12+[11]村里!H12+[12]村里!H12 -> 47 | I12: =[1]村里!I12+[2]村里!I12+[3]村里!I12+[4]村里!I12+[5]村里!I12+[6]村里!I12+[7]村里!I12+[8]村里!I12+[9]村里!I12+[10]村里!I12+[11]村里!I12+[12]村里!I12 -> 11 | J12: =[1]村里!J12+[2]村里!J12+[3]村里!J12+[4]村里!J12+[5]村里!J12+[6]村里!J12+[7]村里!J12+[8]村里!J12+[9]村里!J12+[10]村里!J12+[11]村里!J12+[12]村里!J12 -> 15 | K12: =[1]村里!K12+[2]村里!K12+[3]村里!K12+[4]村里!K12+[5]村里!K12+[6]村里!K12+[7]村里!K12+[8]村里!K12+[9]村里!K12+[10]村里!K12+[11]村里!K12+[12]村里!K12 -> 2 | L12: =[1]村里!L12+[2]村里!L12+[3]村里!L12+[4]村里!L12+[5]村里!L12+[6]村里!L12+[7]村里!L12+[8]村里!L12+[9]村里!L12+[10]村里!L12+[11]村里!L12+[12]村里!L12 -> 4 | M12: =[1]村里!M12+[2]村里!M12+[3]村里!M12+[4]村里!M12+[5]村里!M12+[6]村里!M12+[7]村里!M12+[8]村里!M12+[9]村里!M12+[10]村里!M12+[11]村里!M12+[12]村里!M12 -> 0 | N12: =[1]村里!N12+[2]村里!N12+[3]村里!N12+[4]村里!N12+[5]村里!N12+[6]村里!N12+[7]村里!N12+[8]村里!N12+[9]村里!N12+[10]村里!N12+[11]村里!N12+[12]村里!N12 -> 0 | ... T12: =[1]村里!T12+[2]村里!T12+[3]村里!T12+[4]村里!T12+[5]村里!T12+[6]村里!T12+[7]村里!T12+[8]村里!T12+[9]村里!T12+[10]村里!T12+[11]村里!T12+[12]村里!T12 -> 2
E13: 女 | F13: 194 | G13: =[1]村里!G13+[2]村里!G13+[3]村里!G13+[4]村里!G13+[5]村里!G13+[6]村里!G13+[7]村里!G13+[8]村里!G13+[9]村里!G13+[10]村里!G13+[11]村里!G13+[12]村里!G13 -> 10 | H13: =[1]村里!H13+[2]村里!H13+[3]村里!H13+[4]村里!H13+[5]村里!H13+[6]村里!H13+[7]村里!H13+[8]村里!H13+[9]村里!H13+[10]村里!H13+[11]村里!H13+[12]村里!H13 -> 10 | I13: =[1]村里!I13+[2]村里!I13+[3]村里!I13+[4]村里!I13+[5]村里!I13+[6]村里!I13+[7]村里!I13+[8]村里!I13+[9]村里!I13+[10]村里!I13+[11]村里!I13+[12]村里!I13 -> 8 | J13: =[1]村里!J13+[2]村里!J13+[3]村里!J13+[4]村里!J13+[5]村里!J13+[6]村里!J13+[7]村里!J13+[8]村里!J13+[9]村里!J13+[10]村里!J13+[11]村里!J13+[12]村里!J13 -> 8 | K13: =[1]村里!K13+[2]村里!K13+[3]村里!K13+[4]村里!K13+[5]村里!K13+[6]村里!K13+[7]村里!K13+[8]村里!K13+[9]村里!K13+[10]村里!K13+[11]村里!K13+[12]村里!K13 -> 0 | L13: =[1]村里!L13+[2]村里!L13+[3]村里!L13+[4]村里!L13+[5]村里!L13+[6]村里!L13+[7]村里!L13+[8]村里!L13+[9]村里!L13+[10]村里!L13+[11]村里!L13+[12]村里!L13 -> 3 | M13: =[1]村里!M13+[2]村里!M13+[3]村里!M13+[4]村里!M13+[5]村里!M13+[6]村里!M13+[7]村里!M13+[8]村里!M13+[9]村里!M13+[10]村里!M13+[11]村里!M13+[12]村里!M13 -> 0 | N13: =[1]村里!N13+[2]村里!N13+[3]村里!N13+[4]村里!N13+[5]村里!N13+[6]村里!N13+[7]村里!N13+[8]村里!N13+[9]村里!N13+[10]村里!N13+[11]村里!N13+[12]村里!N13 -> 0 | ... R13: =[1]村里!R13+[2]村里!R13+[3]村里!R13+[4]村里!R13+[5]村里!R13+[6]村里!R13+[7]村里!R13+[8]村里!R13+[9]村里!R13+[10]村里!R13+[11]村里!R13+[12]村里!R13 -> 0
E14: 計 | F14: 630 | G14: =[1]村里!G14+[2]村里!G14+[3]村里!G14+[4]村里!G14+[5]村里!G14+[6]村里!G14+[7]村里!G14+[8]村里!G14+[9]村里!G14+[10]村里!G14+[11]村里!G14+[12]村里!G14 -> 22 | H14: =[1]村里!H14+[2]村里!H14+[3]村里!H14+[4]村里!H14+[5]村里!H14+[6]村里!H14+[7]村里!H14+[8]村里!H14+[9]村里!H14+[10]村里!H14+[11]村里!H14+[12]村里!H14 -> 20 | I14: =[1]村里!I14+[2]村里!I14+[3]村里!I14+[4]村里!I14+[5]村里!I14+[6]村里!I14+[7]村里!I14+[8]村里!I14+[9]村里!I14+[10]村里!I14+[11]村里!I14+[12]村里!I14 -> 28 | J14: =[1]村里!J14+[2]村里!J14+[3]村里!J14+[4]村里!J14+[5]村里!J14+[6]村里!J14+[7]村里!J14+[8]村里!J14+[9]村里!J14+[10]村里!J14+[11]村里!J14+[12]村里!J14 -> 34 | K14: =[1]村里!K14+[2]村里!K14+[3]村里!K14+[4]村里!K14+[5]村里!K14+[6]村里!K14+[7]村里!K14+[8]村里!K14+[9]村里!K14+[10]村里!K14+[11]村里!K14+[12]村里!K14 -> 2 | L14: =[1]村里!L14+[2]村里!L14+[3]村里!L14+[4]村里!L14+[5]村里!L14+[6]村里!L14+[7]村里!L14+[8]村里!L14+[9]村里!L14+[10]村里!L14+[11]村里!L14+[12]村里!L14 -> 7 | M14: =[1]村里!M14+[2]村里!M14+[3]村里!M14+[4]村里!M14+[5]村里!M14+[6]村里!M14+[7]村里!M14+[8]村里!M14+[9]村里!M14+[10]村里!M14+[11]村里!M14+[12]村里!M14 -> 0 | N14: =[1]村里!N14+[2]村里!N14+[3]村里!N14+[4]村里!N14+[5]村里!N14+[6]村里!N14+[7]村里!N14+[8]村里!N14+[9]村里!N14+[10]村里!N14+[11]村里!N14+[12]村里!N14 -> 0 | ... R14: =[1]村里!R14+[2]村里!R14+[3]村里!R14+[4]村里!R14+[5]村里!R14+[6]村里!R14+[7]村里!R14+[8]村里!R14+[9]村里!R14+[10]村里!R14+[11]村里!R14+[12]村里!R14 -> 1
A15: 長安里 | B15: 1 | C15: 19 | D15: 254 | E15: 男 | F15: 306 | G15: =[1]村里!G15+[2]村里!G15+[3]村里!G15+[4]村里!G15+[5]村里!G15+[6]村里!G15+[7]村里!G15+[8]村里!G15+[9]村里!G15+[10]村里!G15+[11]村里!G15+[12]村里!G15 -> 11 | H15: =[1]村里!H15+[2]村里!H15+[3]村里!H15+[4]村里!H15+[5]村里!H15+[6]村里!H15+[7]村里!H15+[8]村里!H15+[9]村里!H15+[10]村里!H15+[11]村里!H15+[12]村里!H15 -> 8 | I15: =[1]村里!I15+[2]村里!I15+[3]村里!I15+[4]村里!I15+[5]村里!I15+[6]村里!I15+[7]村里!I15+[8]村里!I15+[9]村里!I15+[10]村里!I15+[11]村里!I15+[12]村里!I15 -> 12 | J15: =[1]村里!J15+[2]村里!J15+[3]村里!J15+[4]村里!J15+[5]村里!J15+[6]村里!J15+[7]村里!J15+[8]村里!J15+[9]村里!J15+[10]村里!J15+[11]村里!J15+[12]村里!J15 -> 15 | K15: =[1]村里!K15+[2]村里!K15+[3]村里!K15+[4]村里!K15+[5]村里!K15+[6]村里!K15+[7]村里!K15+[8]村里!K15+[9]村里!K15+[10]村里!K15+[11]村里!K15+[12]村里!K15 -> 2 | L15: =[1]村里!L15+[2]村里!L15+[3]村里!L15+[4]村里!L15+[5]村里!L15+[6]村里!L15+[7]村里!L15+[8]村里!L15+[9]村里!L15+[10]村里!L15+[11]村里!L15+[12]村里!L15 -> 2 | M15: =[1]村里!M15+[2]村里!M15+[3]村里!M15+[4]村里!M15+[5]村里!M15+[6]村里!M15+[7]村里!M15+[8]村里!M15+[9]村里!M15+[10]村里!M15+[11]村里!M15+[12]村里!M15 -> 0 | N15: =[1]村里!N15+[2]村里!N15+[3]村里!N15+[4]村里!N15+[5]村里!N15+[6]村里!N15+[7]村里!N15+[8]村里!N15+[9]村里!N15+[10]村里!N15+[11]村里!N15+[12]村里!N15 -> 0 | ... T15: =[1]村里!T15+[2]村里!T15+[3]村里!T15+[4]村里!T15+[5]村里!T15+[6]村里!T15+[7]村里!T15+[8]村里!T15+[9]村里!T15+[10]村里!T15+[11]村里!T15+[12]村里!T15 -> 2
E16: 女 | F16: 324 | G16: =[1]村里!G16+[2]村里!G16+[3]村里!G16+[4]村里!G16+[5]村里!G16+[6]村里!G16+[7]村里!G16+[8]村里!G16+[9]村里!G16+[10]村里!G16+[11]村里!G16+[12]村里!G16 -> 11 | H16: =[1]村里!H16+[2]村里!H16+[3]村里!H16+[4]村里!H16+[5]村里!H16+[6]村里!H16+[7]村里!H16+[8]村里!H16+[9]村里!H16+[10]村里!H16+[11]村里!H16+[12]村里!H16 -> 12 | I16: =[1]村里!I16+[2]村里!I16+[3]村里!I16+[4]村里!I16+[5]村里!I16+[6]村里!I16+[7]村里!I16+[8]村里!I16+[9]村里!I16+[10]村里!I16+[11]村里!I16+[12]村里!I16 -> 16 | J16: =[1]村里!J16+[2]村里!J16+[3]村里!J16+[4]村里!J16+[5]村里!J16+[6]村里!J16+[7]村里!J16+[8]村里!J16+[9]村里!J16+[10]村里!J16+[11]村里!J16+[12]村里!J16 -> 19 | K16: =[1]村里!K16+[2]村里!K16+[3]村里!K16+[4]村里!K16+[5]村里!K16+[6]村里!K16+[7]村里!K16+[8]村里!K16+[9]村里!K16+[10]村里!K16+[11]村里!K16+[12]村里!K16 -> 0 | L16: =[1]村里!L16+[2]村里!L16+[3]村里!L16+[4]村里!L16+[5]村里!L16+[6]村里!L16+[7]村里!L16+[8]村里!L16+[9]村里!L16+[10]村里!L16+[11]村里!L16+[12]村里!L16 -> 5 | M16: =[1]村里!M16+[2]村里!M16+[3]村里!M16+[4]村里!M16+[5]村里!M16+[6]村里!M16+[7]村里!M16+[8]村里!M16+[9]村里!M16+[10]村里!M16+[11]村里!M16+[12]村里!M16 -> 0 | N16: =[1]村里!N16+[2]村里!N16+[3]村里!N16+[4]村里!N16+[5]村里!N16+[6]村里!N16+[7]村里!N16+[8]村里!N16+[9]村里!N16+[10]村里!N16+[11]村里!N16+[12]村里!N16 -> 0 | ... R16: =[1]村里!R16+[2]村里!R16+[3]村里!R16+[4]村里!R16+[5]村里!R16+[6]村里!R16+[7]村里!R16+[8]村里!R16+[9]村里!R16+[10]村里!R16+[11]村里!R16+[12]村里!R16 -> 1
E17: 計 | F17: 588 | G17: =[1]村里!G17+[2]村里!G17+[3]村里!G17+[4]村里!G17+[5]村里!G17+[6]村里!G17+[7]村里!G17+[8]村里!G17+[9]村里!G17+[10]村里!G17+[11]村里!G17+[12]村里!G17 -> 23 | H17: =[1]村里!H17+[2]村里!H17+[3]村里!H17+[4]村里!H17+[5]村里!H17+[6]村里!H17+[7]村里!H17+[8]村里!H17+[9]村里!H17+[10]村里!H17+[11]村里!H17+[12]村里!H17 -> 22 | I17: =[1]村里!I17+[2]村里!I17+[3]村里!I17+[4]村里!I17+[5]村里!I17+[6]村里!I17+[7]村里!I17+[8]村里!I17+[9]村里!I17+[10]村里!I17+[11]村里!I17+[12]村里!I17 -> 14 | J17: =[1]村里!J17+[2]村里!J17+[3]村里!J17+[4]村里!J17+[5]村里!J17+[6]村里!J17+[7]村里!J17+[8]村里!J17+[9]村里!J17+[10]村里!J17+[11]村里!J17+[12]村里!J17 -> 19 | K17: =[1]村里!K17+[2]村里!K17+[3]村里!K17+[4]村里!K17+[5]村里!K17+[6]村里!K17+[7]村里!K17+[8]村里!K17+[9]村里!K17+[10]村里!K17+[11]村里!K17+[12]村里!K17 -> 7 | L17: =[1]村里!L17+[2]村里!L17+[3]村里!L17+[4]村里!L17+[5]村里!L17+[6]村里!L17+[7]村里!L17+[8]村里!L17+[9]村里!L17+[10]村里!L17+[11]村里!L17+[12]村里!L17 -> 12 | M17: =[1]村里!M17+[2]村里!M17+[3]村里!M17+[4]村里!M17+[5]村里!M17+[6]村里!M17+[7]村里!M17+[8]村里!M17+[9]村里!M17+[10]村里!M17+[11]村里!M17+[12]村里!M17 -> 0 | N17: =[1]村里!N17+[2]村里!N17+[3]村里!N17+[4]村里!N17+[5]村里!N17+[6]村里!N17+[7]村里!N17+[8]村里!N17+[9]村里!N17+[10]村里!N17+[11]村里!N17+[12]村里!N17 -> 0 | ... R17: =[1]村里!R17+[2]村里!R17+[3]村里!R17+[4]村里!R17+[5]村里!R17+[6]村里!R17+[7]村里!R17+[8]村里!R17+[9]村里!R17+[10]村里!R17+[11]村里!R17+[12]村里!R17 -> 0
A18: 中央里 | B18: 1 | C18: 16 | D18: 252 | E18: 男 | F18: 300 | G18: =[1]村里!G18+[2]村里!G18+[3]村里!G18+[4]村里!G18+[5]村里!G18+[6]村里!G18+[7]村里!G18+[8]村里!G18+[9]村里!G18+[10]村里!G18+[11]村里!G18+[12]村里!G18 -> 10 | H18: =[1]村里!H18+[2]村里!H18+[3]村里!H18+[4]村里!H18+[5]村里!H18+[6]村里!H18+[7]村里!H18+[8]村里!H18+[9]村里!H18+[10]村里!H18+[11]村里!H18+[12]村里!H18 -> 12 | I18: =[1]村里!I18+[2]村里!I18+[3]村里!I18+[4]村里!I18+[5]村里!I18+[6]村里!I18+[7]村里!I18+[8]村里!I18+[9]村里!I18+[10]村里!I18+[11]村里!I18+[12]村里!I18 -> 7 | J18: =[1]村里!J18+[2]村里!J18+[3]村里!J18+[4]村里!J18+[5]村里!J18+[6]村里!J18+[7]村里!J18+[8]村里!J18+[9]村里!J18+[10]村里!J18+[11]村里!J18+[12]村里!J18 -> 6 | K18: =[1]村里!K18+[2]村里!K18+[3]村里!K18+[4]村里!K18+[5]村里!K18+[6]村里!K18+[7]村里!K18+[8]村里!K18+[9]村里!K18+[10]村里!K18+[11]村里!K18+[12]村里!K18 -> 5 | L18: =[1]村里!L18+[2]村里!L18+[3]村里!L18+[4]村里!L18+[5]村里!L18+[6]村里!L18+[7]村里!L18+[8]村里!L18+[9]村里!L18+[10]村里!L18+[11]村里!L18+[12]村里!L18 -> 9 | M18: =[1]村里!M18+[2]村里!M18+[3]村里!M18+[4]村里!M18+[5]村里!M18+[6]村里!M18+[7]村里!M18+[8]村里!M18+[9]村里!M18+[10]村里!M18+[11]村里!M18+[12]村里!M18 -> 0 | N18: =[1]村里!N18+[2]村里!N18+[3]村里!N18+[4]村里!N18+[5]村里!N18+[6]村里!N18+[7]村里!N18+[8]村里!N18+[9]村里!N18+[10]村里!N18+[11]村里!N18+[12]村里!N18 -> 0 | ... T18: =[1]村里!T18+[2]村里!T18+[3]村里!T18+[4]村里!T18+[5]村里!T18+[6]村里!T18+[7]村里!T18+[8]村里!T18+[9]村里!T18+[10]村里!T18+[11]村里!T18+[12]村里!T18 -> 0
E19: 女 | F19: 288 | G19: =[1]村里!G19+[2]村里!G19+[3]村里!G19+[4]村里!G19+[5]村里!G19+[6]村里!G19+[7]村里!G19+[8]村里!G19+[9]村里!G19+[10]村里!G19+[11]村里!G19+[12]村里!G19 -> 13 | H19: =[1]村里!H19+[2]村里!H19+[3]村里!H19+[4]村里!H19+[5]村里!H19+[6]村里!H19+[7]村里!H19+[8]村里!H19+[9]村里!H19+[10]村里!H19+[11]村里!H19+[12]村里!H19 -> 10 | I19: =[1]村里!I19+[2]村里!I19+[3]村里!I19+[4]村里!I19+[5]村里!I19+[6]村里!I19+[7]村里!I19+[8]村里!I19+[9]村里!I19+[10]村里!I19+[11]村里!I19+[12]村里!I19 -> 7 | J19: =[1]村里!J19+[2]村里!J19+[3]村里!J19+[4]村里!J19+[5]村里!J19+[6]村里!J19+[7]村里!J19+[8]村里!J19+[9]村里!J19+[10]村里!J19+[11]村里!J19+[12]村里!J19 -> 13 | K19: =[1]村里!K19+[2]村里!K19+[3]村里!K19+[4]村里!K19+[5]村里!K19+[6]村里!K19+[7]村里!K19+[8]村里!K19+[9]村里!K19+[10]村里!K19+[11]村里!K19+[12]村里!K19 -> 2 | L19: =[1]村里!L19+[2]村里!L19+[3]村里!L19+[4]村里!L19+[5]村里!L19+[6]村里!L19+[7]村里!L19+[8]村里!L19+[9]村里!L19+[10]村里!L19+[11]村里!L19+[12]村里!L19 -> 3 | M19: =[1]村里!M19+[2]村里!M19+[3]村里!M19+[4]村里!M19+[5]村里!M19+[6]村里!M19+[7]村里!M19+[8]村里!M19+[9]村里!M19+[10]村里!M19+[11]村里!M19+[12]村里!M19 -> 0 | N19: =[1]村里!N19+[2]村里!N19+[3]村里!N19+[4]村里!N19+[5]村里!N19+[6]村里!N19+[7]村里!N19+[8]村里!N19+[9]村里!N19+[10]村里!N19+[11]村里!N19+[12]村里!N19 -> 0 | ... R19: =[1]村里!R19+[2]村里!R19+[3]村里!R19+[4]村里!R19+[5]村里!R19+[6]村里!R19+[7]村里!R19+[8]村里!R19+[9]村里!R19+[10]村里!R19+[11]村里!R19+[12]村里!R19 -> 0
E20: 計 | F20: 1030 | G20: =[1]村里!G20+[2]村里!G20+[3]村里!G20+[4]村里!G20+[5]村里!G20+[6]村里!G20+[7]村里!G20+[8]村里!G20+[9]村里!G20+[10]村里!G20+[11]村里!G20+[12]村里!G20 -> 40 | H20: =[1]村里!H20+[2]村里!H20+[3]村里!H20+[4]村里!H20+[5]村里!H20+[6]村里!H20+[7]村里!H20+[8]村里!H20+[9]村里!H20+[10]村里!H20+[11]村里!H20+[12]村里!H20 -> 42 | I20: =[1]村里!I20+[2]村里!I20+[3]村里!I20+[4]村里!I20+[5]村里!I20+[6]村里!I20+[7]村里!I20+[8]村里!I20+[9]村里!I20+[10]村里!I20+[11]村里!I20+[12]村里!I20 -> 22 | J20: =[1]村里!J20+[2]村里!J20+[3]村里!J20+[4]村里!J20+[5]村里!J20+[6]村里!J20+[7]村里!J20+[8]村里!J20+[9]村里!J20+[10]村里!J20+[11]村里!J20+[12]村里!J20 -> 36 | K20: =[1]村里!K20+[2]村里!K20+[3]村里!K20+[4]村里!K20+[5]村里!K20+[6]村里!K20+[7]村里!K20+[8]村里!K20+[9]村里!K20+[10]村里!K20+[11]村里!K20+[12]村里!K20 -> 2 | L20: =[1]村里!L20+[2]村里!L20+[3]村里!L20+[4]村里!L20+[5]村里!L20+[6]村里!L20+[7]村里!L20+[8]村里!L20+[9]村里!L20+[10]村里!L20+[11]村里!L20+[12]村里!L20 -> 8 | M20: =[1]村里!M20+[2]村里!M20+[3]村里!M20+[4]村里!M20+[5]村里!M20+[6]村里!M20+[7]村里!M20+[8]村里!M20+[9]村里!M20+[10]村里!M20+[11]村里!M20+[12]村里!M20 -> 0 | N20: =[1]村里!N20+[2]村里!N20+[3]村里!N20+[4]村里!N20+[5]村里!N20+[6]村里!N20+[7]村里!N20+[8]村里!N20+[9]村里!N20+[10]村里!N20+[11]村里!N20+[12]村里!N20 -> 0 | ... R20: =[1]村里!R20+[2]村里!R20+[3]村里!R20+[4]村里!R20+[5]村里!R20+[6]村里!R20+[7]村里!R20+[8]村里!R20+[9]村里!R20+[10]村里!R20+[11]村里!R20+[12]村里!R20 -> 6
A21: 啟明里 | B21: 1 | C21: 25 | D21: 406 | E21: 男 | F21: 518 | G21: =[1]村里!G21+[2]村里!G21+[3]村里!G21+[4]村里!G21+[5]村里!G21+[6]村里!G21+[7]村里!G21+[8]村里!G21+[9]村里!G21+[10]村里!G21+[11]村里!G21+[12]村里!G21 -> 19 | H21: =[1]村里!H21+[2]村里!H21+[3]村里!H21+[4]村里!H21+[5]村里!H21+[6]村里!H21+[7]村里!H21+[8]村里!H21+[9]村里!H21+[10]村里!H21+[11]村里!H21+[12]村里!H21 -> 22 | I21: =[1]村里!I21+[2]村里!I21+[3]村里!I21+[4]村里!I21+[5]村里!I21+[6]村里!I21+[7]村里!I21+[8]村里!I21+[9]村里!I21+[10]村里!I21+[11]村里!I21+[12]村里!I21 -> 13 | J21: =[1]村里!J21+[2]村里!J21+[3]村里!J21+[4]村里!J21+[5]村里!J21+[6]村里!J21+[7]村里!J21+[8]村里!J21+[9]村里!J21+[10]村里!J21+[11]村里!J21+[12]村里!J21 -> 21 | K21: =[1]村里!K21+[2]村里!K21+[3]村里!K21+[4]村里!K21+[5]村里!K21+[6]村里!K21+[7]村里!K21+[8]村里!K21+[9]村里!K21+[10]村里!K21+[11]村里!K21+[12]村里!K21 -> 1 | L21: =[1]村里!L21+[2]村里!L21+[3]村里!L21+[4]村里!L21+[5]村里!L21+[6]村里!L21+[7]村里!L21+[8]村里!L21+[9]村里!L21+[10]村里!L21+[11]村里!L21+[12]村里!L21 -> 2 | M21: =[1]村里!M21+[2]村里!M21+[3]村里!M21+[4]村里!M21+[5]村里!M21+[6]村里!M21+[7]村里!M21+[8]村里!M21+[9]村里!M21+[10]村里!M21+[11]村里!M21+[12]村里!M21 -> 0 | N21: =[1]村里!N21+[2]村里!N21+[3]村里!N21+[4]村里!N21+[5]村里!N21+[6]村里!N21+[7]村里!N21+[8]村里!N21+[9]村里!N21+[10]村里!N21+[11]村里!N21+[12]村里!N21 -> 0 | ... T21: =[1]村里!T21+[2]村里!T21+[3]村里!T21+[4]村里!T21+[5]村里!T21+[6]村里!T21+[7]村里!T21+[8]村里!T21+[9]村里!T21+[10]村里!T21+[11]村里!T21+[12]村里!T21 -> 1
E22: 女 | F22: 512 | G22: =[1]村里!G22+[2]村里!G22+[3]村里!G22+[4]村里!G22+[5]村里!G22+[6]村里!G22+[7]村里!G22+[8]村里!G22+[9]村里!G22+[10]村里!G22+[11]村里!G22+[12]村里!G22 -> 21 | H22: =[1]村里!H22+[2]村里!H22+[3]村里!H22+[4]村里!H22+[5]村里!H22+[6]村里!H22+[7]村里!H22+[8]村里!H22+[9]村里!H22+[10]村里!H22+[11]村里!H22+[12]村里!H22 -> 20 | I22: =[1]村里!I22+[2]村里!I22+[3]村里!I22+[4]村里!I22+[5]村里!I22+[6]村里!I22+[7]村里!I22+[8]村里!I22+[9]村里!I22+[10]村里!I22+[11]村里!I22+[12]村里!I22 -> 9 | J22: =[1]村里!J22+[2]村里!J22+[3]村里!J22+[4]村里!J22+[5]村里!J22+[6]村里!J22+[7]村里!J22+[8]村里!J22+[9]村里!J22+[10]村里!J22+[11]村里!J22+[12]村里!J22 -> 15 | K22: =[1]村里!K22+[2]村里!K22+[3]村里!K22+[4]村里!K22+[5]村里!K22+[6]村里!K22+[7]村里!K22+[8]村里!K22+[9]村里!K22+[10]村里!K22+[11]村里!K22+[12]村里!K22 -> 1 | L22: =[1]村里!L22+[2]村里!L22+[3]村里!L22+[4]村里!L22+[5]村里!L22+[6]村里!L22+[7]村里!L22+[8]村里!L22+[9]村里!L22+[10]村里!L22+[11]村里!L22+[12]村里!L22 -> 6 | M22: =[1]村里!M22+[2]村里!M22+[3]村里!M22+[4]村里!M22+[5]村里!M22+[6]村里!M22+[7]村里!M22+[8]村里!M22+[9]村里!M22+[10]村里!M22+[11]村里!M22+[12]村里!M22 -> 0 | N22: =[1]村里!N22+[2]村里!N22+[3]村里!N22+[4]村里!N22+[5]村里!N22+[6]村里!N22+[7]村里!N22+[8]村里!N22+[9]村里!N22+[10]村里!N22+[11]村里!N22+[12]村里!N22 -> 0 | ... R22: =[1]村里!R22+[2]村里!R22+[3]村里!R22+[4]村里!R22+[5]村里!R22+[6]村里!R22+[7]村里!R22+[8]村里!R22+[9]村里!R22+[10]村里!R22+[11]村里!R22+[12]村里!R22 -> 5
E23: 計 | F23: 1141 | G23: =[1]村里!G23+[2]村里!G23+[3]村里!G23+[4]村里!G23+[5]村里!G23+[6]村里!G23+[7]村里!G23+[8]村里!G23+[9]村里!G23+[10]村里!G23+[11]村里!G23+[12]村里!G23 -> 47 | H23: =[1]村里!H23+[2]村里!H23+[3]村里!H23+[4]村里!H23+[5]村里!H23+[6]村里!H23+[7]村里!H23+[8]村里!H23+[9]村里!H23+[10]村里!H23+[11]村里!H23+[12]村里!H23 -> 47 | I23: =[1]村里!I23+[2]村里!I23+[3]村里!I23+[4]村里!I23+[5]村里!I23+[6]村里!I23+[7]村里!I23+[8]村里!I23+[9]村里!I23+[10]村里!I23+[11]村里!I23+[12]村里!I23 -> 34 | J23: =[1]村里!J23+[2]村里!J23+[3]村里!J23+[4]村里!J23+[5]村里!J23+[6]村里!J23+[7]村里!J23+[8]村里!J23+[9]村里!J23+[10]村里!J23+[11]村里!J23+[12]村里!J23 -> 45 | K23: =[1]村里!K23+[2]村里!K23+[3]村里!K23+[4]村里!K23+[5]村里!K23+[6]村里!K23+[7]村里!K23+[8]村里!K23+[9]村里!K23+[10]村里!K23+[11]村里!K23+[12]村里!K23 -> 9 | L23: =[1]村里!L23+[2]村里!L23+[3]村里!L23+[4]村里!L23+[5]村里!L23+[6]村里!L23+[7]村里!L23+[8]村里!L23+[9]村里!L23+[10]村里!L23+[11]村里!L23+[12]村里!L23 -> 11 | M23: =[1]村里!M23+[2]村里!M23+[3]村里!M23+[4]村里!M23+[5]村里!M23+[6]村里!M23+[7]村里!M23+[8]村里!M23+[9]村里!M23+[10]村里!M23+[11]村里!M23+[12]村里!M23 -> 1 | N23: =[1]村里!N23+[2]村里!N23+[3]村里!N23+[4]村里!N23+[5]村里!N23+[6]村里!N23+[7]村里!N23+[8]村里!N23+[9]村里!N23+[10]村里!N23+[11]村里!N23+[12]村里!N23 -> 0 | ... R23: =[1]村里!R23+[2]村里!R23+[3]村里!R23+[4]村里!R23+[5]村里!R23+[6]村里!R23+[7]村里!R23+[8]村里!R23+[9]村里!R23+[10]村里!R23+[11]村里!R23+[12]村里!R23 -> 6
A24: 重慶里 | B24: 1 | C24: 32 | D24: 459 | E24: 男 | F24: 578 | G24: =[1]村里!G24+[2]村里!G24+[3]村里!G24+[4]村里!G24+[5]村里!G24+[6]村里!G24+[7]村里!G24+[8]村里!G24+[9]村里!G24+[10]村里!G24+[11]村里!G24+[12]村里!G24 -> 26 | H24: =[1]村里!H24+[2]村里!H24+[3]村里!H24+[4]村里!H24+[5]村里!H24+[6]村里!H24+[7]村里!H24+[8]村里!H24+[9]村里!H24+[10]村里!H24+[11]村里!H24+[12]村里!H24 -> 24 | I24: =[1]村里!I24+[2]村里!I24+[3]村里!I24+[4]村里!I24+[5]村里!I24+[6]村里!I24+[7]村里!I24+[8]村里!I24+[9]村里!I24+[10]村里!I24+[11]村里!I24+[12]村里!I24 -> 14 | J24: =[1]村里!J24+[2]村里!J24+[3]村里!J24+[4]村里!J24+[5]村里!J24+[6]村里!J24+[7]村里!J24+[8]村里!J24+[9]村里!J24+[10]村里!J24+[11]村里!J24+[12]村里!J24 -> 27 | K24: =[1]村里!K24+[2]村里!K24+[3]村里!K24+[4]村里!K24+[5]村里!K24+[6]村里!K24+[7]村里!K24+[8]村里!K24+[9]村里!K24+[10]村里!K24+[11]村里!K24+[12]村里!K24 -> 8 | L24: =[1]村里!L24+[2]村里!L24+[3]村里!L24+[4]村里!L24+[5]村里!L24+[6]村里!L24+[7]村里!L24+[8]村里!L24+[9]村里!L24+[10]村里!L24+[11]村里!L24+[12]村里!L24 -> 5 | M24: =[1]村里!M24+[2]村里!M24+[3]村里!M24+[4]村里!M24+[5]村里!M24+[6]村里!M24+[7]村里!M24+[8]村里!M24+[9]村里!M24+[10]村里!M24+[11]村里!M24+[12]村里!M24 -> 0 | N24: =[1]村里!N24+[2]村里!N24+[3]村里!N24+[4]村里!N24+[5]村里!N24+[6]村里!N24+[7]村里!N24+[8]村里!N24+[9]村里!N24+[10]村里!N24+[11]村里!N24+[12]村里!N24 -> 0 | ... T24: =[1]村里!T24+[2]村里!T24+[3]村里!T24+[4]村里!T24+[5]村里!T24+[6]村里!T24+[7]村里!T24+[8]村里!T24+[9]村里!T24+[10]村里!T24+[11]村里!T24+[12]村里!T24 -> 1
E25: 女 | F25: 563 | G25: =[1]村里!G25+[2]村里!G25+[3]村里!G25+[4]村里!G25+[5]村里!G25+[6]村里!G25+[7]村里!G25+[8]村里!G25+[9]村里!G25+[10]村里!G25+[11]村里!G25+[12]村里!G25 -> 21 | H25: =[1]村里!H25+[2]村里!H25+[3]村里!H25+[4]村里!H25+[5]村里!H25+[6]村里!H25+[7]村里!H25+[8]村里!H25+[9]村里!H25+[10]村里!H25+[11]村里!H25+[12]村里!H25 -> 23 | I25: =[1]村里!I25+[2]村里!I25+[3]村里!I25+[4]村里!I25+[5]村里!I25+[6]村里!I25+[7]村里!I25+[8]村里!I25+[9]村里!I25+[10]村里!I25+[11]村里!I25+[12]村里!I25 -> 20 | J25: =[1]村里!J25+[2]村里!J25+[3]村里!J25+[4]村里!J25+[5]村里!J25+[6]村里!J25+[7]村里!J25+[8]村里!J25+[9]村里!J25+[10]村里!J25+[11]村里!J25+[12]村里!J25 -> 18 | K25: =[1]村里!K25+[2]村里!K25+[3]村里!K25+[4]村里!K25+[5]村里!K25+[6]村里!K25+[7]村里!K25+[8]村里!K25+[9]村里!K25+[10]村里!K25+[11]村里!K25+[12]村里!K25 -> 1 | L25: =[1]村里!L25+[2]村里!L25+[3]村里!L25+[4]村里!L25+[5]村里!L25+[6]村里!L25+[7]村里!L25+[8]村里!L25+[9]村里!L25+[10]村里!L25+[11]村里!L25+[12]村里!L25 -> 6 | M25: =[1]村里!M25+[2]村里!M25+[3]村里!M25+[4]村里!M25+[5]村里!M25+[6]村里!M25+[7]村里!M25+[8]村里!M25+[9]村里!M25+[10]村里!M25+[11]村里!M25+[12]村里!M25 -> 1 | N25: =[1]村里!N25+[2]村里!N25+[3]村里!N25+[4]村里!N25+[5]村里!N25+[6]村里!N25+[7]村里!N25+[8]村里!N25+[9]村里!N25+[10]村里!N25+[11]村里!N25+[12]村里!N25 -> 0 | ... R25: =[1]村里!R25+[2]村里!R25+[3]村里!R25+[4]村里!R25+[5]村里!R25+[6]村里!R25+[7]村里!R25+[8]村里!R25+[9]村里!R25+[10]村里!R25+[11]村里!R25+[12]村里!R25 -> 3
E26: 計 | F26: 887 | G26: =[1]村里!G26+[2]村里!G26+[3]村里!G26+[4]村里!G26+[5]村里!G26+[6]村里!G26+[7]村里!G26+[8]村里!G26+[9]村里!G26+[10]村里!G26+[11]村里!G26+[12]村里!G26 -> 68 | H26: =[1]村里!H26+[2]村里!H26+[3]村里!H26+[4]村里!H26+[5]村里!H26+[6]村里!H26+[7]村里!H26+[8]村里!H26+[9]村里!H26+[10]村里!H26+[11]村里!H26+[12]村里!H26 -> 69 | I26: =[1]村里!I26+[2]村里!I26+[3]村里!I26+[4]村里!I26+[5]村里!I26+[6]村里!I26+[7]村里!I26+[8]村里!I26+[9]村里!I26+[10]村里!I26+[11]村里!I26+[12]村里!I26 -> 41 | J26: =[1]村里!J26+[2]村里!J26+[3]村里!J26+[4]村里!J26+[5]村里!J26+[6]村里!J26+[7]村里!J26+[8]村里!J26+[9]村里!J26+[10]村里!J26+[11]村里!J26+[12]村里!J26 -> 52 | K26: =[1]村里!K26+[2]村里!K26+[3]村里!K26+[4]村里!K26+[5]村里!K26+[6]村里!K26+[7]村里!K26+[8]村里!K26+[9]村里!K26+[10]村里!K26+[11]村里!K26+[12]村里!K26 -> 4 | L26: =[1]村里!L26+[2]村里!L26+[3]村里!L26+[4]村里!L26+[5]村里!L26+[6]村里!L26+[7]村里!L26+[8]村里!L26+[9]村里!L26+[10]村里!L26+[11]村里!L26+[12]村里!L26 -> 6 | M26: =[1]村里!M26+[2]村里!M26+[3]村里!M26+[4]村里!M26+[5]村里!M26+[6]村里!M26+[7]村里!M26+[8]村里!M26+[9]村里!M26+[10]村里!M26+[11]村里!M26+[12]村里!M26 -> 0 | N26: =[1]村里!N26+[2]村里!N26+[3]村里!N26+[4]村里!N26+[5]村里!N26+[6]村里!N26+[7]村里!N26+[8]村里!N26+[9]村里!N26+[10]村里!N26+[11]村里!N26+[12]村里!N26 -> 0 | ... R26: =[1]村里!R26+[2]村里!R26+[3]村里!R26+[4]村里!R26+[5]村里!R26+[6]村里!R26+[7]村里!R26+[8]村里!R26+[9]村里!R26+[10]村里!R26+[11]村里!R26+[12]村里!R26 -> 2
A27: 中興里 | B27: 1 | C27: 19 | D27: 428 | E27: 男 | F27: 449 | G27: =[1]村里!G27+[2]村里!G27+[3]村里!G27+[4]村里!G27+[5]村里!G27+[6]村里!G27+[7]村里!G27+[8]村里!G27+[9]村里!G27+[10]村里!G27+[11]村里!G27+[12]村里!G27 -> 40 | H27: =[1]村里!H27+[2]村里!H27+[3]村里!H27+[4]村里!H27+[5]村里!H27+[6]村里!H27+[7]村里!H27+[8]村里!H27+[9]村里!H27+[10]村里!H27+[11]村里!H27+[12]村里!H27 -> 45 | I27: =[1]村里!I27+[2]村里!I27+[3]村里!I27+[4]村里!I27+[5]村里!I27+[6]村里!I27+[7]村里!I27+[8]村里!I27+[9]村里!I27+[10]村里!I27+[11]村里!I27+[12]村里!I27 -> 18 | J27: =[1]村里!J27+[2]村里!J27+[3]村里!J27+[4]村里!J27+[5]村里!J27+[6]村里!J27+[7]村里!J27+[8]村里!J27+[9]村里!J27+[10]村里!J27+[11]村里!J27+[12]村里!J27 -> 25 | K27: =[1]村里!K27+[2]村里!K27+[3]村里!K27+[4]村里!K27+[5]村里!K27+[6]村里!K27+[7]村里!K27+[8]村里!K27+[9]村里!K27+[10]村里!K27+[11]村里!K27+[12]村里!K27 -> 0 | L27: =[1]村里!L27+[2]村里!L27+[3]村里!L27+[4]村里!L27+[5]村里!L27+[6]村里!L27+[7]村里!L27+[8]村里!L27+[9]村里!L27+[10]村里!L27+[11]村里!L27+[12]村里!L27 -> 3 | M27: =[1]村里!M27+[2]村里!M27+[3]村里!M27+[4]村里!M27+[5]村里!M27+[6]村里!M27+[7]村里!M27+[8]村里!M27+[9]村里!M27+[10]村里!M27+[11]村里!M27+[12]村里!M27 -> 0 | N27: =[1]村里!N27+[2]村里!N27+[3]村里!N27+[4]村里!N27+[5]村里!N27+[6]村里!N27+[7]村里!N27+[8]村里!N27+[9]村里!N27+[10]村里!N27+[11]村里!N27+[12]村里!N27 -> 0 | ... T27: =[1]村里!T27+[2]村里!T27+[3]村里!T27+[4]村里!T27+[5]村里!T27+[6]村里!T27+[7]村里!T27+[8]村里!T27+[9]村里!T27+[10]村里!T27+[11]村里!T27+[12]村里!T27 -> 3
E28: 女 | F28: 438 | G28: =[1]村里!G28+[2]村里!G28+[3]村里!G28+[4]村里!G28+[5]村里!G28+[6]村里!G28+[7]村里!G28+[8]村里!G28+[9]村里!G28+[10]村里!G28+[11]村里!G28+[12]村里!G28 -> 28 | H28: =[1]村里!H28+[2]村里!H28+[3]村里!H28+[4]村里!H28+[5]村里!H28+[6]村里!H28+[7]村里!H28+[8]村里!H28+[9]村里!H28+[10]村里!H28+[11]村里!H28+[12]村里!H28 -> 24 | I28: =[1]村里!I28+[2]村里!I28+[3]村里!I28+[4]村里!I28+[5]村里!I28+[6]村里!I28+[7]村里!I28+[8]村里!I28+[9]村里!I28+[10]村里!I28+[11]村里!I28+[12]村里!I28 -> 23 | J28: =[1]村里!J28+[2]村里!J28+[3]村里!J28+[4]村里!J28+[5]村里!J28+[6]村里!J28+[7]村里!J28+[8]村里!J28+[9]村里!J28+[10]村里!J28+[11]村里!J28+[12]村里!J28 -> 27 | K28: =[1]村里!K28+[2]村里!K28+[3]村里!K28+[4]村里!K28+[5]村里!K28+[6]村里!K28+[7]村里!K28+[8]村里!K28+[9]村里!K28+[10]村里!K28+[11]村里!K28+[12]村里!K28 -> 4 | L28: =[1]村里!L28+[2]村里!L28+[3]村里!L28+[4]村里!L28+[5]村里!L28+[6]村里!L28+[7]村里!L28+[8]村里!L28+[9]村里!L28+[10]村里!L28+[11]村里!L28+[12]村里!L28 -> 3 | M28: =[1]村里!M28+[2]村里!M28+[3]村里!M28+[4]村里!M28+[5]村里!M28+[6]村里!M28+[7]村里!M28+[8]村里!M28+[9]村里!M28+[10]村里!M28+[11]村里!M28+[12]村里!M28 -> 0 | N28: =[1]村里!N28+[2]村里!N28+[3]村里!N28+[4]村里!N28+[5]村里!N28+[6]村里!N28+[7]村里!N28+[8]村里!N28+[9]村里!N28+[10]村里!N28+[11]村里!N28+[12]村里!N28 -> 0 | ... R28: =[1]村里!R28+[2]村里!R28+[3]村里!R28+[4]村里!R28+[5]村里!R28+[6]村里!R28+[7]村里!R28+[8]村里!R28+[9]村里!R28+[10]村里!R28+[11]村里!R28+[12]村里!R28 -> 1
E29: 計 | F29: 2259 | G29: =[1]村里!G29+[2]村里!G29+[3]村里!G29+[4]村里!G29+[5]村里!G29+[6]村里!G29+[7]村里!G29+[8]村里!G29+[9]村里!G29+[10]村里!G29+[11]村里!G29+[12]村里!G29 -> 94 | H29: =[1]村里!H29+[2]村里!H29+[3]村里!H29+[4]村里!H29+[5]村里!H29+[6]村里!H29+[7]村里!H29+[8]村里!H29+[9]村里!H29+[10]村里!H29+[11]村里!H29+[12]村里!H29 -> 83 | I29: =[1]村里!I29+[2]村里!I29+[3]村里!I29+[4]村里!I29+[5]村里!I29+[6]村里!I29+[7]村里!I29+[8]村里!I29+[9]村里!I29+[10]村里!I29+[11]村里!I29+[12]村里!I29 -> 79 | J29: =[1]村里!J29+[2]村里!J29+[3]村里!J29+[4]村里!J29+[5]村里!J29+[6]村里!J29+[7]村里!J29+[8]村里!J29+[9]村里!J29+[10]村里!J29+[11]村里!J29+[12]村里!J29 -> 100 | K29: =[1]村里!K29+[2]村里!K29+[3]村里!K29+[4]村里!K29+[5]村里!K29+[6]村里!K29+[7]村里!K29+[8]村里!K29+[9]村里!K29+[10]村里!K29+[11]村里!K29+[12]村里!K29 -> 26 | L29: =[1]村里!L29+[2]村里!L29+[3]村里!L29+[4]村里!L29+[5]村里!L29+[6]村里!L29+[7]村里!L29+[8]村里!L29+[9]村里!L29+[10]村里!L29+[11]村里!L29+[12]村里!L29 -> 18 | M29: =[1]村里!M29+[2]村里!M29+[3]村里!M29+[4]村里!M29+[5]村里!M29+[6]村里!M29+[7]村里!M29+[8]村里!M29+[9]村里!M29+[10]村里!M29+[11]村里!M29+[12]村里!M29 -> 0 | N29: =[1]村里!N29+[2]村里!N29+[3]村里!N29+[4]村里!N29+[5]村里!N29+[6]村里!N29+[7]村里!N29+[8]村里!N29+[9]村里!N29+[10]村里!N29+[11]村里!N29+[12]村里!N29 -> 0 | ... R29: =[1]村里!R29+[2]村里!R29+[3]村里!R29+[4]村里!R29+[5]村里!R29+[6]村里!R29+[7]村里!R29+[8]村里!R29+[9]村里!R29+[10]村里!R29+[11]村里!R29+[12]村里!R29 -> 7
A30: 光復里 | B30: 1 | C30: 29 | D30: 901 | E30: 男 | F30: 1081 | G30: =[1]村里!G30+[2]村里!G30+[3]村里!G30+[4]村里!G30+[5]村里!G30+[6]村里!G30+[7]村里!G30+[8]村里!G30+[9]村里!G30+[10]村里!G30+[11]村里!G30+[12]村里!G30 -> 49 | H30: =[1]村里!H30+[2]村里!H30+[3]村里!H30+[4]村里!H30+[5]村里!H30+[6]村里!H30+[7]村里!H30+[8]村里!H30+[9]村里!H30+[10]村里!H30+[11]村里!H30+[12]村里!H30 -> 43 | I30: =[1]村里!I30+[2]村里!I30+[3]村里!I30+[4]村里!I30+[5]村里!I30+[6]村里!I30+[7]村里!I30+[8]村里!I30+[9]村里!I30+[10]村里!I30+[11]村里!I30+[12]村里!I30 -> 39 | J30: =[1]村里!J30+[2]村里!J30+[3]村里!J30+[4]村里!J30+[5]村里!J30+[6]村里!J30+[7]村里!J30+[8]村里!J30+[9]村里!J30+[10]村里!J30+[11]村里!J30+[12]村里!J30 -> 44 | K30: =[1]村里!K30+[2]村里!K30+[3]村里!K30+[4]村里!K30+[5]村里!K30+[6]村里!K30+[7]村里!K30+[8]村里!K30+[9]村里!K30+[10]村里!K30+[11]村里!K30+[12]村里!K30 -> 8 | L30: =[1]村里!L30+[2]村里!L30+[3]村里!L30+[4]村里!L30+[5]村里!L30+[6]村里!L30+[7]村里!L30+[8]村里!L30+[9]村里!L30+[10]村里!L30+[11]村里!L30+[12]村里!L30 -> 7 | M30: =[1]村里!M30+[2]村里!M30+[3]村里!M30+[4]村里!M30+[5]村里!M30+[6]村里!M30+[7]村里!M30+[8]村里!M30+[9]村里!M30+[10]村里!M30+[11]村里!M30+[12]村里!M30 -> 0 | N30: =[1]村里!N30+[2]村里!N30+[3]村里!N30+[4]村里!N30+[5]村里!N30+[6]村里!N30+[7]村里!N30+[8]村里!N30+[9]村里!N30+[10]村里!N30+[11]村里!N30+[12]村里!N30 -> 0 | ... T30: =[1]村里!T30+[2]村里!T30+[3]村里!T30+[4]村里!T30+[5]村里!T30+[6]村里!T30+[7]村里!T30+[8]村里!T30+[9]村里!T30+[10]村里!T30+[11]村里!T30+[12]村里!T30 -> 4
E31: 女 | F31: 1178 | G31: =[1]村里!G31+[2]村里!G31+[3]村里!G31+[4]村里!G31+[5]村里!G31+[6]村里!G31+[7]村里!G31+[8]村里!G31+[9]村里!G31+[10]村里!G31+[11]村里!G31+[12]村里!G31 -> 45 | H31: =[1]村里!H31+[2]村里!H31+[3]村里!H31+[4]村里!H31+[5]村里!H31+[6]村里!H31+[7]村里!H31+[8]村里!H31+[9]村里!H31+[10]村里!H31+[11]村里!H31+[12]村里!H31 -> 40 | I31: =[1]村里!I31+[2]村里!I31+[3]村里!I31+[4]村里!I31+[5]村里!I31+[6]村里!I31+[7]村里!I31+[8]村里!I31+[9]村里!I31+[10]村里!I31+[11]村里!I31+[12]村里!I31 -> 40 | J31: =[1]村里!J31+[2]村里!J31+[3]村里!J31+[4]村里!J31+[5]村里!J31+[6]村里!J31+[7]村里!J31+[8]村里!J31+[9]村里!J31+[10]村里!J31+[11]村里!J31+[12]村里!J31 -> 56 | K31: =[1]村里!K31+[2]村里!K31+[3]村里!K31+[4]村里!K31+[5]村里!K31+[6]村里!K31+[7]村里!K31+[8]村里!K31+[9]村里!K31+[10]村里!K31+[11]村里!K31+[12]村里!K31 -> 18 | L31: =[1]村里!L31+[2]村里!L31+[3]村里!L31+[4]村里!L31+[5]村里!L31+[6]村里!L31+[7]村里!L31+[8]村里!L31+[9]村里!L31+[10]村里!L31+[11]村里!L31+[12]村里!L31 -> 11 | M31: =[1]村里!M31+[2]村里!M31+[3]村里!M31+[4]村里!M31+[5]村里!M31+[6]村里!M31+[7]村里!M31+[8]村里!M31+[9]村里!M31+[10]村里!M31+[11]村里!M31+[12]村里!M31 -> 0 | N31: =[1]村里!N31+[2]村里!N31+[3]村里!N31+[4]村里!N31+[5]村里!N31+[6]村里!N31+[7]村里!N31+[8]村里!N31+[9]村里!N31+[10]村里!N31+[11]村里!N31+[12]村里!N31 -> 0 | ... R31: =[1]村里!R31+[2]村里!R31+[3]村里!R31+[4]村里!R31+[5]村里!R31+[6]村里!R31+[7]村里!R31+[8]村里!R31+[9]村里!R31+[10]村里!R31+[11]村里!R31+[12]村里!R31 -> 4
E32: 計 | F32: 4726 | G32: =[1]村里!G32+[2]村里!G32+[3]村里!G32+[4]村里!G32+[5]村里!G32+[6]村里!G32+[7]村里!G32+[8]村里!G32+[9]村里!G32+[10]村里!G32+[11]村里!G32+[12]村里!G32 -> 181 | H32: =[1]村里!H32+[2]村里!H32+[3]村里!H32+[4]村里!H32+[5]村里!H32+[6]村里!H32+[7]村里!H32+[8]村里!H32+[9]村里!H32+[10]村里!H32+[11]村里!H32+[12]村里!H32 -> 189 | I32: =[1]村里!I32+[2]村里!I32+[3]村里!I32+[4]村里!I32+[5]村里!I32+[6]村里!I32+[7]村里!I32+[8]村里!I32+[9]村里!I32+[10]村里!I32+[11]村里!I32+[12]村里!I32 -> 137 | J32: =[1]村里!J32+[2]村里!J32+[3]村里!J32+[4]村里!J32+[5]村里!J32+[6]村里!J32+[7]村里!J32+[8]村里!J32+[9]村里!J32+[10]村里!J32+[11]村里!J32+[12]村里!J32 -> 155 | K32: =[1]村里!K32+[2]村里!K32+[3]村里!K32+[4]村里!K32+[5]村里!K32+[6]村里!K32+[7]村里!K32+[8]村里!K32+[9]村里!K32+[10]村里!K32+[11]村里!K32+[12]村里!K32 -> 29 | L32: =[1]村里!L32+[2]村里!L32+[3]村里!L32+[4]村里!L32+[5]村里!L32+[6]村里!L32+[7]村里!L32+[8]村里!L32+[9]村里!L32+[10]村里!L32+[11]村里!L32+[12]村里!L32 -> 40 | M32: =[1]村里!M32+[2]村里!M32+[3]村里!M32+[4]村里!M32+[5]村里!M32+[6]村里!M32+[7]村里!M32+[8]村里!M32+[9]村里!M32+[10]村里!M32+[11]村里!M32+[12]村里!M32 -> 0 | N32: =[1]村里!N32+[2]村里!N32+[3]村里!N32+[4]村里!N32+[5]村里!N32+[6]村里!N32+[7]村里!N32+[8]村里!N32+[9]村里!N32+[10]村里!N32+[11]村里!N32+[12]村里!N32 -> 0 | ... R32: =[1]村里!R32+[2]村里!R32+[3]村里!R32+[4]村里!R32+[5]村里!R32+[6]村里!R32+[7]村里!R32+[8]村里!R32+[9]村里!R32+[10]村里!R32+[11]村里!R32+[12]村里!R32 -> 18
A33: 光榮里 | B33: 1 | C33: 34 | D33: 1887 | E33: 男 | F33: 2256 | G33: =[1]村里!G33+[2]村里!G33+[3]村里!G33+[4]村里!G33+[5]村里!G33+[6]村里!G33+[7]村里!G33+[8]村里!G33+[9]村里!G33+[10]村里!G33+[11]村里!G33+[12]村里!G33 -> 92 | H33: =[1]村里!H33+[2]村里!H33+[3]村里!H33+[4]村里!H33+[5]村里!H33+[6]村里!H33+[7]村里!H33+[8]村里!H33+[9]村里!H33+[10]村里!H33+[11]村里!H33+[12]村里!H33 -> 115 | I33: =[1]村里!I33+[2]村里!I33+[3]村里!I33+[4]村里!I33+[5]村里!I33+[6]村里!I33+[7]村里!I33+[8]村里!I33+[9]村里!I33+[10]村里!I33+[11]村里!I33+[12]村里!I33 -> 72 | J33: =[1]村里!J33+[2]村里!J33+[3]村里!J33+[4]村里!J33+[5]村里!J33+[6]村里!J33+[7]村里!J33+[8]村里!J33+[9]村里!J33+[10]村里!J33+[11]村里!J33+[12]村里!J33 -> 78 | K33: =[1]村里!K33+[2]村里!K33+[3]村里!K33+[4]村里!K33+[5]村里!K33+[6]村里!K33+[7]村里!K33+[8]村里!K33+[9]村里!K33+[10]村里!K33+[11]村里!K33+[12]村里!K33 -> 21 | L33: =[1]村里!L33+[2]村里!L33+[3]村里!L33+[4]村里!L33+[5]村里!L33+[6]村里!L33+[7]村里!L33+[8]村里!L33+[9]村里!L33+[10]村里!L33+[11]村里!L33+[12]村里!L33 -> 22 | M33: =[1]村里!M33+[2]村里!M33+[3]村里!M33+[4]村里!M33+[5]村里!M33+[6]村里!M33+[7]村里!M33+[8]村里!M33+[9]村里!M33+[10]村里!M33+[11]村里!M33+[12]村里!M33 -> 0 | N33: =[1]村里!N33+[2]村里!N33+[3]村里!N33+[4]村里!N33+[5]村里!N33+[6]村里!N33+[7]村里!N33+[8]村里!N33+[9]村里!N33+[10]村里!N33+[11]村里!N33+[12]村里!N33 -> 0 | ... T33: =[1]村里!T33+[2]村里!T33+[3]村里!T33+[4]村里!T33+[5]村里!T33+[6]村里!T33+[7]村里!T33+[8]村里!T33+[9]村里!T33+[10]村里!T33+[11]村里!T33+[12]村里!T33 -> 15
E34: 女 | F34: 2470 | G34: =[1]村里!G34+[2]村里!G34+[3]村里!G34+[4]村里!G34+[5]村里!G34+[6]村里!G34+[7]村里!G34+[8]村里!G34+[9]村里!G34+[10]村里!G34+[11]村里!G34+[12]村里!G34 -> 89 | H34: =[1]村里!H34+[2]村里!H34+[3]村里!H34+[4]村里!H34+[5]村里!H34+[6]村里!H34+[7]村里!H34+[8]村里!H34+[9]村里!H34+[10]村里!H34+[11]村里!H34+[12]村里!H34 -> 74 | I34: =[1]村里!I34+[2]村里!I34+[3]村里!I34+[4]村里!I34+[5]村里!I34+[6]村里!I34+[7]村里!I34+[8]村里!I34+[9]村里!I34+[10]村里!I34+[11]村里!I34+[12]村里!I34 -> 65 | J34: =[1]村里!J34+[2]村里!J34+[3]村里!J34+[4]村里!J34+[5]村里!J34+[6]村里!J34+[7]村里!J34+[8]村里!J34+[9]村里!J34+[10]村里!J34+[11]村里!J34+[12]村里!J34 -> 77 | K34: =[1]村里!K34+[2]村里!K34+[3]村里!K34+[4]村里!K34+[5]村里!K34+[6]村里!K34+[7]村里!K34+[8]村里!K34+[9]村里!K34+[10]村里!K34+[11]村里!K34+[12]村里!K34 -> 8 | L34: =[1]村里!L34+[2]村里!L34+[3]村里!L34+[4]村里!L34+[5]村里!L34+[6]村里!L34+[7]村里!L34+[8]村里!L34+[9]村里!L34+[10]村里!L34+[11]村里!L34+[12]村里!L34 -> 18 | M34: =[1]村里!M34+[2]村里!M34+[3]村里!M34+[4]村里!M34+[5]村里!M34+[6]村里!M34+[7]村里!M34+[8]村里!M34+[9]村里!M34+[10]村里!M34+[11]村里!M34+[12]村里!M34 -> 0 | N34: =[1]村里!N34+[2]村里!N34+[3]村里!N34+[4]村里!N34+[5]村里!N34+[6]村里!N34+[7]村里!N34+[8]村里!N34+[9]村里!N34+[10]村里!N34+[11]村里!N34+[12]村里!N34 -> 0 | ... R34: =[1]村里!R34+[2]村里!R34+[3]村里!R34+[4]村里!R34+[5]村里!R34+[6]村里!R34+[7]村里!R34+[8]村里!R34+[9]村里!R34+[10]村里!R34+[11]村里!R34+[12]村里!R34 -> 8
E35: 計 | F35: 1364 | G35: =[1]村里!G35+[2]村里!G35+[3]村里!G35+[4]村里!G35+[5]村里!G35+[6]村里!G35+[7]村里!G35+[8]村里!G35+[9]村里!G35+[10]村里!G35+[11]村里!G35+[12]村里!G35 -> 60 | H35: =[1]村里!H35+[2]村里!H35+[3]村里!H35+[4]村里!H35+[5]村里!H35+[6]村里!H35+[7]村里!H35+[8]村里!H35+[9]村里!H35+[10]村里!H35+[11]村里!H35+[12]村里!H35 -> 71 | I35: =[1]村里!I35+[2]村里!I35+[3]村里!I35+[4]村里!I35+[5]村里!I35+[6]村里!I35+[7]村里!I35+[8]村里!I35+[9]村里!I35+[10]村里!I35+[11]村里!I35+[12]村里!I35 -> 35 | J35: =[1]村里!J35+[2]村里!J35+[3]村里!J35+[4]村里!J35+[5]村里!J35+[6]村里!J35+[7]村里!J35+[8]村里!J35+[9]村里!J35+[10]村里!J35+[11]村里!J35+[12]村里!J35 -> 59 | K35: =[1]村里!K35+[2]村里!K35+[3]村里!K35+[4]村里!K35+[5]村里!K35+[6]村里!K35+[7]村里!K35+[8]村里!K35+[9]村里!K35+[10]村里!K35+[11]村里!K35+[12]村里!K35 -> 5 | L35: =[1]村里!L35+[2]村里!L35+[3]村里!L35+[4]村里!L35+[5]村里!L35+[6]村里!L35+[7]村里!L35+[8]村里!L35+[9]村里!L35+[10]村里!L35+[11]村里!L35+[12]村里!L35 -> 21 | M35: =[1]村里!M35+[2]村里!M35+[3]村里!M35+[4]村里!M35+[5]村里!M35+[6]村里!M35+[7]村里!M35+[8]村里!M35+[9]村里!M35+[10]村里!M35+[11]村里!M35+[12]村里!M35 -> 0 | N35: =[1]村里!N35+[2]村里!N35+[3]村里!N35+[4]村里!N35+[5]村里!N35+[6]村里!N35+[7]村里!N35+[8]村里!N35+[9]村里!N35+[10]村里!N35+[11]村里!N35+[12]村里!N35 -> 0 | ... R35: =[1]村里!R35+[2]村里!R35+[3]村里!R35+[4]村里!R35+[5]村里!R35+[6]村里!R35+[7]村里!R35+[8]村里!R35+[9]村里!R35+[10]村里!R35+[11]村里!R35+[12]村里!R35 -> 3
A36: 光明里 | B36: 1 | C36: 33 | D36: 587 | E36: 男 | F36: 674 | G36: =[1]村里!G36+[2]村里!G36+[3]村里!G36+[4]村里!G36+[5]村里!G36+[6]村里!G36+[7]村里!G36+[8]村里!G36+[9]村里!G36+[10]村里!G36+[11]村里!G36+[12]村里!G36 -> 37 | H36: =[1]村里!H36+[2]村里!H36+[3]村里!H36+[4]村里!H36+[5]村里!H36+[6]村里!H36+[7]村里!H36+[8]村里!H36+[9]村里!H36+[10]村里!H36+[11]村里!H36+[12]村里!H36 -> 43 | I36: =[1]村里!I36+[2]村里!I36+[3]村里!I36+[4]村里!I36+[5]村里!I36+[6]村里!I36+[7]村里!I36+[8]村里!I36+[9]村里!I36+[10]村里!I36+[11]村里!I36+[12]村里!I36 -> 22 | J36: =[1]村里!J36+[2]村里!J36+[3]村里!J36+[4]村里!J36+[5]村里!J36+[6]村里!J36+[7]村里!J36+[8]村里!J36+[9]村里!J36+[10]村里!J36+[11]村里!J36+[12]村里!J36 -> 31 | K36: =[1]村里!K36+[2]村里!K36+[3]村里!K36+[4]村里!K36+[5]村里!K36+[6]村里!K36+[7]村里!K36+[8]村里!K36+[9]村里!K36+[10]村里!K36+[11]村里!K36+[12]村里!K36 -> 3 | L36: =[1]村里!L36+[2]村里!L36+[3]村里!L36+[4]村里!L36+[5]村里!L36+[6]村里!L36+[7]村里!L36+[8]村里!L36+[9]村里!L36+[10]村里!L36+[11]村里!L36+[12]村里!L36 -> 11 | M36: =[1]村里!M36+[2]村里!M36+[3]村里!M36+[4]村里!M36+[5]村里!M36+[6]村里!M36+[7]村里!M36+[8]村里!M36+[9]村里!M36+[10]村里!M36+[11]村里!M36+[12]村里!M36 -> 0 | N36: =[1]村里!N36+[2]村里!N36+[3]村里!N36+[4]村里!N36+[5]村里!N36+[6]村里!N36+[7]村里!N36+[8]村里!N36+[9]村里!N36+[10]村里!N36+[11]村里!N36+[12]村里!N36 -> 0 | ... T36: =[1]村里!T36+[2]村里!T36+[3]村里!T36+[4]村里!T36+[5]村里!T36+[6]村里!T36+[7]村里!T36+[8]村里!T36+[9]村里!T36+[10]村里!T36+[11]村里!T36+[12]村里!T36 -> 4
E37: 女 | F37: 690 | G37: =[1]村里!G37+[2]村里!G37+[3]村里!G37+[4]村里!G37+[5]村里!G37+[6]村里!G37+[7]村里!G37+[8]村里!G37+[9]村里!G37+[10]村里!G37+[11]村里!G37+[12]村里!G37 -> 23 | H37: =[1]村里!H37+[2]村里!H37+[3]村里!H37+[4]村里!H37+[5]村里!H37+[6]村里!H37+[7]村里!H37+[8]村里!H37+[9]村里!H37+[10]村里!H37+[11]村里!H37+[12]村里!H37 -> 28 | I37: =[1]村里!I37+[2]村里!I37+[3]村里!I37+[4]村里!I37+[5]村里!I37+[6]村里!I37+[7]村里!I37+[8]村里!I37+[9]村里!I37+[10]村里!I37+[11]村里!I37+[12]村里!I37 -> 13 | J37: =[1]村里!J37+[2]村里!J37+[3]村里!J37+[4]村里!J37+[5]村里!J37+[6]村里!J37+[7]村里!J37+[8]村里!J37+[9]村里!J37+[10]村里!J37+[11]村里!J37+[12]村里!J37 -> 28 | K37: =[1]村里!K37+[2]村里!K37+[3]村里!K37+[4]村里!K37+[5]村里!K37+[6]村里!K37+[7]村里!K37+[8]村里!K37+[9]村里!K37+[10]村里!K37+[11]村里!K37+[12]村里!K37 -> 2 | L37: =[1]村里!L37+[2]村里!L37+[3]村里!L37+[4]村里!L37+[5]村里!L37+[6]村里!L37+[7]村里!L37+[8]村里!L37+[9]村里!L37+[10]村里!L37+[11]村里!L37+[12]村里!L37 -> 10 | M37: =[1]村里!M37+[2]村里!M37+[3]村里!M37+[4]村里!M37+[5]村里!M37+[6]村里!M37+[7]村里!M37+[8]村里!M37+[9]村里!M37+[10]村里!M37+[11]村里!M37+[12]村里!M37 -> 0 | N37: =[1]村里!N37+[2]村里!N37+[3]村里!N37+[4]村里!N37+[5]村里!N37+[6]村里!N37+[7]村里!N37+[8]村里!N37+[9]村里!N37+[10]村里!N37+[11]村里!N37+[12]村里!N37 -> 0 | ... R37: =[1]村里!R37+[2]村里!R37+[3]村里!R37+[4]村里!R37+[5]村里!R37+[6]村里!R37+[7]村里!R37+[8]村里!R37+[9]村里!R37+[10]村里!R37+[11]村里!R37+[12]村里!R37 -> 1
E38: 計 | F38: 6213 | G38: =[1]村里!G38+[2]村里!G38+[3]村里!G38+[4]村里!G38+[5]村里!G38+[6]村里!G38+[7]村里!G38+[8]村里!G38+[9]村里!G38+[10]村里!G38+[11]村里!G38+[12]村里!G38 -> 228 | H38: =[1]村里!H38+[2]村里!H38+[3]村里!H38+[4]村里!H38+[5]村里!H38+[6]村里!H38+[7]村里!H38+[8]村里!H38+[9]村里!H38+[10]村里!H38+[11]村里!H38+[12]村里!H38 -> 288 | I38: =[1]村里!I38+[2]村里!I38+[3]村里!I38+[4]村里!I38+[5]村里!I38+[6]村里!I38+[7]村里!I38+[8]村里!I38+[9]村里!I38+[10]村里!I38+[11]村里!I38+[12]村里!I38 -> 207 | J38: =[1]村里!J38+[2]村里!J38+[3]村里!J38+[4]村里!J38+[5]村里!J38+[6]村里!J38+[7]村里!J38+[8]村里!J38+[9]村里!J38+[10]村里!J38+[11]村里!J38+[12]村里!J38 -> 239 | K38: =[1]村里!K38+[2]村里!K38+[3]村里!K38+[4]村里!K38+[5]村里!K38+[6]村里!K38+[7]村里!K38+[8]村里!K38+[9]村里!K38+[10]村里!K38+[11]村里!K38+[12]村里!K38 -> 45 | L38: =[1]村里!L38+[2]村里!L38+[3]村里!L38+[4]村里!L38+[5]村里!L38+[6]村里!L38+[7]村里!L38+[8]村里!L38+[9]村里!L38+[10]村里!L38+[11]村里!L38+[12]村里!L38 -> 35 | M38: =[1]村里!M38+[2]村里!M38+[3]村里!M38+[4]村里!M38+[5]村里!M38+[6]村里!M38+[7]村里!M38+[8]村里!M38+[9]村里!M38+[10]村里!M38+[11]村里!M38+[12]村里!M38 -> 1 | N38: =[1]村里!N38+[2]村里!N38+[3]村里!N38+[4]村里!N38+[5]村里!N38+[6]村里!N38+[7]村里!N38+[8]村里!N38+[9]村里!N38+[10]村里!N38+[11]村里!N38+[12]村里!N38 -> 0 | ... R38: =[1]村里!R38+[2]村里!R38+[3]村里!R38+[4]村里!R38+[5]村里!R38+[6]村里!R38+[7]村里!R38+[8]村里!R38+[9]村里!R38+[10]村里!R38+[11]村里!R38+[12]村里!R38 -> 12
A39: 朝陽里 | B39: 1 | C39: 37 | D39: 2292 | E39: 男 | F39: 3031 | G39: =[1]村里!G39+[2]村里!G39+[3]村里!G39+[4]村里!G39+[5]村里!G39+[6]村里!G39+[7]村里!G39+[8]村里!G39+[9]村里!G39+[10]村里!G39+[11]村里!G39+[12]村里!G39 -> 115 | H39: =[1]村里!H39+[2]村里!H39+[3]村里!H39+[4]村里!H39+[5]村里!H39+[6]村里!H39+[7]村里!H39+[8]村里!H39+[9]村里!H39+[10]村里!H39+[11]村里!H39+[12]村里!H39 -> 143 | I39: =[1]村里!I39+[2]村里!I39+[3]村里!I39+[4]村里!I39+[5]村里!I39+[6]村里!I39+[7]村里!I39+[8]村里!I39+[9]村里!I39+[10]村里!I39+[11]村里!I39+[12]村里!I39 -> 106 | J39: =[1]村里!J39+[2]村里!J39+[3]村里!J39+[4]村里!J39+[5]村里!J39+[6]村里!J39+[7]村里!J39+[8]村里!J39+[9]村里!J39+[10]村里!J39+[11]村里!J39+[12]村里!J39 -> 123 | K39: =[1]村里!K39+[2]村里!K39+[3]村里!K39+[4]村里!K39+[5]村里!K39+[6]村里!K39+[7]村里!K39+[8]村里!K39+[9]村里!K39+[10]村里!K39+[11]村里!K39+[12]村里!K39 -> 22 | L39: =[1]村里!L39+[2]村里!L39+[3]村里!L39+[4]村里!L39+[5]村里!L39+[6]村里!L39+[7]村里!L39+[8]村里!L39+[9]村里!L39+[10]村里!L39+[11]村里!L39+[12]村里!L39 -> 20 | M39: =[1]村里!M39+[2]村里!M39+[3]村里!M39+[4]村里!M39+[5]村里!M39+[6]村里!M39+[7]村里!M39+[8]村里!M39+[9]村里!M39+[10]村里!M39+[11]村里!M39+[12]村里!M39 -> 1 | N39: =[1]村里!N39+[2]村里!N39+[3]村里!N39+[4]村里!N39+[5]村里!N39+[6]村里!N39+[7]村里!N39+[8]村里!N39+[9]村里!N39+[10]村里!N39+[11]村里!N39+[12]村里!N39 -> 0 | ... T39: =[1]村里!T39+[2]村里!T39+[3]村里!T39+[4]村里!T39+[5]村里!T39+[6]村里!T39+[7]村里!T39+[8]村里!T39+[9]村里!T39+[10]村里!T39+[11]村里!T39+[12]村里!T39 -> 9
E40: 女 | F40: 3182 | G40: =[1]村里!G40+[2]村里!G40+[3]村里!G40+[4]村里!G40+[5]村里!G40+[6]村里!G40+[7]村里!G40+[8]村里!G40+[9]村里!G40+[10]村里!G40+[11]村里!G40+[12]村里!G40 -> 113 | H40: =[1]村里!H40+[2]村里!H40+[3]村里!H40+[4]村里!H40+[5]村里!H40+[6]村里!H40+[7]村里!H40+[8]村里!H40+[9]村里!H40+[10]村里!H40+[11]村里!H40+[12]村里!H40 -> 145 | I40: =[1]村里!I40+[2]村里!I40+[3]村里!I40+[4]村里!I40+[5]村里!I40+[6]村里!I40+[7]村里!I40+[8]村里!I40+[9]村里!I40+[10]村里!I40+[11]村里!I40+[12]村里!I40 -> 101 | J40: =[1]村里!J40+[2]村里!J40+[3]村里!J40+[4]村里!J40+[5]村里!J40+[6]村里!J40+[7]村里!J40+[8]村里!J40+[9]村里!J40+[10]村里!J40+[11]村里!J40+[12]村里!J40 -> 116 | K40: =[1]村里!K40+[2]村里!K40+[3]村里!K40+[4]村里!K40+[5]村里!K40+[6]村里!K40+[7]村里!K40+[8]村里!K40+[9]村里!K40+[10]村里!K40+[11]村里!K40+[12]村里!K40 -> 23 | L40: =[1]村里!L40+[2]村里!L40+[3]村里!L40+[4]村里!L40+[5]村里!L40+[6]村里!L40+[7]村里!L40+[8]村里!L40+[9]村里!L40+[10]村里!L40+[11]村里!L40+[12]村里!L40 -> 15 | M40: =[1]村里!M40+[2]村里!M40+[3]村里!M40+[4]村里!M40+[5]村里!M40+[6]村里!M40+[7]村里!M40+[8]村里!M40+[9]村里!M40+[10]村里!M40+[11]村里!M40+[12]村里!M40 -> 0 | N40: =[1]村里!N40+[2]村里!N40+[3]村里!N40+[4]村里!N40+[5]村里!N40+[6]村里!N40+[7]村里!N40+[8]村里!N40+[9]村里!N40+[10]村里!N40+[11]村里!N40+[12]村里!N40 -> 0 | ... R40: =[1]村里!R40+[2]村里!R40+[3]村里!R40+[4]村里!R40+[5]村里!R40+[6]村里!R40+[7]村里!R40+[8]村里!R40+[9]村里!R40+[10]村里!R40+[11]村里!R40+[12]村里!R40 -> 6
...

Sheet 鄉市
F1: 澎湖縣各鄉市 村里、鄰、戶、人口與戶籍動態登記數按性別及登記項目分
J2: =村里!J2 -> 107年12月底 | Q2: =村里!O2 -> 製表日期:108年1月4日
A3: 區域 | B3: 村里 | C3: 鄰 | D3: 戶 | E3: 性 | F3: 人口 | G3: 遷入 | H3: 遷出 | I3: 住址 | J3: 變更 | K3: 出生 | L3: 死亡 | M3: 認領 | N3: 收養 | O3: 終止收 | P3: 監護 | Q3: 輔助 | R3: 未成年子女權利義 | S3: 結婚 | T3: 離婚
A4: 別 | B4: 數 | C4: 數 | D4: 數 | E4: 別 | F4: 數 | G4: 人數 | H4: 人數 | I4: 遷入 | J4: 遷出 | K4: 人數 | L4: 人數 | M4: 人數 | N4: 人數 | O4: 養人數 | P4: 人數 | Q4: 人數 | R4: 務行使負擔人數 | S4: 對數 | T4: 對數
E5: 計 | F5: =村里!F5 -> 104440 | G5: =村里!G5 -> 5189 | H5: =村里!H5 -> 4794 | I5: =村里!I5 -> 2905 | J5: =村里!J5 -> 2905 | K5: =村里!K5 -> 881 | L5: =村里!L5 -> 909 | M5: =村里!M5 -> 16 | ... R5: =村里!R5 -> 332
A6: 澎湖縣 | B6: =村里!B6 -> 96 | C6: =村里!C6 -> 1404 | D6: =村里!D6 -> 40574 | E6: 男 | F6: =村里!F6 -> 53807 | G6: =村里!G6 -> 2916 | H6: =村里!H6 -> 2700 | I6: =村里!I6 -> 1432 | J6: =村里!J6 -> 1432 | K6: =村里!K6 -> 470 | L6: =村里!L6 -> 527 | M6: =村里!M6 -> 8 | ... T6: =村里!T6 -> 249
A7: 總計 | E7: 女 | F7: =村里!F7 -> 50633 | G7: =村里!G7 -> 2273 | H7: =村里!H7 -> 2094 | I7: =村里!I7 -> 1473 | J7: =村里!J7 -> 1473 | K7: =村里!K7 -> 411 | L7: =村里!L7 -> 382 | M7: =村里!M7 -> 8 | ... R7: =村里!R7 -> 173
E8: 計 | F8: =村里!F8 -> 62610 | G8: =村里!G8 -> 3140 | H8: =村里!H8 -> 2846 | I8: =村里!I8 -> 2408 | J8: =村里!J8 -> 2408 | K8: =村里!K8 -> 465 | L8: =村里!L8 -> 457 | M8: =村里!M8 -> 8 | ... R8: =村里!R8 -> 207
A9: 馬公市 | B9: =村里!B9 -> 33 | C9: =村里!C9 -> 628 | D9: =村里!D9 -> 24963 | E9: 男 | F9: =村里!F9 -> 31848 | G9: =村里!G9 -> 1754 | H9: =村里!H9 -> 1602 | I9: =村里!I9 -> 1196 | J9: =村里!J9 -> 1196 | K9: =村里!K9 -> 254 | L9: =村里!L9 -> 259 | M9: =村里!M9 -> 3 | ... T9: =村里!T9 -> 154
E10: 女 | F10: =村里!F10 -> 30762 | G10: =村里!G10 -> 1386 | H10: =村里!H10 -> 1244 | I10: =村里!I10 -> 1212 | J10: =村里!J10 -> 1212 | K10: =村里!K10 -> 211 | L10: =村里!L10 -> 198 | M10: =村里!M10 -> 5 | ... R10: =村里!R10 -> 105
E11: 計 | F11: =村里!F110 -> 14594 | G11: =村里!G110 -> 818 | H11: =村里!H110 -> 718 | I11: =村里!I110 -> 210 | J11: =村里!J110 -> 210 | K11: =村里!K110 -> 137 | L11: =村里!L110 -> 151 | M11: =村里!M110 -> 3 | ... R11: =村里!R110 -> 44
A12: 湖西鄉 | B12: =村里!B111 -> 22 | C12: =村里!C111 -> 238 | D12: =村里!D111 -> 5697 | E12: 男 | F12: =村里!F111 -> 7714 | G12: =村里!G111 -> 490 | H12: =村里!H111 -> 414 | I12: =村里!I111 -> 98 | J12: =村里!J111 -> 98 | K12: =村里!K111 -> 80 | L12: =村里!L111 -> 95 | M12: =村里!M111 -> 2 | ... T12: =村里!T111 -> 37
E13: 女 | F13: =村里!F112 -> 6880 | G13: =村里!G112 -> 328 | H13: =村里!H112 -> 304 | I13: =村里!I112 -> 112 | J13: =村里!J112 -> 112 | K13: =村里!K112 -> 57 | L13: =村里!L112 -> 56 | M13: =村里!M112 -> 1 | ... R13: =村里!R112 -> 25
E14: 計 | F14: =村里!F179 -> 9827 | G14: =村里!G179 -> 418 | H14: =村里!H179 -> 411 | I14: =村里!I179 -> 106 | J14: =村里!J179 -> 106 | K14: =村里!K179 -> 107 | L14: =村里!L179 -> 104 | M14: =村里!M179 -> 2 | ... R14: =村里!R179 -> 27
A15: 白沙鄉 | B15: =村里!B180 -> 15 | C15: =村里!C180 -> 179 | D15: =村里!D180 -> 3463 | E15: 男 | F15: =村里!F180 -> 5126 | G15: =村里!G180 -> 231 | H15: =村里!H180 -> 236 | I15: =村里!I180 -> 49 | J15: =村里!J180 -> 49 | K15: =村里!K180 -> 50 | L15: =村里!L180 -> 59 | M15: =村里!M180 -> 1 | ... T15: =村里!T180 -> 21
E16: 女 | F16: =村里!F181 -> 4701 | G16: =村里!G181 -> 187 | H16: =村里!H181 -> 175 | I16: =村里!I181 -> 57 | J16: =村里!J181 -> 57 | K16: =村里!K181 -> 57 | L16: =村里!L181 -> 45 | M16: =村里!M181 -> 1 | ... R16: =村里!R181 -> 16
E17: 計 | F17: =村里!F227 -> 8349 | G17: =村里!G227 -> 300 | H17: =村里!H227 -> 340 | I17: =村里!I227 -> 80 | J17: =村里!J227 -> 80 | K17: =村里!K227 -> 81 | L17: =村里!L227 -> 100 | M17: =村里!M227 -> 1 | ... R17: =村里!R227 -> 27
A18: 西嶼鄉 | B18: =村里!B228 -> 11 | C18: =村里!C228 -> 167 | D18: =村里!D228 -> 3035 | E18: 男 | F18: =村里!F228 -> 4311 | G18: =村里!G228 -> 145 | H18: =村里!H228 -> 166 | I18: =村里!I228 -> 41 | J18: =村里!J228 -> 41 | K18: =村里!K228 -> 48 | L18: =村里!L228 -> 60 | M18: =村里!M228 -> 1 | ... T18: =村里!T228 -> 21
E19: 女 | F19: =村里!F229 -> 4038 | G19: =村里!G229 -> 155 | H19: =村里!H229 -> 174 | I19: =村里!I229 -> 39 | J19: =村里!J229 -> 39 | K19: =村里!K229 -> 33 | L19: =村里!L229 -> 40 | M19: =村里!M229 -> 0 | ... R19: =村里!R229 -> 14
E20: 計 | F20: =村里!F263 -> 5235 | G20: =村里!G263 -> 293 | H20: =村里!H263 -> 228 | I20: =村里!I263 -> 37 | J20: =村里!J263 -> 37 | K20: =村里!K263 -> 46 | L20: =村里!L263 -> 52 | M20: =村里!M263 -> 1 | ... R20: =村里!R263 -> 14
A21: 望安鄉 | B21: =村里!B264 -> 9 | C21: =村里!C264 -> 131 | D21: =村里!D264 -> 2035 | E21: 男 | F21: =村里!F264 -> 2830 | G21: =村里!G264 -> 175 | H21: =村里!H264 -> 132 | I21: =村里!I264 -> 23 | J21: =村里!J264 -> 23 | K21: =村里!K264 -> 21 | L21: =村里!L264 -> 33 | M21: =村里!M264 -> 0 | ... T21: =村里!T264 -> 10
E22: 女 | F22: =村里!F265 -> 2405 | G22: =村里!G265 -> 118 | H22: =村里!H265 -> 96 | I22: =村里!I265 -> 14 | J22: =村里!J265 -> 14 | K22: =村里!K265 -> 25 | L22: =村里!L265 -> 19 | M22: =村里!M265 -> 1 | ... R22: =村里!R265 -> 7
E23: 計 | F23: =村里!F293 -> 3825 | G23: =村里!G293 -> 220 | H23: =村里!H293 -> 251 | I23: =村里!I293 -> 64 | J23: =村里!J293 -> 64 | K23: =村里!K293 -> 45 | L23: =村里!L293 -> 45 | M23: =村里!M293 -> 1 | ... R23: =村里!R293 -> 13
A24: 七美鄉 | B24: =村里!B294 -> 6 | C24: =村里!C294 -> 61 | D24: =村里!D294 -> 1381 | E24: 男 | F24: =村里!F294 -> 1978 | G24: =村里!G294 -> 121 | H24: =村里!H294 -> 150 | I24: =村里!I294 -> 25 | J24: =村里!J294 -> 25 | K24: =村里!K294 -> 17 | L24: =村里!L294 -> 21 | M24: =村里!M294 -> 1 | ... T24: =村里!T294 -> 6
E25: 女 | F25: =村里!F295 -> 1847 | G25: =村里!G295 -> 99 | H25: =村里!H295 -> 101 | I25: =村里!I295 -> 39 | J25: =村里!J295 -> 39 | K25: =村里!K295 -> 28 | L25: =村里!L295 -> 24 | M25: =村里!M295 -> 0 | ... R25: =村里!R295 -> 6
