Workbook

Sheet 工作表1
B1: BRAVIA股份有限公司
D2: 2017 | E2: 年 | F2: 9 | G2: 月 | H2: 薪資發放明細表
A4: 部門 | B4: 站前 | C4: 姓名 | D4: 路人 | E4: 薪資月份 | H4: X年X月 | I4: 到(離)日期 | J4: O年O月O日
A6: 職稱 | B6: 街友 | C6: 入帳日期 | F6: 轉帳帳號
A8: 應發項目 | H8: 應扣項目
A9: 項目 | B9: 金額 | C9: 加班別 | E9: 倍率 (F) | F9: 時數 (G) | G9: 加班費 (E)x(F)x(G) | H9: 勞工 自付額 | I9: 金額 | J9: 缺勤 | K9: 時數 (H) | L9: 金額 (E)x(H)
A10: 本薪 | B10: 0 | C10: 平日加班 | E10: 1.34 | F10: 0 | G10: =$C$23*E10*F10 -> 0 | H10: 勞保費 | I10: 0 | J10: 事假 | L10: =$C$23*K10 -> 0
A11: 伙食津貼 | B11: 0 | E11: 1.667 | F11: 0 | G11: =$C$23*E11*F11 -> 0 | H11: 健保費 | I11: 0 | J11: 病假 | L11: =$C$23*K11 -> 0
A12: 全勤獎金 | B12: 0 | C12: 休假出勤 | D12: 前2小時 | E12: 1.34 | F12: 0 | G12: =$C$23*E12*F12 -> 0 | H12: 職工福利金 | I12: 0 | J12: 遲到早退 扣款(E÷60) | K12: 0 | L12: =$C$23*K12 -> 0
A13: 績效獎金 | B13: 0 | D13: 後6小時 | E13: 1.67 | F13: 0 | G13: =$C$23*E13*F13 -> 0 | H13: 勞工自願提 繳退休金 | I13: 0 | L13: =$C$23*K13 -> 0
A14: 職務加給 | B14: 0 | C14: 加班 | D14: 每小時 | E14: 2.67 | F14: 0 | G14: =$C$23*E14*F14 -> 0 | L14: =$C$23*K14 -> 0
C15: 國定 | D15: 每小時 | E15: 1 | F15: 0 | G15: =$C$23*E15*F15 -> 0 | L15: =$C$23*K15 -> 0
C16: 加班 | D16: 每小時 | E16: 2.667 | F16: 0 | G16: =$C$23*E16*F16 -> 0 | L16: =$C$23*K16 -> 0
C17: 例假 | D17: 每小時 | E17: 1 | F17: 0 | G17: =$C$23*E17*F17 -> 0
C18: 加班 | D18: 每小時 | E18: 2.67 | F18: 0 | G18: =$C$23*E18*F18 -> 0
L20: =$C$23*K20 -> 0
A21: 合計(A) | B21: =SUM(B10:B20) -> 0 | C21: 合計(B) | F21: =SUM(G10:G20) -> 0 | H21: 合計（C） | I21: =-SUM(I10:I20) -> 0 | J21: 合計(D) | K21: =-SUM(L10:L20) -> 0
A23: 平均每小時工資額 (E)=(A)÷240 | C23: =B21/240 -> 0 | E23: ※國定假日出勤1小時，即需以1日計薪
H25: 實發金額 (A)+(B)-（C）-(D) | J25: =B21+F21+I21+K21 -> 0
A27: 個人特別休假 | H27: 公司提撥退休金
A28: 可請休期間 | B28: X年X月X日 - O年O月O日 | H28: 公司提撥勞退 | J28: 6
A29: 可休日數 | B29: 3 | H29: 提撥公司級距
A30: 已休日數 | B30: 1.5 | H30: 提撥金額

Sheet 工作表2
B1: =工作表1!B1 -> BRAVIA股份有限公司
D2: =工作表1!D2 -> 2017 | E2: 年 | F2: =工作表1!F2 -> 9 | G2: 月 | H2: 薪資發放明細表
A4: 部門 | C4: 姓名 | E4: 薪資月份 | G4: X年X月 | H4: 到(離)日期 | J4: O年O月O日
A6: 職稱 | C6: 入帳日期 | F6: 轉帳帳號 | H6: =工作表1!H6 -> 0
A8: 約定薪資結構 | B8: 項目 | C8: 金額 | E8: 非固定支付項目 | F8: 項目 | G8: 金額 | I8: 應代扣項目 | J8: 項目 | K8: 金額
B9: 底薪 | C9: =工作表1!B10 -> 0 | F9: 平日加班 | G9: =SUM(工作表1!G10:G11) -> 0 | J9: 勞保 | K9: =工作表1!I10 -> 0
B10: 伙食津貼 | C10: =工作表1!B11 -> 0 | F10: 休假日出勤 | G10: =SUM(工作表1!G12:G13) -> 0 | J10: 健保 | K10: =工作表1!I11 -> 0
B11: 全勤獎金 | C11: =工作表1!B12 -> 0 | F11: 休假日加班 | G11: =SUM(工作表1!G14) -> 0 | J11: 職工福利金 | K11: =工作表1!I12 -> 0
B12: 職務津貼 | C12: =工作表1!B14 -> 0 | F12: 國定假日出勤 | G12: =SUM(工作表1!G15) -> 0 | J12: 勞工自願提 退休金 | K12: =工作表1!I13 -> 0
B13: 績效獎金 | C13: =工作表1!B13 -> 0 | F13: 國定假日加班 | G13: =SUM(工作表1!G16) -> 0
F14: 例假日出勤 | G14: =SUM(工作表1!G17) -> 0 | J14: 事假 | K14: =工作表1!K10 -> 0
F15: 例假日加班 | G15: =SUM(工作表1!G18) -> 0 | J15: 病假 | K15: =工作表1!K11 -> 0
J16: 遲到早退 | K16: =工作表1!L12 -> 0
B21: (A)小計 | C21: =SUM(C9:C20) -> 0 | F21: 小計(B) | G21: =SUM(G9:G20) -> 0 | J21: 小計(C) | K21: =-SUM(K9:K20) -> 0
F23: 實領金額 (A)+(B)-(C) | I23: =C21+G21+K21 -> 0
