Workbook
Name \c: #REF!
Name \c: #REF!
Name \c: #REF!
Name \c: #REF!
Name \c: #REF!
Name \c: #REF!
Name \C1: #REF!
Name \C1: #REF!
Name \C1: #REF!
Name \C1: #REF!
Name \C1: #REF!
Name \C1: #REF!
Name \d: #REF!
Name \d: #REF!
Name \d: #REF!
Name \d: #REF!
Name \d: #REF!
Name \d: #REF!
Name \l: #REF!
Name \l: #REF!
Name \l: #REF!
Name \l: #REF!
Name \l: #REF!
Name \l: #REF!
Name \m: #REF!
Name \m: #REF!
Name \m: #REF!
Name \m: #REF!
Name \m: #REF!
Name \m: #REF!
Name _00: #REF!
Name _00: #REF!
Name _00: #REF!
Name _00: #REF!
Name _00: #REF!
Name _00: #REF!
Name _11: #REF!
Name _11: #REF!
Name _11: #REF!
Name _11: #REF!
Name _11: #REF!
Name _11: #REF!
Name _pp1: #REF!
Name _pp1: #REF!
Name _pp1: #REF!
Name _pp1: #REF!
Name _pp1: #REF!
Name _pp1: #REF!
Name _PRN1: #REF!
Name _PRN1: #REF!
Name _PRN1: #REF!
Name _PRN1: #REF!
Name _PRN1: #REF!
Name _PRN1: #REF!
Name _PRN2: #REF!
Name _PRN2: #REF!
Name _PRN2: #REF!
Name _PRN2: #REF!
Name _PRN2: #REF!
Name _PRN2: #REF!

Sheet 附錄一
A9: 附錄一、澎湖縣湖西鄉公所公務統計報表程式
J22: 8

Sheet 一覽表
A1: 民政課公務統計報表程式一覽表
A2: 表 號 | B2: 表 名 | C2: 表 期 | D2: 頁 次
A3: 11242-02-04-3 | B3: 澎湖縣湖西鄉實施耕地三七五減租成果增減原因 | C3: 年度報
A4: 11242-02-02-3 | B4: 澎湖縣湖西鄉實施耕地三七五減租後承租人承買耕地面積及人數 | C4: 年度報
A5: 11242-02-01-3 | B5: 澎湖縣湖西鄉實施耕地三七五減租成果 | C5: 年度報
A6: 11242-05-01-3 | B6: 澎湖縣湖西鄉各級租佃委員會調解調處案件 | C6: 年度報
A7: 30293-01-01-3 | B7: 澎湖縣湖西鄉公所公共造產成果概況 | C7: 年度報
A8: 30293-01-02-3 | B8: 澎湖縣湖西鄉公所公共造產經營事業概況 | C8: 年度報
A9: 30293-03-01-3 | B9: 澎湖縣湖西鄉辦理調解業務概況 | C9: 年度報
A10: 30293-03-02-3 | B10: 澎湖縣湖西鄉調解委員會組織概況 | C10: 年度報
A11: 30293-03-03-3 | B11: 澎湖縣湖西鄉辦理調解方式概況 | C11: 年度報
A12: 30294-04-01-3 | B12: 澎湖縣湖西鄉公墓設施概況 | C12: 年度報
A13: 30294-04-02-3 | B13: 澎湖縣湖西鄉骨灰(骸)存放設施概況 | C13: 年度報
A14: 30294-04-03-3 | B14: 澎湖縣湖西鄉殯葬管理業務概況 | C14: 年度報
A15: 社會課公務統計報表程式一覽表
A16: 表 號 | B16: 表 名 | C16: 表 期 | D16: 頁 次
A17: 10730-04-07-3 | B17: 澎湖縣湖西鄉獨居老人服務概況 | C17: 季報
A18: 11140-01-01-3 | B18: 澎湖縣湖西鄉推行社區發展工作概況 | C18: 年度報
A19: 10730-04-03-3 | B19: 澎湖縣湖西鄉老人福利服務成果(一)-活動中心及長青學苑 | C19: 半年報
A23: 建設課公務統計報表程式一覽表
A24: 表 號 | B24: 表 名 | C24: 表 期 | D24: 頁 次
A25: 11243-01-01-3 | B25: 澎湖縣湖西鄉農耕土地面積 | C25: 年度報
A26: 2522-09-20-3 | B26: 澎湖縣湖西鄉鄉道公路養護工程成果 | C26: 年度報
A27: 2522-09-23-3 | B27: 澎湖縣湖西鄉鄉道公路新建及改善工程完成數量 | C27: 年度報
A28: 20535-09-01-3 | B28: 澎湖縣湖西鄉治山防災整體治理工程 | C28: 年度報
A29: 11260-02-04-3 | B29: 澎湖縣湖西鄉天然災害水土保持設施損失 | C29: 年(臨時)報
A30: 20329-02-01-3 | B30: 澎湖縣湖西鄉農路改善及維護工程 | C30: 年度報
A31: 2234-01-01-3 | B31: 澎湖縣湖西鄉森林災害報告 | C31: 即刻報
A32: 清潔隊公務統計報表程式一覽表
A33: 表 號 | B33: 表 名 | C33: 表 期 | D33: 頁 次
A34: 11251-01-01-3 | B34: 澎湖縣湖西鄉一般垃圾及廚餘清理狀況 | C34: 月報
A35: 11251-01-03-3 | B35: 澎湖縣湖西鄉垃圾回收清除車輛數 | C35: 半年報
A36: 11251-04-02-3 | B36: 澎湖縣湖西鄉垃圾處理場(廠)數 | C36: 半年報
A37: 11252-01-02-3 | B37: 澎湖縣湖西鄉資源回收量 | C37: 月報
A38: 11299-90-01-3 | B38: 澎湖縣湖西鄉公共場所一般環境衛生管理工作成果 | C38: 半年報
A39: 1135-01-08-3 | B39: 澎湖縣湖西鄉水肥清運處理狀況 | C39: 半年報
A40: 30910-01-01-3 | B40: 澎湖縣湖西鄉環保人員概況 | C40: 半年報
A41: 30910-02-01-3 | B41: 澎湖縣湖西鄉環境保護預算 | C41: 年度報
A42: 30910-02-02-3 | B42: 澎湖縣湖西鄉環境保護決算 | C42: 年度報
A43: 財政課公務統計報表程式一覽表
...

Sheet 10730-04-03-3 
A1: 公開類
A2: 半年報 | B2: 每半年終了後1個月內編送
A3: 澎湖縣湖西鄉老人福利服務成果(一)-活動中心及長青學苑
A4: 中華民國 年 半年（ 月至 月）
A5: 一、老人福利服務（文康）活動中心 | P5: 單位：個、人次
A6: 項目別 | B6: 合計 | G6: 全縣(市)性老人文康中心 | J6: 鄉鎮市區老人文康中心 | M6: 社區型老人文康中心 (長壽俱樂部) | P6: 其他類型老人活動場所 (老人會暨其他團體)
A7: 中心數 (單位數)
A8: 參加人次
A10: 二、長青學苑辦理成果 | R10: 單位：所、班、人次
A11: 期底所數 (所) | B11: 本期開班 班數(班) | C11: 本期開班 參加人次 | D11: 1.參加人次按族群別分 | J11: 2.參加人次按教育程度分 | P11: 3.參加人次按年齡分
D12: 一般 | G12: 原住民 | J12: 不識字 | K12: 識字 | P12: 55~未 滿65歲 | Q12: 65~未 滿70歲 | R12: 70歲 以上
D13: 合計 | E13: 男 | F13: 女 | G13: 合計 | H13: 男 | I13: 女 | K13: 自修 | L13: 國民小學 | M13: 國中 (初中) | N13: 高中(職) | O13: 大專 以上
A15: 填表 | C15: 審核 | G15: 業務主管人員 | K15: 機關首長 | O15: 中華民國 年 月 日編製
G16: 主辦統計人員
A18: 資料來源：依據本所業務登記資料彙編。
A19: 填表說明：本表編製3份，1份送主計室，1份送澎湖縣政府社會處，1份自存。
A27: 澎湖縣湖西鄉老人福利服務成果(一)-活動中心及長青學苑編製說明
A28: 一、統計範圍及對象：凡本鄉老人福利(文康)活動中心及開辦老人進修、研習單位所辦理之業務，均為統計對象。
A29: 二、統計標準時間：動態（本期）資料上半年以1至6月、下半年以7至12月之事實為準；靜態（期底）資料以6月底、12月底之事實為準。
A30: 三、分類標準：依「老人福利服務(文康)活動中心」、「長青學苑辦理成果」分。
A31: 四、統計項目定義：
A32: (一)老人福利服務(文康)活動中心：包含辦理老人福利服務業務或提供老人福利服務諮詢者。
A33: (二)長青學苑：凡是提供55歲以上中、高齡者多元的學習之機會與管道，且每班課程達24小時以上，並連續滿12週，皆屬之。
A34: 1.所數：係指開辦老人進修、研習之單位。若1所學苑有2處以上授課地點者,請依實際授課地點數計算。
A35: 2.開班班數：係以開班時間點統計，以避免跨統計時間點，有重複計算之虞。
A36: 3.參加人次：係為參加活動內容累計參加人數，主要係統計各類老人活動場所之執行成果，其參加人次之計算，不限活動是否接受中央政府或地方政府補助之活動。
... A42: 六、編送對象：本表編製3份，1份送主計室，1份送澎湖縣政府社會處，1份自存。

Sheet 10730-04-07-3
A1: 公開類
A2: 季報 | B2: 每季終了後15日內編送
A3: 澎湖縣湖西鄉獨居老人服務概況
S4: 中華民國 年第 季( 月至 月) | AO4: 單位:人、人次
A5: 項目別 | C5: 期底獨居老人人數(人) (含具原住民身分) | L5: 期底具原住民身分 獨居老人人數 | O5: 期底安裝緊急救援裝置人數(人) | X5: 本 期 服 務 成 果 (人次)
C6: 總 計 | F6: 中(低)收入 | I6: 一 般 戶 | O6: 總計 | R6: 中(低)收入 | U6: 一 般 戶 | X6: 總計 | AA6: 關懷訪視 | AD6: 電話問安 | AG6: 就醫協助 | AJ6: 生活協助 | AM6: 送餐服務
C7: 合計 | D7: 男 | E7: 女 | F7: 合計 | G7: 男 | H7: 女 | I7: 合計 | J7: 男 | K7: 女 | L7: 合計 | M7: 男 | N7: 女 | O7: 合計 | P7: 男 | Q7: 女 | R7: 合計 | S7: 男 | T7: 女 | U7: 合計 | V7: 男 | W7: 女 | X7: 合計 | Y7: 男 | Z7: 女 | AA7: 合計 | AB7: 男 | AC7: 女 | AD7: 合計 | AE7: 男 | AF7: 女 | AG7: 合計 | AH7: 男 | AI7: 女 | AJ7: 合計 | AK7: 男 | AL7: 女 | AM7: 合計 | AN7: 男 | AO7: 女
A8: 湖西鄉 | B8: 合計
B9: 65～69歲
B10: 70～74歲
B11: 75～79歲
B12: 80～84歲
B13: 85歲以上
A14: 填表 | H14: 審核 | Q14: 業務主管人員 | AA14: 機關首長 | AK14: 中華民國 年 月 日編製
Q15: 主辦統計人員
A18: 資料來源：依據本鄉各村所報獨居老人服務概況資料彙編。
A19: 填表說明：本表編製3份，1份送主計室，1份自存，1份送澎湖縣政府社會處。
C44: 澎湖縣湖西鄉獨居老人服務概況編製說明 一、 統計範圍及對象：凡經本所評估需關懷服務之老人(65歲以上一人獨自居住、直系血親卑親屬未居住於同縣市、夫妻同住且均年滿65歲，或同住者無照顧能力 之老人等)，均為統計對象。 二、 統計標準時間：靜態資料以3月底、6月底、9月底、12月底之事實為準；動態資料第1季以1至3月、第2季以4至6月、第3季以7至9月、第4季以10至12月之事實為準。 三、 分類標準：橫項依「期底獨居老人人數」及「期底具原住民身分獨居老人人數」依「鄉鎮市區別及年齡別」分，「期底安裝緊急救援裝置人數」及「本期服務成果」 則依「鄉鎮市區別」分；縱項「期底獨居老人人數」及「期底安裝緊急救援裝置人數」依「中(低)收入」、「一般戶」及「性別」分；「期底具原住民身分獨居老人 人數」、「本期服務成果」則依「性別」分。 四、統計項目定義： (一)期底獨居老人人數：係指經澎湖縣政府評估需關懷服務之老人期底人數，包含65歲以上一人獨自居住、直系血親卑親屬未居住於同縣市、夫妻同住且均年滿65歲， 或同住者無照顧能力之老人等。其中「中(低)收入」係指符合低收入戶及家庭總收入分配全家人口，每人每月未超過最低生活費2.5倍者。 (二)期底具原住民身分獨居老人人數：依指戶籍登記具原住民身分之獨居老人期底人數。 (三)期底安裝緊急救援裝置人數：指為協助獨居老人於遇有突發或緊急危難時，能獲得及時救援所安裝緊急救援裝置之期底人數，不含服務期間拆機人數。。 (四)本期服務成果：指當期獨居老人實際接受服務之人次統計，但不包含：1.使用長照服務給付項目之服務成果、2.依長照服務發展基金一般性獎助計畫提供營養餐飲 服務成果，其中； 1.關懷訪視：到宅訪視獨居老人，提供心理支持及陪伴。 2.電話問安：以電話定期或不定期向獨居老人問安。 3.就醫協助：陪同獨居老人至醫療院所接受治療或服務。 4.生活協助：提供獨居老人日常生活事務協助，增進社會連結、提升生活品質。 5.送餐服務：即提供生活自理能力較低或無法自行炊食的獨居老人送餐到家之服務。 五、資料蒐集方法及編製程序：依據本鄉各村所報獨居老人服務概況資料彙編。 六、編送對象：本表編製3份，1份送主計室，1份自存，1份送澎湖縣政府社會處。

Sheet 11242-02-04-3
A1: 公 開 類 | M1: 編製機關 | N1: 澎湖縣湖西鄉公所
A2: 年 報 | C2: 每年終了後1個月內編報 | M2: 表 號 | N2: 11242-02-04-3
A4: 澎湖縣湖西鄉實施耕地三七五減租成果增減原因
A5: 中華民國 年
A6: 增減原因 | C6: 承租人人數 | G6: 出租人人數 | K6: 土地筆數 | L6: 租約件數 | M6: 租 約 面 積 (公頃)
C7: 計 | D7: 男 | E7: 女 | F7: 非自然人 | G7: 計 | H7: 男 | I7: 女 | J7: 非自然人 | K7: (筆) | L7: (件)
A8: 上年底原有數
A9: 增加 原因 | B9: 合計
B10: 新訂租約
B11: 租約變更
B12: 分(補)訂租約
B13: 農(市)地重劃變更
B14: 更正
B15: 其他
A16: 減少 原因 | B16: 合計
B17: 承租人承買
B18: 收回變更使用
B19: 軍公徵收及公共設施使用
B20: 租約變更
B21: 收回自耕
B22: 終止(註銷)租約
B23: 農(市)地重劃變更
B24: 權屬變更
B25: 更正
B26: 其他
A27: 本年底應有數
A29: 填表 | C29: 審核 | K29: 業務主管人員 | N29: 機關首長
K30: 主辦統計人員
A31: 資料來源：依據各鄉鎮市區公所填報資料編製。
A32: 填表說明：本表編製3份，1份送本所主計室，1份送澎湖縣政府財政處，1份自存。 | N32: 中華民國 年 月 日編製
A34: 澎湖縣湖西鄉實施耕地三七五減租成果增減原因編製說明
A36: 一、統計範圍及對象：凡在本鄉境內訂有三七五租約之土地，均為統計之對象。
A37: 二、統計標準時間：靜態資料以當年12月底之事實為準，動態資料以當年1月1日至12月底之事實為準。
A38: 三、分類標準：
A39: （一）按增減原因分。
A40: （二）按承租人人數、出租人人數、土地筆數、租約件數及租約面積分。
A41: 四、統計項目定義：
A42: （一）承租人:向出租人承租田地以為耕種之承耕者。
A43: （二）出租人:土地所有權人。
A44: （三）面積均以公頃為單位，至小數點以下4位數。
...

Sheet 11242-02-02-3
A1: 公 開 類 | E1: 編製機關 | F1: 澎湖縣湖西鄉公所
A2: 年 報 | B2: 每年終了後1個月內編報 | E2: 表 號 | F2: 11242-02-02-3
A4: 澎湖縣湖西鄉實施耕地三七五減租後承租人承買耕地面積及人數
A5: 中華民國 年
B6: 承 買 耕 地 面 積 (公頃) | F6: 承買耕地承租人人數
A7: 鄉鎮市區別 | F7: (人)
B8: 本年 | D8: 累計至本年底止 | F8: 本年 | G8: 累計至本年底止
A9: 總 計
A22: 填表 | B22: 審核 | D22: 業務主管人員 | E22: 機關首長
D23: 主辦統計人員
A24: 資料來源：依據各鄉鎮市區公所佃農購買耕地申請書及三七五減租登記資料彙編。
A25: 填表說明：本表編製3份，1份送本所主計室，1份送澎湖縣政府財政處，1份自存。
G26: 中華民國 年 月 日編製
A28: 澎湖縣湖西鄉實施耕地三七五減租後承租人承買耕地面積及人數編製說明
A30: 一、統計範圍及對象：凡依據耕地三七五減租條例規定之執行案件，均為統計之對象。
A31: 二、統計標準時間：靜態資料以當年12月底之事實為準，動態資料以當年1月1日至12月底之事實為準。
A32: 三、分類標準：
A33: （一）按鄉鎮市區別分。
A34: （二）按承買耕地面積及承買耕地承租人人數分。
A35: 四、統計項目定義：
A36: （一）承買耕地面積：承租人購買其所訂定三七五租約土地之面積。
A37: （二）承租人：向出租人承租田地以為耕種之承耕者。
A38: 五、資料蒐集方法及編製程序：依據本公所佃農購買耕地申請書及三七五減租登記簿資料彙編。
A39: 六、編送對象：本表編製3份，1份送本所主計室，1份送澎湖縣政府財政處，1份自存。

Sheet 11242-02-01-3
A1: 公 開 類 | M1: 編製機關 | N1: 澎湖縣湖西鄉公所
A2: 年 報 | B2: 每年終了後1個月內編報 | M2: 表 號 | N2: 11242-02-01-3
A4: 澎湖縣湖西鄉實施耕地三七五減租成果
A5: 中華民國 年底
A6: 鄉鎮市區別 | B6: 承租人人數 (人) | F6: 出租人人數 (人) | J6: 土地筆數 | K6: 租約件數 | L6: 租 約 面 積 (公頃)
B7: 計 | C7: 男 | D7: 女 | E7: 非自然人 | F7: 計 | G7: 男 | H7: 女 | I7: 非自然人 | J7: (筆) | K7: (件)
A8: 總 計
A26: 填表 | C26: 審核 | J26: 業務主管人員 | M26: 機關首長
J27: 主辦統計人員
A28: 資料來源：依據各鄉鎮市區公所三七五減租登記簿資料彙編。
A29: 填表說明：本表編製3份，1份送本所主計室，1份送澎湖縣政府財政處，1份自存。
O30: 中華民國 年 月 日編製
A33: 澎湖縣湖西鄉實施耕地三七五減租成果編製說明
A35: 一、統計範圍及對象：凡依據耕地三七五減租條例規定之執行案件，均為統計之對象。
A36: 二、統計標準時間：自實施三七五減租至當年12月底之靜態資料為準。
A37: 三、分類標準：
A38: （一）按鄉鎮市區別分。
A39: （二）按承租人人數、出租人人數、土地筆數、租約件數及租約面積分類。
A40: 四、統計項目定義：
A41: （一）承租人：向地主承租田地以為耕種之承耕者。
A42: （二）出租人：土地所有權人。
A43: 五、資料蒐集方法及編製程序：依據本公所三七五減租登記簿資料彙編。
A44: 六、編送對象：本表編製3份，1份送本所主計室，1份送澎湖縣政府財政處，1份自存。

Sheet 11242-05-01-3
A1: 公開類 | P1: 編製機關 | R1: 澎湖縣湖西鄉公所
A2: 年 報 | C2: 每年終了後1個月內編報 | P2: 表 號 | R2: 11242-05-01-3
A4: 澎湖縣湖西鄉各級租佃委員會調解調處案件
A5: 中華民國 年 | T5: 單位:件
A6: 租佃委員會別 | D6: 總計 | F6: 租額糾紛 | H6: 災歉減免地租 | J6: 正產副產糾紛 | L6: 租期糾紛 | N6: 租約面積糾紛 | P6: 田寮或基地 租佃糾紛 | R6: 減租條例 第16條糾紛 | T6: 其他
D7: 成立 | E7: 不成立 | F7: 成立 | G7: 不成立 | H7: 成立 | I7: 不成立 | J7: 成立 | K7: 不成立 | L7: 成立 | M7: 不成立 | N7: 成立 | O7: 不成立 | P7: 成立 | Q7: 不成立 | R7: 成立 | S7: 不成立 | T7: 成立 | U7: 不成立
A8: 總 計
A9: 市、縣(市)租佃委員會
A10: 鄉鎮市區租佃委員會 | B10: 合 計
A23: 備 註
A25: 填表 | G25: 審核 | L25: 業務主管人員 | Q25: 機關首長
L26: 主辦統計人員
A27: 資料來源：依據本府及鄉鎮市區租佃委員會調解調處案件登記簿資料彙編。
A28: 填表說明：本表編製3份，1份送本所主計室，1份送澎湖縣政府財政處，1份自存。
U29: 中華民國 年 月 日編製
A31: 澎湖縣湖西鄉各級租佃委員會調解調處案件編製說明
A33: 一、統計範圍及對象：凡在本鄉(市)境內各級租佃委員會調解調處案件，均為統計對象。
A34: 二、統計標準時間：以當年1月1日至12月底之事實為準。
A35: 三、分類標準：
A36: (一)以糾紛類別分為:租額糾紛、災歉減免地租、正產副產糾紛、租期糾紛、租約面積糾紛、田寮或基地租佃糾紛、減租條例第16條 糾紛及其他等項。
A37: (二)以組織分為:市、縣(市) 租佃委員會 、鄉鎮市區租佃委員會。
A38: 四、統計項目定義：不屬表列各類調解或調處案件應全部列入「其他」內，但必須在備註欄內說明為何種案件及其個別數量。
A39: 五、資料蒐集方法及編製程序：依據本鄉租佃委員會調解調處案件登記簿資料彙編。
A40: 六、編送對象：本表編製3份，1份送本所主計室，1份送澎湖縣政府財政處，1份自存。

Sheet 20535-09-01-3
A1: 公 開 類 | G1: 編製機關 | H1: 澎湖縣湖西鄉公所
A2: 年 度 報 | B2: 年度終了後2月內填報 | G2: 表 號 | H2: 20535-09-01-3
A4: 澎湖縣湖西鄉治山防災整體治理工程
B6: 中華民國 年度 | I6: 單位：新台幣元
A7: 工程名稱 | B7: 地點 | C7: 總 工 程 費 （按 經 費 來 源 分） | G7: 工 作 數 量
B8: （鄉鎮別） | C8: 總 計 | D8: 中 央 | E8: 縣 （市） | F8: 其 他 | G8: 防砂壩（座） | H8: 整流（公尺） | I8: 固床工（座）
A9: 合 計

Sheet 20535-09-01-3(續完)
A1: 公 開 類 | I1: 編製機關 | J1: 澎湖縣湖西鄉公所
A2: 年 度 報 | B2: 年度終了後2月內填報 | I2: 表 號 | J2: 20535-09-01-3
A4: 澎湖縣湖西鄉治山防災整體治理工程(續完)
A6: 中華民國 年度 | K6: 單位：新台幣元
A7: 工程名稱 | B7: 地點 | C7: 工 作 數 量
B8: （鄉鎮別） | C8: 護岸（公尺） | D8: 魚道（座） | E8: 蝕溝控制（公尺） | F8: 崩塌地處理（公頃） | G8: 植生綠美化（平方公尺） | H8: 生物通道（座） | I8: 其他（座、塊、公尺、公頃、平方公尺）
A9: 合 計
A27: 資料來源：根據本所年度內完工治山防災等工程結算書，未完工者以發包金額或發包後實際需要工程費填報資料編製。
A28: 填表說明：本表編製1式3份，1份送主計室，1份送自存，1份送澎湖縣林務公園管理所。
A31: 填表 | C31: 審核 | E31: 業務主管人員 | H31: 機關首長 | J31: 中華民國 年 月 日編製
E33: 主辦統計人員
A45: 澎湖縣湖西鄉治山防災整體治理工程編製說明
A47: 一、統計範圍及對象：凡在本鄉境內辦理治山防災工程者均為統計對象。
A49: 二、統計標準時間：以會計年度期間之事實為準。
A51: 三、分類標準：按工程名稱、地點、總工程費（按經費來源分）及工作數量。
A53: 四、統計項目定義：總工程費係指本年度已完工者以決算金額，未完工者以發包後實際需要工程費填報，惟不含管理費在內。
A55: 五、資料蒐集方法及編製程序：依本公所轄內相關工程資料編製。
A57: 六、編送對象：本表編製1式3份，1份送主計室，1份自存，1份送澎湖縣林務公園管理所。

Sheet 11140-01-01-3
A1: 公開類 | Y1: 公開類
A2: 年度報 | B2: 每年終了後2個月內編送 | Y2: 年度報 | Z2: 每年終了後2個月內編送 | AQ2: 澎湖縣湖西鄉推行社區發展工作概況編製說明 一、統計範圍及對象：凡在本鄉內已成立社區發展協會之社區，均為統計對象。 二、統計標準時間：動態資料以1至12月事實為準；靜態資料以12月底之事實為準。 三、分類標準：橫項依「鄉鎮市區別」分；縱項依「已劃定社區數」、「社區發展協會數」、「社區戶數」、「社區人口數」、「理監事人數」、「社區發展協會會員數」、「設置社區生產建設基金」、「實際使用經費」、「社區活動中心(幢)」及「社區發展工作項目」分。 四、統計項目定義： (一)社區：依「社區發展工作綱要」第2條規定，係指「經鄉(鎮、市、區)社區發展主管機關劃定，供為依法設立社區發展協會，推動社區發展工作之組織與活動區域」。 (二)已劃定社區數：為推展社區發展業務，得視實際需要，於該鄉（鎮、市、區）內，依據歷史關係、文化背景、地緣形勢、人口分布、生態特性、資源狀況、住宅型態、農、漁、工、礦、商業之發展及居民之意向、興趣及共同需求等因素劃定數個社區區域。 (三)社區發展協會：係指經主管機關劃定，依法成立之社區發展協會。 (四)社區戶數：係指社區劃定範圍內所有戶數。 (五)社區人口數：係指社區劃定範圍內所有人口數。 (六)社區發展協會會員：由社區居民自動申請加入社區發展協會為之會員人數。 (七)社區生產建設基金：為充裕社區經濟來源，健全社區發展組織，期能負起社區成果維護，推行社會教育、社區文化活動及福利服務工作，以提昇社區居民生活品質而籌措之基金。 (八)使用經費：指依法成立之社區發展協會，其經費來源。 1.政府補助款：為促進社區發展，增進居民福利，根據社區發展協會所提之計畫及自籌款項，政府機關依年度社區發展工作計畫給予之補助。(包含中央、本鄉(市)、鄉（鎮、市、區)補助款) 2.社區自籌款：社區發展協會為促進社區發中央各部會、本鄉(市)、鄉（鎮、市、區)展，增進居民福利，擬定工作計畫，結合社區資源及由居民繳交或樂捐之款項。(包含民眾配合款、民眾捐款、生產收益、其他收入) (九)社區活動中心（不含市民活動中心、里集會所、里民活動中心、老人活動中心等）：為推展社區發展各項建設工作之需要而興建，提供作為社區民眾集會及辦理各項文康育樂活動之場所，包含原建(未作修擴建)、新建及修擴建，並不考慮產權問題； 另數個社區發展協會共用1幢活動中心，請以總計1為統計代表，並備註共用之社區發展協會名稱。 (十)社區發展工作項目：社區發展協會基於社區居民共同需要，循自動與互助精神，配合政府行政支援，有效運用各種資源，從事綜合建設，以改進社區居民生活品質。以下各項以社區發展協會辦理之內部作業組織為統計範圍。 1.辦理社區觀摩：具體介紹建立社區之組織活動、公共工程建設、精神倫理及文化建設、生產福利建設服務體系之作法。 2.社區守望相助隊：社區居民基於需要，自行組織以維護住家安全，增進家戶情感為目的之組織。 3.社區志願服務團隊：社區發展協會依據志願服務法，運用或召募社區內外熱心民眾所籌組成立之志工團隊，貢獻其知識、體能、勞力、經驗、技術、時間等，以促進社區各項建設及提昇社區生活品質。 4.志工：指社區發展協會依志願服務法所召募、運用、管理，並領有志願服務紀錄冊之志願服務人員。 5.社區照顧關懷據點：為促進社區老人身心健康，落實在地老化及社區營造精神，由社區發展協會運用在地人力、物力資源，提供關懷訪視、電話問安諮詢及轉介服務、餐飲服務、辦理健康促進活動等，以延緩長者老化速度，發揮社區自助互助照顧功能。 6.長期照顧據點：由社區發展協會辦理巷弄長照站、失智服務據點等長照據點，以營造高齡者友善環境，達到在地老化之目標。 7.社區刊物：配合推展社區活動，報導社區生活，凝聚社區意識而發行之刊物。 8.福利服務或活動：以社區內兒童、少年、婦女、老人、身心障礙者、低收入戶、新住民或家庭暴力受害者等弱勢族群所提供之關懷照顧與服務所受益之人次。 9.其他服務：除前目外，由社區發展協會所提供或辦理之服務或活動(如：環境綠美化、資源回收、社區文化導覽、社區產業推廣...等) 所受益之人次。 五、資料蒐集方法及編製程序：依據本公所會計年度結束後10日內將轄內已成立之社區發展協會所報工作概況資料審核彙編。 六、編送對象：本表編製3份， 1份送主計室，1份自存，1份送澎湖縣政府社會處。
H3: 澎湖縣湖西鄉推行社區發展工作概況 | AD3: 澎湖縣湖西鄉推行社區發展工作概況（續）
A4: 中華民國 年 | Y4: 中華民國 年
A5: 鄉鎮市區 | B5: 已劃定社區數 | C5: 社區發展協會數 | D5: 社區 戶數 | E5: 社區 人口數 | F5: 理監事人數 | R5: 社區發展協會會員數 | U5: 設置社區生產建設基金 | V5: 實際使用經費(元) | Y5: 鄉鎮市區 | Z5: 社區活動中心(幢) | AD5: 社區發展工作項目
F6: 合計 | I6: 理事長 | L6: 理事(不含理事長) | O6: 監事 | V6: 合 計 | W6: 政府 補助款 | X6: 社區 自籌款 | AD6: 教育訓練 | AF6: 社區內部組織 | AK6: 社區照顧 關懷據點 | AL6: 長期照 顧據點 | AM6: 社區 刊物 | AN6: 服務成果
F7: 合計 | G7: 男 | H7: 女 | I7: 合計 | J7: 男 | K7: 女 | L7: 合計 | M7: 男 | N7: 女 | O7: 合計 | P7: 男 | Q7: 女 | R7: 合計 | S7: 男 | T7: 女 | Z7: 合計 | AA7: 原建 (未作修擴建) | AB7: 新建 | AC7: 修擴建 | AD7: 辦理社區幹部訓練 | AE7: 辦理社區 觀摩 | AF7: 社區守望 相助隊 | AG7: 社區志願服務 | AN7: 福利服務 或活動 | AO7: 其他 服務
AG8: 團隊 | AH8: 志工數
AH9: 合計 | AI9: 男 | AJ9: 女
B10: (處) | C10: (個) | D10: (戶) | E10: (人) | F10: (人) | G10: (人) | H10: (人) | I10: (人) | J10: (人) | K10: (人) | L10: (人) | M10: (人) | N10: (人) | O10: (人) | P10: (人) | Q10: (人) | R10: (人) | S10: (人) | T10: (人) | U10: (個) | AD10: (人次) | AE10: (人次) | AF10: (隊) | AG10: (隊) | AH10: (人) | AI10: (人) | AJ10: (人) | AK10: (處) | AL10: (處) | AM10: (期) | AN10: (受益人次) | AO10: (受益人次)
A11: 總計 | Y11: 總計
A30: 備註 | Y30: 備註
Y31: 填表 | AE31: 審核 | AK31: 機關長官
Y34: 資料來源：依據本所轄內已成立社區發展協會所報工作概況資料審核彙編。
Y35: 填表說明：1.本表編製3份，1份送主計室，1份送澎湖縣政府社會處，1份自存。
Y36: 2.本表所填資料以已成立社區發展協會為準，不包含未成立社區發展協會資料。
Y37: 3.社區照顧關懷據點、長期照顧據點由同一社區發展協會設置，請分別採計數量。非由社區發展協會設置之據點，不予列計。

Sheet 11243-01-01-3
A1: 公開類 | H1: 編製機關 | I1: 澎湖縣湖西鄉公所
A2: 年 報 | B2: 次年4月底前編報 | H2: 表 號 | I2: 11243─01─01─3
A4: 澎 湖 縣 湖 西 鄉 農 耕 土 地 面 積
D7: 中華民國 年 | K7: 單位 : 公頃
A8: 鄉鎮(市區)別 | D8: 耕作地 | J8: 長期休閒地
C9: 總 計 | D9: 合計 | E9: 短期耕作地 | I9: 長期耕作地
E10: 小計 | F10: 水稻 | G10: 水稻以外之短期作 | H10: 短期休閒
A12: 總 計
A20: 填表 | C20: 審核 | E20: 業務主管人員 | H20: 機關首長
E21: 主辦統計人員
I24: 中華民國 年 月 日編製
A25: 資料來源：依據本所經辦人員查報資料編製。
A26: 填表說明:本表編製1式3份，1份自存，1份送主計室，1份送澎湖縣政府農漁局。

Sheet 11251-01-01-3
A1: 公 開 類 | D1: 編製機關 | E1: 澎湖縣湖西鄉公所
A2: 月 報 | B2: 期間終了1個月內編報 | D2: 表 號 | E2: 11251-01-01-3
A3: 澎湖縣湖西鄉一般垃圾及廚餘清理狀況
A5: 中華民國 年 月 單位：公噸
A6: 項 目 別 | D6: 一般垃圾 | G6: 廚 餘
E7: 事業員工 生活垃圾 | F7: 非例行性 排出垃圾
A8: 產生量 | B8: 總計
B9: 環保單位自行清運
B10: 環保單位委託清運
B11: 公私處所自行或委託清運
A12: 處理量 | B12: 總計
B13: 本月產生垃圾
B14: 過去暫存垃圾
B15: 焚化 | C15: 計
C16: 本月產生垃圾
C17: 過去暫存垃圾
B18: 衛生掩埋 | C18: 計
C19: 本月產生垃圾
C20: 過去暫存垃圾
B21: 回收再利用 | C21: 堆 肥
C22: 養 豬
C23: 其他廚餘再利用
B24: 其他 | C24: 計
C25: 本月產生垃圾
C26: 過去暫存垃圾
A27: 本月新增暫存量
A28: 填表 | B28: 審核 | C28: 業務主管人員 | D28: 機關首長
C29: 主辦統計人員 | G29: 中華民國 年 月 日編製
A32: 資料來源：依據本鄉公所提報之一般垃圾及廚餘清理狀況資料彙總編製。
A33: 填表說明：本表編製1式3份，1份自存，1份送主計室，1份送澎湖縣政府環境保護局。
A34: 澎湖縣湖西鄉一般垃圾及廚餘清理狀況編製說明 一、統計範圍及對象：本鄉(市)之一般垃圾及廚餘清理狀況均為統計對象。 二、統計標準時間：以每月1日至月底之事實為準。 三、分類標準： (一)縱項目：按一般垃圾及廚餘分，一般垃圾項下再分列事業員工生活垃圾及非例行性排出垃圾。 (二)橫項目：按產生量、處理量及本月新增暫存量分，其中產生量按清運單位別分，處理量按處理方式別分。 四、統計項目定義： (一) 一般垃圾：係指由家戶、公共場所及其他產生源所產生，除資源垃圾、有害垃圾及廚餘以外之一般廢棄物，包括非例行性排出垃圾、無法回收之巨大垃圾，但不包括海灘（漂)垃圾。家戶係指民眾居住處，其垃圾由垃圾車沿街清運收受者；公共場所如社區、公園、街道、河堤、人行道、水溝及髒亂點等，其他產生源如學校、公務機關、風景遊樂區、慈善團體、辦公大樓、夜市、市場、非公告事業之營業場所及事業員工生活產生者等。 (二) 事業員工生活垃圾：指事業員工生活產生之一般垃圾，例如員工休息室、餐廳、宿舍等事業員工生活場所產生者，不包括營業活動與生產製程產生者。 (三) 非例行性排出垃圾：包括集中燃燒之紙錢、非例行性大型活動垃圾、工程美化垃圾、天然災害垃圾及小型農事垃圾。 (四) 廚餘：係指家戶、公共場所、其他產生源所拋棄之生、熟食物及其殘渣，或經主管機關公告之有機性一般廢棄物。 (五) 環保單位自行清運：為縣(市)政府環境保護局及各鄉鎮市區公所自行清運之垃圾量。 (六) 環保單位委託清運：為縣(市)政府環境保護局及各鄉鎮市區公所委託公民營廢棄物清除機構清運之垃圾量。 (七) 公私處所自行或委託清運：為公私處所自行或委託公民營廢棄物清除機構清運至處理場(廠)之垃圾量，公私處所指社區、學校、機關團體、一般住宅大樓、辦公大樓及其他非公告事業之營業場所等。 (八) 焚化:利用焚化爐高溫燃燒，將垃圾轉變為安定之氣體或物質。 (九) 衛生掩埋：將垃圾掩埋於衛生掩埋場，該掩埋場須以不透水材質或低滲水性土壤所構築，並設有滲出水、廢氣收集處理設施及地下水監測裝置等，以符合衛生掩埋相關規定。 (十) 回收再利用：係指將廚餘資源化變為產品或再生物料之後續使用行為。凡經由清潔隊或公民營機構收集之廚餘，以下列方法處理再利用者均應計入，包括： 1.堆肥：將廚餘回收後，經生物醱酵作用，轉化成安定之腐植質或土壤改良劑。 2.養豬：將廚餘回收後，送至養豬場或標售，經高溫蒸煮後作為養豬飼料。 3.其他廚餘再利用：製成家禽飼料、厭氧發酵及黑水虻幼蟲食用等。 (十一) 「其他」處理：係指非採焚化、衛生掩埋或回收再利用等處理方式，而變更其物理、化學、生物特性或成分，達成分離、中和、減量、減積、去毒、無害化或安定之目的，例如篩分打包、水泥窯偕同處理、製成固體再生燃料（Solid Recovered Fuel，SRF）等。 (十二) 本月新增暫存量：係指本月新增暫時堆置或貯存之一般垃圾量。 五、資料蒐集方法及編製程序：依據本鄉公所提報之一般垃圾及廚餘清理資料彙編。 六、編送對象：本表編製1式3份，1份自存，1份送主計室，1份送澎湖縣政府環境保護局。

Sheet 11251-01-03-3
A1: 公 開 類 | G1: 編製機關 | H1: 澎湖縣湖西鄉公所
A2: 半 年 報 | B2: 期間終了1個月內編報 | G2: 表 號 | H2: 11251-01-03-3
A3: 澎湖縣湖西鄉垃圾回收清除車輛數
A4: 中 華 民 國 年 月底
A5: 單位:輛
F6: 車 輛 數
A7: 總 計
A8: 子 母 式 垃 圾 車
A9: 密 封 式 垃 圾 車
A10: 框式垃圾車 | B10: 計
B11: 資 源 (含 廚 餘) 回 收 垃 圾 車
B12: 其 它
A13: 水 肥 車
A14: 清 溝 ( 溝 泥 ) 車
A15: 掃 (洗) 街 車
A16: 填表 | B16: 審核 | D16: 業務主管人員 | F16: 機關首長
D17: 主辦統計人員 | F17: 中華民國 年 月 日編製
A20: 資料來源：依據本公所之垃圾回收清除車輛資料編製。
A21: 填表說明：本表編製1式3份，1份送主計室，1份自存，1份送澎湖縣政府環境保護局統計室，另上傳至環境部 環境管理署「生活廢棄物質管理資訊系統」。。

Sheet 11252-01-02-3
A1: 公 | B1: 開 | C1: 類 | D1: 期間終了20日內編製 | F1: 編製機關 | I1: 湖西鄉公所
A2: 月 | B2: 報 | F2: 表 | H2: 號 | I2: 11252－01－02－3
A3: 澎湖縣湖西鄉資源回收量
A4: 中華民國 年 月 單位：公斤
A5: 項 目 別 | D5: 總 計 | E5: 按清運單位分
E6: 環保單位 自行清運 | G6: 環保單位 委託清運 | J6: 公私處所自行 或委託清運
A7: 總 計
A8: 紙 類
A9: 紙容器
A10: 鋁箔包
A11: 鋁容器
A12: 鐵容器
A13: 其他金屬製品
A14: 塑膠容器
A15: 包裝用發泡塑膠
A16: 其他塑膠製品
A17: 輪 胎
A18: 玻璃容器
... A97: (十八)照明光源：指公告應回收之白熾燈泡(燈帽直徑2.6公分以上)、含汞照明光源及發光二 極體(即LED)照明光源。含汞照明光源 包括直管日光燈、環管日光燈、安定器內藏式 螢光燈泡、緊密型螢光燈管、高強度照明燈管、冷陰極燈、感應式螢光燈及其 他含汞 燈。發光二極體照明光源包括直管型、環管型、安定器內藏式型及緊密型。 (十九)乾電池：指以化學能直接轉換成電能，組裝前單只重量小於一公斤（二次鋰電池不受 小於一公斤之限制），密閉式之小型電池，包括一次電池及二次電池，但不包括鉛蓄 電池及需另行添加電解液或其他物質始能產生電能者。若以形狀區分，包括筒型(圓筒 及方筒)、鈕釦型及組裝型電池。 (二十)鉛蓄電池：包括發動活塞引擎用及其他鉛酸蓄電池，如電瓶。 (二十一)家電：指公告應回收之電子電器物品，包括電視機、電冰箱、洗衣機、冷暖氣機、 電風扇等，及其他大小型家電，如電熱水瓶、電磁爐、電鍋、飲水機、微波爐、烤 箱、咖啡機、吹風機、吸塵器、電暖器、錄放影機等。 (二十二)資訊物品：指公告應回收之資訊物品，包括筆記型電腦、平板電腦及用於個人電腦 之主機板、硬式磁碟機、電源器、機殼、 顯示器、印表機、鍵盤等。 (二十三)行動電話(含充電器)：指行動電話及其充電器(包括座充及旅充)。 (二十四)農藥容器及特殊環境用藥容器：指以塑膠、玻璃、金屬、紙、鋁箔或其他經行政院 環境保護署公告之單一或複合材質製成，用以直接裝填成品農藥或特殊環境用藥之 容器。 (二十五)食用油：指可供食用之動植物油脂。 (二十六)其他：指無法直接歸類之回收項目，如巨大垃圾等，或直轄市、縣（市）主管機關 增訂並報請中央主管機關備查之其他一般廢棄物回收項目，如潤滑油、塑膠袋等。 (二十七)本表皆以公斤為單位，若無法得其實際重量，請至「生活廢棄物質管理資訊系統」 主管機關頁面>點選「常見問題區」中「資源回收項目重量折算標準」可供參考， 網址：https://hwms.moenv.gov.tw。 五、資料蒐集方法及編製程序： 依據本公所提報之資源回收成果報告月報表資料彙總編製。 六、編送對象：本表編製 1 式 3 份，1 份送主計室，1 份自存，1 份送縣府環境保護局。

Sheet 11251-04-02-3
A1: 公 開 類 | G1: 編製機關 | H1: 澎湖縣湖西鄉公所
A2: 半 年 報 | B2: 期間終了1個月內編報 | G2: 表 號 | H2: 11251-04-02-3
A3: 澎湖縣湖西鄉垃圾處理場(廠)數
A4: 中 華 民 國 年 月底
A5: 單位:座
F6: 場(廠)數
A7: 總 計
A8: 焚 化 廠
A9: 衛 生 掩 埋 場
A10: 堆 肥 場
A11: 堆 置 場
A12: 填表 | B12: 審核 | D12: 業務主管人員 | F12: 機關首長
D13: 主辦統計人員 | F13: 中華民國 年 月 日編製
A16: 資料來源：依據本公所之垃圾處理場（廠）資料編製。
A17: 填表說明：本表編製1式3份，1份送主計室，1份自存，1份送澎湖縣政府環境保護局統計室。

Sheet 11299-90-01-3
A1: 公 開 類 | F1: 編製機關 | G1: 湖西鄉公所
A2: 半 年 報 | B2: 期間終了1個月內編報 | F2: 表 號 | G2: 11299-90-01-3
A3: 澎湖縣湖西鄉公共場所一般環境衛生管理工作成果
A4: 中 華 民 國 年 月 至 月
F5: 總 計
A6: 風景名勝遊樂地區、公民營市場、鐵公路、客運車站環境衛生督導 | B6: 期 末 列 管 處 所 數 (處)
B7: 抽 查 數 | D7: (處次)
B8: 輔 導 改 善 數 | D8: (處次)
B9: 告 發 取 締 | D9: (處次)
A10: 排 水 溝 幹支線清整 | B10: 長 度 | D10: (公尺)
B11: 清 除 淤 泥 | D11: (公噸)
A12: 公 廁 衛 生 管 理 | B12: 現有建檔管理 公廁數量 | C12: 建檔管理座數 | E12: (座)
C13: 廁所個數 (個) (1)=(2)+(3)+(4)
D14: 男廁 (個) | E14: 小計(2)
E15: 座式
E16: 蹲式
E17: 小便斗
D18: 女廁 (個) | E18: 小計(3)
E19: 座式
E20: 蹲式
D21: 其他(個) (4)
B22: 現有建檔管理公廁 督導檢驗及抽查數 | C22: 次 數 | E22: (次)
C23: 座 數 | E23: (座)
B24: 公廁維修 情 形 | C24: 新 建 | E24: (座)
C25: 改 建 | E25: (座)
C26: 整 修 | E26: (座)
B27: 流動廁所 | C27: 現有數量 | E27: (座)
C28: 支 援 | E28: (車次)
C29: 租 借 | E29: (座次)
A30: 填表 | B30: 審核 | E30: 業務主管人員 | F30: 機關長官
E31: 主辦統計人員
G32: 中華民國 年 月 日編製
A35: 資料來源：依據本所業務資料編製。
A36: 填表說明：本表編製1式3份，1份自存，1份送主計室，1份送澎湖縣政府環境保護局。

Sheet 1135-01-08-3
A2: 公 開 類 | J2: 編 製 機 關 | L2: 湖西鄉公所(清潔隊)
A3: 半 年 報 | C3: 期間終了1個月內編報 | J3: 表 號 | L3: 1135-01-08-03
A4: 澎湖縣湖西鄉 水 肥 清 運 處 理 狀 況
A5: 中 華 民 國 年 月 至 月
B6: 項 目 別 | G6: 總 計 | H6: 澎西鄉
B8: 期末清運區戶籍人口數(人)
B9: 指定清除地區 | D9: 月底戶籍人口數 (人)
D10: 月底現住人口數 (人)
C11: 總 計
D12: 環保單位自行清運
D13: 環保單位委託清運
D14: 公私處所自行或委託清運
D15: 水 肥 處 理 廠
D16: 污水處理廠(含水肥投入站、截流站水肥投入口)
D17: 垃圾掩埋場之滲出水處理廠(含垃圾掩埋場)
D18: 再利用(堆肥或其他)
D19: 分 | E19: 其他(含打包出售曠野燃燒等)
B20: 平 均 每 日 垃 圾 清 運 量 （公 噸）
C21: 總 計
C22: 環保單位清運車輛
C23: 公民營廢物清除機構清運車輛
C24: 機 動 車
C25: 溝 泥 車
C26: 掃 街 車
C27: 噴 射 沖 溝 吸 泥 車
C28: 資 源 回 收 車
C29: 手 拉 車 及 小 型 搬 運 車
C30: 灑 水 洗 街 車
C31: 消 毒 車
C32: 壓 實 機
... C42: 總 計
E43: 一 級 處 理
E44: 二 級 處 理
E45: 三 級 處 理
C46: 再利用
B47: 水 肥 清 理 經 費 （千 元）
A48: 填表 | E48: 審核 | G48: 業務主管人員 | J48: 機關首長
G49: 主辦統計人員
M50: 中華民國 年 月 日編製
A51: 資料來源：依據本所提報之水肥清運處理狀況資料編製。
...

Sheet 11260-02-04-3
A1: 公開類 | G1: 編制機關 | H1: 湖 西 鄉 公 所
A2: 年度報 | B2: 次年2月底前編報 | G2: 表號 | H2: 11260-02-04-3
A3: 澎湖縣湖西鄉天然災害水土保持設施損失情形
D6: 中華民國 年度 | H6: 單位：新台幣千元
A7: 災害種類 （災害名稱） | C7: 發生時間 | D7: 搶 修 ( 復 建 ) 經 費
D8: 總 計 | E8: 農 路 | F8: 治山防災 | G8: 一般水土 | H8: 備 註
F9: 設 施 | G9: 保持設施
A10: 總計 | C10: -
A11: 地震 | B11: 合計 （災害名稱）
A12: 颱風 | B12: 合計 （災害名稱）
A13: 水災 | B13: 合計 （災害名稱）
A14: 其他災害 | B14: 合計 （災害名稱）
A15: 填表 | C15: 審核 | D15: 業務主管人員 | E15: 機關首長 | H15: 中華民國 年 月 日編製
D16: 主辦統計人員
A18: 資料來源：依據本公所天然災害統計報表彙編。
A19: 填表說明：本表編製1式3份，1份送主計室，1份自存，1份送縣府農漁局。

Sheet 20902-00-02-3
A1: 公 開 類 | M1: 編製機關 | N1: 湖西鄉公所(財政課)
A2: 月 報 | D2: 次月二十日前編報，十二月份於次年一月底前編報 | M2: 表 號 | N2: 20902-00-02-3
A3: 澎湖縣湖西鄉公庫收支
F4: 中華民國 年 月 | N4: 單位：新臺幣千元
A5: 科 目 別 | F5: 合 計 | H5: 小計(不含特別預算) | J5: 本 年 度 收 入 | L5: 以 前 年 度 收 入 | N5: 特 別 預 算 收 入
F6: 本 月 | G6: 累 計 | H6: 本 月 | I6: 累 計 | J6: 本 月 | K6: 累 計 | L6: 本 月 | M6: 累 計 | N6: 本 月 | O6: 累 計
A7: 收入總計
B8: 經資門合計
B9: 經常門小計
C10: …
C11: …
C12: …
B13: 資本門小計
C14: …
C15: …
C16: …
B17: 融資性庫款收入
C18: …
C19: …
B20: 預算外庫款收入
C21: …
C22: …
C23: …
A24: 上期結存
A25: 收入總計＋上期結存
A28: 公 開 類 | M28: 編製機關 | N28: 湖西鄉公所(財政課)
A29: 月 報 | D29: 次月二十日前編報，十二月份於次年一月底前編報 | M29: 表 號 | N29: 20902-00-02-3
A30: 澎湖縣湖西鄉公庫收支
F31: 中華民國 年 月 | N31: 單位：新臺幣千元
A32: 科 目 別 | F32: 合 計 | H32: 小計(不含特別預算) | J32: 本 年 度 支 出 | L32: 以 前 年 度 支 出 | N32: 特 別 預 算 支 出
F33: 本 月 | G33: 累 計 | H33: 本 月 | I33: 累 計 | J33: 本 月 | K33: 累 計 | L33: 本 月 | M33: 累 計 | N33: 本 月 | O33: 累 計
A34: 支出總計
B35: 經資門合計
B36: 經常門小計
C37: …
B38: 資本門小計
C39: …
B40: 融資性庫款支出
C41: …
C42: …
...

Sheet 20329-02-01-3
A1: 公開類 | G1: 編制機關 | H1: 湖西鄉公所
A2: 年度報 | B2: 年度終了後2月內填報 | G2: 表號 | H2: 20329-02-01-3
A3: 澎湖縣湖西鄉農路改善及維護工程
G5: 單位：道路總長度-公里
D6: 中華民國 年度 | G6: 總工程費：新台幣元
A7: 工程名稱 | B7: 地點 | C7: 道路總長度 | E7: 總工程費（按經費來源）
C8: 改善 | D8: 維護 | E8: 總計 | F8: 中央 | G8: 縣 | H8: 其他
A9: 合計 | C9: -
A15: 填表 | B15: 審核 | D15: 業務主管人員 | F15: 機關首長 | G15: 中華民國 年 月 日編製
D16: 主辦統計人員
A18: 資料來源：根據本公所年度內完工農路改善、維護等工程結算書，未完工者以發包金額或發包後實際需要工程費填報資料編製。
A19: 填表說明:本表編製1式3份，1份送主計室，1份自存，1份送縣府農漁局。

Sheet 2234-01-01-3
A1: 公開類 | L1: 編製機關 | M1: 澎湖縣湖西鄉公所(建設課)
A2: 即刻報 | B2: 災害發現後15日內編報 | L2: 表 號 | M2: 2234-01-01-3
E4: 澎湖縣湖西鄉森林災害報告
E8: 中華民國 年 月
A9: 災害種類 | B9: 災害年月日 | C9: 發現年月日 | D9: 災害地點 | E9: 所有別 | F9: 面 積 | H9: 數 量 | L9: 價 值 | N9: 原因
F10: 被害 | G10: 剷除收回 | H10: 樹種 | I10: 單位 | J10: 被害 | K10: 損失 | L10: 被害 | M10: 損失
A31: 資料來源:依據本鄉公所每次發現災害報告之資料編製。
A32: 填表說明：1.本表編製3份，於完成會核程序並經機關長官核章後，1份送主計室，1份自存，1份送澎湖縣林務公園管理所。
A33: 2.「災害地點」應填列鄉（市）。
A34: 3.「面積」以公頃計列至小數第4位止，5位以下四捨五入，但未達0.0001公頃者以0.0000公頃計列，無面積時則以「-」填列。
A35: 4.「數量單位」林木以立方公尺計列至小數2位止，3位以下四捨五入，不能計出材積時，以公斤或株計算；幼苗（苗圃地上之苗木屬之）、幼齡木（出栽後，撫育期間之幼木，通常
A36: 為樹高度高於1公尺，但樹徑小於10公分之幼樹屬之）以株數；竹以支數；副產物以公斤計列之。
A38: 填表 | C38: 審核 | F38: 業務主管人員 | J38: 機關首長 | L38: 中華民國 年 月 日編製
F40: 主辦統計人員
A41: 澎湖縣湖西鄉森林災害報告編製說明
A42: 一、 統計範圍及對象：本鄉轄區內之林業用地或依非都市土地使用管制規則規定適用林業用地管制之土地、林木、竹林及副產物遇有發生災害，無論其所有權屬於國有、公有或私有，均為統計對象。 二、 統計標準時間：以災害發生之事實為準。 三、 分類標準：按災害種類、所有別、面積（被害、剷除收回）、數量（樹種、單位、被害、損失）、價值（被害、損失）等分類。 四、 統計項目定義： （一） 災害種類： 1.火災：指森林焚燒所引起之災害。 2.竊取主副產物：指森林主、副產物被他人以不法所有意圖而竊取者，稱之。 3.濫墾：指在林地內任意開墾耕種其他農作物，影響水土保持之不法行為。 4.其他：不屬於前3類之災害如颱風、水災、震災、旱災、病蟲害等。 （二） 所有別：指森林所有權屬，如國有、公有、私有。 (三) 被害面積：以實際受損害面積填報，以森林火災而言，森林主產物遭燃燒受損之面積（扣除草生地、岩石、裸地等）。 (四) 剷除收回面積：係指發現新濫墾而且立即剷除收回者。 (五) 被害數量：乃指林地內之森林主、副產物遭莠民非法砍伐、採取之總額數量（如立方公尺、公斤、株、支、叢等）。 (六) 損失數量：以「被害數量」減去「遺留現場或扣案贓物之森林主、副產物、殘材等數量」計列。 (七) 被害價值：以「被害數量」 x「市價」總額計列（即不扣除犯罪成本之總額）。特殊工藝或園藝觀賞木，以當期工藝或園藝查定價值計列；幼齡木則以造林費用價比例換算【造林總費用 x（被害株數/現存造林木總株數）】，另被害造林木如數量過多且可估算面積者，則以【造林總費用 x（被害面積/造林面積）】計算，且上述兩者皆採取擇高計算；至於租地造林部分之造林費用價，依造林當年度之造林貸款核定標準換算計列。 (八) 損失價值：以「損失數量」x「市價」總額計列（即不扣除犯罪成本之總額）。特殊工藝或園藝觀賞木，以當期工藝或園藝查定價值計列；幼齡木則以造林費用價比例換算【造林總費用 x（損失株數/現存造林木總株數）】，另損失造林木如數量過多且可估算面積者，則以【造林總費用 x（損失面積/造林面積）】計算，且上述兩者皆採取擇高計算；至於租地造林部分之造林費用價，依造林當年度之造林貸款核定標準換算計列。 五、 資料蒐集方法及編製程序：依據鄉公所每次發現災害報告之資料編製。 六、 編送對象：本表編製3份，1份送主計室，1份自存，1份送澎湖縣林務公園管理所。

Sheet 2522-09-20-3
A1: 公 開 類 | M1: 編製機關 | O1: 湖西鄉公所(建設課)
A2: 年 報 | B2: 次年2月底前編報 | M2: 表 號 | O2: 2522-09-20-3
A3: 澎湖縣湖西鄉鄉道公路養護工程成果
A4: 中華民國 年
A5: 路 線 編 號 | C5: 清除坍方或 流失路基填方 (立方公尺) | D5: 整理路肩 或路邊割草 (平方公尺) | E5: 疏修邊溝 (公尺) | F5: 撒舖砂石料 (立方公尺) | G5: 路面填補或加封 (平方公尺) | H5: 橋梁維修 (座) | I5: 箱涵或涵管疏修 | K5: 修復坡體 穩定設施 (平方公尺) | L5: 修復坡面 保護設施 (平方公尺) | N5: 護欄整修 (公尺) | P5: 標誌換裝 (面)
I6: 數量(座) (座) | J6: 長度(公尺) (公尺)
A7: 總 計
A26: 附 註
A27: 填表 | D27: 審核 | G27: 業務主管人員 | K27: 機關首長 | N27: 中華民國 年 月 日編製
G28: 主辦統計人員
A30: 資料來源：根據各項工程之結算書編製。
A31: 填表說明：本表應編製3份，1份送本所主計室，1份自存，1份送澎湖縣政府工務處。
A34: 澎湖縣湖西鄉鄉道公路養護工程成果編製說明
A36: 一、統計範圍及對象：以本所鄉道公路養護工程為統計對象。
A37: 二、統計標準時間：以每年1月1日至12月底之事實為準。
A38: 三、分類標準：橫項目依路線編號分。
A39: 縱項目依清除坍方或流失路基填方、整理路肩或路邊割草、疏修邊溝、撒舖砂石料、路面填補或加封、橋梁維修、箱涵或涵管疏修、修復坡體穩定設施、修復
A40: 坡面保護設施、護欄整修、標誌換裝分。
A41: 四、統計項目定義：
A42: (一)坍方：係指山表層之土壤或岩石，因受震動或內力不平衡致使發生墜落，滑動或流動移位現象。
A43: (二)路基：係指承受路面之土壤部分，其幅度包括路基有效寬度及為使路基穩定所形成填挖土之邊坡。
A44: (三)路肩：係指路基有效寬減除車道寬及行車分隔設施寬所餘兩側之路基面。
... A56: 六、編送對象：本表應編製3份，1份送本所主計室，1份自存，1份送澎湖縣政府工務處。

Sheet 2522-09-23-3
A1: 公 開 類 | N1: 編製機關 | P1: 湖西鄉公所(建設課)
A2: 年 報 | B2: 次年2月底前編報 | N2: 表 號 | P2: 2522-09-23-3
A3: 澎湖縣湖西鄉鄉道公路新建及改善工程完成數量
A4: 中華民國 年
A5: 路 線 編 號 | C5: 新建高級路面 (公尺) | D5: 新建碎石路面 (公尺) | E5: 拓寬及改善高級路面 (平方公尺) | F5: 路基土石方 (立方公尺) | G5: 坡體穩定設施 | H5: 坡面保護設施 (平方公尺) | I5: 新建橋梁 | K5: 拓寬橋梁 | M5: 箱涵或涵管 | O5: 隧道
G6: (平方公尺) | I6: 數量 (座) | J6: 長度 (公尺) | K6: 數量 (座) | L6: 長度 (公尺) | M6: 數量 (座) | N6: 長度 (公尺) | O6: 數量 (座) | Q6: 長度 (公尺)
A7: 總 計
A26: 附 註
A27: 填表 | D27: 審核 | H27: 業務主管人員 | K27: 機關首長 | N27: 中華民國 年 月 日編製
H28: 主辦統計人員
A30: 資料來源︰依據各項工程決算書彙編。
A31: 填表說明︰本表應編製3份，1份送本所主計室，1份自存，1份送澎湖縣政府工務處。
A35: 澎湖縣湖西鄉鄉道公路新建及改善工程完成數量編製說明
A37: 一、統計範圍及對象：以本所鄉道公路新建及改善等工程完成數量為統計對象。
A38: 二、統計標準時間：以每年1月1日至12月底之事實為準。
A39: 三、分類標準：橫項目依路線編號分。
A40: 縱項目依新建高級路面、新建碎石路面、拓寬及改善高級路面、路基土石方、坡體穩定設施、坡面保護設施、新建橋梁、拓寬橋梁、箱涵或涵管、隧道分。
A41: 四、統計項目定義：
A42: (一)高級路面：係指用柏油、瀝青混凝土等材料舖設而成之路面。
A43: (二)碎石路面：係指利用碎石子舖設而成之路面。
A44: (三)路基土石方：係指新建路基填挖土石方及急彎陡坡之改善拓寬修復等之土石方。
A45: (四)坡體穩定設施 :防止邊坡之坡體滑動、或為已呈現不穩定之邊坡增進其穩定程度、或改善已破壞道路之損壞狀況等設施，常見有重力式擋土牆、懸臂式 擋土牆、扶臂式擋土牆、格框式擋土牆、加勁擋土牆、擋土排樁、地錨、土/岩釘或其他等。
... A52: 六、編送對象：本表應編製3份，1份送本所主計室，1份自存，1份送澎湖縣政府工務處。

Sheet 30910-01-01-3
A1: 公 開 類 | H1: 編製機關 | I1: 澎湖縣湖西鄉公所
A2: 半 年 報 | B2: 期間終了1個月內編報 | H2: 表 號 | I2: 30910-01-01-3
A3: 澎湖縣湖西鄉環保人員概況
A4: 一、本縣（市）環保單位 | B4: 中華民國 年 月底 | I4: 單位:人
A5: 類 別 | B5: 總 計 | E5: 環境保護局 (不包括廢棄物清運處理單位) | H5: 廢棄物清運處理單位
B6: 計 | C6: 男 | D6: 女 | E6: 計 | F6: 男 | G6: 女 | H6: 計 | I6: 男 | J6: 女
A7: 總計 | B7: =C7+D7 -> 0 | C7: =SUM(C9:C16) -> 0 | D7: =SUM(D9:D16) -> 0 | E7: =SUM(F7:G7) -> 0 | F7: =IF(F9+F10+F11+F12+F13+F14+F15+F16='30910-01-01-3(續1)'!B18,F9+F10+F11+F12+F13+F15+F14+F16,"F") -> 0 | G7: =IF(G9+G10+G11+G12+G13+G14+G15+G16='30910-01-01-3(續1)'!B19,G9+G10+G11+G12+G13+G15+G14+G16,"F") -> 0 | H7: =SUM(I7:J7) -> 0 | I7: =IF(I9+I10+I11+I12+I13+I14+I15+I16='30910-01-01-3(續2完)'!B24,I9+I10+I11+I12+I13+I15+I14+I16,"F") -> 0 | J7: =IF(J9+J10+J11+J12+J13+J14+J15+J16='30910-01-01-3(續2完)'!B25,J9+J10+J11+J12+J13+J15+J14+J16,"F") -> 0
A8: 職員 | B8: =SUM(C8:D8) -> 0 | C8: =SUM(C9:C13) -> 0 | D8: =SUM(D9:D13) -> 0 | E8: =SUM(F8:G8) -> 0 | F8: =SUM(F9:F13) -> 0 | G8: =SUM(G9:G13) -> 0 | H8: =SUM(I8:J8) -> 0 | I8: =SUM(I9:I13) -> 0 | J8: =SUM(J9:J13) -> 0
A9: 特任、比照簡任 | B9: =SUM(C9:D9) -> 0 | C9: =+F9+I9 -> 0 | D9: =+G9+J9 -> 0 | E9: =IF(F9+G9='30910-01-01-3(續1)'!B9,F9+G9,"F") -> 0 | H9: =IF(I9+J9='30910-01-01-3(續2完)'!B10,I9+J9,"F") -> 0
A10: 簡任(10職等以上) | B10: =SUM(C10:D10) -> 0 | C10: =+F10+I10 -> 0 | D10: =+G10+J10 -> 0 | E10: =IF(F10+G10='30910-01-01-3(續1)'!B10,F10+G10,"F") -> 0 | H10: =IF(I10+J10='30910-01-01-3(續2完)'!B11,I10+J10,"F") -> 0
A11: 薦任(6-9職等) | B11: =SUM(C11:D11) -> 0 | C11: =+F11+I11 -> 0 | D11: =+G11+J11 -> 0 | E11: =IF(F11+G11='30910-01-01-3(續1)'!B11,F11+G11,"F") -> 0 | H11: =IF(I11+J11='30910-01-01-3(續2完)'!B12,I11+J11,"F") -> 0
A12: 委任(1-5職等) | B12: =SUM(C12:D12) -> 0 | C12: =+F12+I12 -> 0 | D12: =+G12+J12 -> 0 | E12: =IF(F12+G12='30910-01-01-3(續1)'!B12,F12+G12,"F") -> 0 | H12: =IF(I12+J12='30910-01-01-3(續2完)'!B13,I12+J12,"F") -> 0
A13: 雇員 | B13: =SUM(C13:D13) -> 0 | C13: =+F13+I13 -> 0 | D13: =+G13+J13 -> 0 | E13: =IF(F13+G13='30910-01-01-3(續1)'!B13,F13+G13,"F") -> 0 | H13: =IF(I13+J13='30910-01-01-3(續2完)'!B14,I13+J13,"F") -> 0
A14: 約聘(僱) | B14: =SUM(C14:D14) -> 0 | C14: =+F14+I14 -> 0 | D14: =+G14+J14 -> 0 | E14: =IF(F14+G14='30910-01-01-3(續1)'!B14,F14+G14,"F") -> 0 | H14: =IF(I14+J14='30910-01-01-3(續2完)'!B15,I14+J14,"F") -> 0
A15: 工員 | B15: =SUM(C15:D15) -> 0 | C15: =+F15+I15 -> 0 | D15: =+G15+J15 -> 0 | E15: =IF(F15+G15='30910-01-01-3(續1)'!B15,F15+G15,"F") -> 0 | H15: =IF(I15+J15='30910-01-01-3(續2完)'!B16,I15+J15,"F") -> 0
A16: 其他 | B16: =SUM(C16:D16) -> 0 | C16: =+F16+I16 -> 0 | D16: =+G16+J16 -> 0 | E16: =IF(F16+G16='30910-01-01-3(續1)'!B16,F16+G16,"F") -> 0 | H16: =IF(I16+J16='30910-01-01-3(續2完)'!B22,I16+J16,"F") -> 0
A18: 澎湖縣湖西鄉環保人員概況編製說明 一、統計範圍及對象：本鄉環保單位僱用人員均為統計對象。 二、統計標準時間：以每年6月底及12月底之事實為準。 三、分類標準：(一)縱行項目按單位別、性別及業務別分。 (二)橫列項目按類別、性別及年齡別分。 四、統計項目定義(單位或說明) (一)各項資料均為現有實際僱用人數，包括編制內、非編制內，不包括環保警察、派遣人員、派駐人員及環保志/義工。一人從事多種業務者，列入主要業務項目，不可重複計列。 (二)縣（市）環保單位：包括環境保護局及廢棄物清運處理單位。 (三)環境保護局：係指各縣（市）政府環境保護（資源）局及所屬，含稽查督察大隊、衛生稽查大隊及修車廠等，但不包含廢棄物清運處理單位。 (四)廢棄物清運處理單位：係指直轄市、縣市政府直屬或所轄鄉鎮市區公所清潔隊(含溝渠隊、水肥隊、資源回收隊等)、廢棄物處理廠/場 （如焚化廠、資源回收廠、掩埋場、堆肥場、堆置場、水肥處理廠、滲出水處理廠等）。 (五)職員：係指機關單位內，定有職稱、官等、職等之法定編制人員及政務人員，包括特任、比照簡任、簡任、薦任、委任及雇員等。 (六)約聘(僱)：係指機關單位依法進用之聘僱人員，包括聘用人員、約僱人員、特約人員、約用人員等。 (七)工員：係指機關單位依法進用之工友及臨時人員，包括隊員、駕駛、技工、工友、臨時工（特約工）及代賑工等，清潔隊員以駕駛環保車輛為主要業務者歸入駕駛。 (八)類別之其他：無法歸屬上述第(五)〜(七)類之人員，如駐衛警察等。 (九)行政輔助：係指行政單位人員，包括一般行政、總務、秘書、人事、主計、法務、政風、資訊等人員。 (十)綜合規劃：從事綜合計畫、綜合企劃、綜合管理、環境影響評估、環境教育、管制考核、績效管理、人員訓練、環保國際事務等業務者。 (十一)空氣品質保護：從事固定、移動、逸散污染源空氣污染防制及空氣品質管理等業務者。 (十二)氣候變遷因應：從事氣候變遷減緩與調適等業務者，包括溫室氣體盤查、查驗、登錄、減量與管理、碳定價與交易、節能減碳、淨零排放、低碳生活及家園等。 (十三)噪音及振動防制：從事噪音、振動、非屬原子能游離輻射污染及與光害管理等業務者。 (十四)水質保護：從事水體品質保護、廢（污）水排放管制、地面水、海洋污染防治及飲用水管理等業務者。 (十五)土壤及地下水污染整治：從事土壤及地下水污染之調查、防治、清理、整治、復育、監督、管理等業務者。 (十六)廢棄物管理：從事垃圾/水肥清理、資源（含廚餘）回收及循環再利用、源頭減量、一般廢棄物處理設施管理，以及事業廢棄物清除、處理、再利用等業務者。 (十七)環境衛生、毒化物管理：從事環境衛生、病媒防治、毒性及關注化學物質管理、環境用藥施作管理及公廁管理等業務者。 (十八)陳情、稽查、糾紛處理：從事公害陳情處理、環境污染源稽查、環境執法、公害糾紛事件處理及相關法律扶助等業務者。 (十九)監測及檢驗：從事環境品質監測、環境污染檢驗及測定等業務者。 (二十)研究發展：從事科技發展、環境政策發展、環境污染流布、風險分析、污染治理、檢驗測定技術與標準方法等相關研究者。 (二十一)其他業務：無法歸屬於前述第(十)〜(二十)類之業務單位人員，例如駐衛警察等。 (二十二)垃圾清運人員：係指廢棄物收集、清溝及掃街人員。 (二十三)水肥清運人員：係指糞尿之收集、清運人員。 (二十四)清運單位之其他：無法歸屬於垃圾清運、水肥清運、資源回收之清運單位人員，如消毒、割草、拆除違規廣告、拖吊廢機動車輛等人員。 五、資料蒐集方法及編製程序：依據本所清潔隊及廢棄物清運處理單位實際環保人員(含編制內、非編制內)概況資料編製。 六、編送對象：本表編製1式3份，1份自存，1份送主計室，1份送澎湖縣政府環境保護局。

Sheet 30910-01-01-3(續1)
A1: 公 開 類 | L1: 編製機關 | M1: 澎湖縣湖西鄉公所(清潔隊)
A2: 半 年 報 | B2: 期間終了1個月內編報 | L2: 表號 | M2: 30910-01-01-3
A3: 澎湖縣湖西鄉環保人員概況(續1)
A4: 二、環境保護局 單位:人 | B4: 中華民國 年 月底 | O4: 單位:人
A5: 項 目 別 | B5: 總 計 | C5: 行政輔助 | D5: 綜合規劃 | E5: 空氣品質保護 | F5: 氣候變遷 因應 | G5: 噪音及 振動防制 | H5: 水質保護 | I5: 土壤及地下水污染整治 | J5: 廢棄物 管理 | K5: 環境衛生、 毒化物管理 | L5: 陳情、稽查、糾紛處理 | M5: 監測及檢驗 | N5: 研究發展 | O5: 其他業務
A6: 總計：A=B=C=D | B6: =IF(AND(B7=B17,B17=B20,B20=B7),B7,"F") -> 0 | C6: =IF(AND(C7=C17,C17=C20,C20=C7),C7,"F") -> 0 | D6: =IF(AND(D7=D17,D17=D20,D20=D7),D7,"F") -> 0 | E6: =IF(AND(E7=E17,E17=E20,E20=E7),E7,"F") -> 0 | F6: =IF(AND(F7=F17,F17=F20,F20=F7),F7,"F") -> 0 | G6: =IF(AND(G7=G17,G17=G20,G20=G7),G7,"F") -> 0 | H6: =IF(AND(H7=H17,H17=H20,H20=H7),H7,"F") -> 0 | I6: =IF(AND(I7=I17,I17=I20,I20=I7),I7,"F") -> 0 | ... O6: =IF(AND(O7=O17,O17=O20,O20=O7),O7,"F") -> 0
A7: 按類別分：B=(1)+(2)+(3)+(4) | B7: =B8+B14+B15+B16 -> 0 | C7: =C8+C14+C15+C16 -> 0 | D7: =D8+D14+D15+D16 -> 0 | E7: =E8+E14+E15+E16 -> 0 | F7: =F8+F14+F15+F16 -> 0 | G7: =G8+G14+G15+G16 -> 0 | H7: =H8+H14+H15+H16 -> 0 | I7: =I8+I14+I15+I16 -> 0 | ... O7: =O8+O14+O15+O16 -> 0
A8: 職員(1) | B8: =SUM(B9:B13) -> 0 | C8: =SUM(C9:C13) -> 0 | D8: =SUM(D9:D13) -> 0 | E8: =SUM(E9:E13) -> 0 | F8: =SUM(F9:F13) -> 0 | G8: =SUM(G9:G13) -> 0 | H8: =SUM(H9:H13) -> 0 | I8: =SUM(I9:I13) -> 0 | ... O8: =SUM(O9:O13) -> 0
A9: 特任、比照簡任 | B9: =SUM(C9:O9) -> 0
A10: 簡任(10-14職等) | B10: =SUM(C10:O10) -> 0
A11: 薦任(6-9職等) | B11: =SUM(C11:O11) -> 0
A12: 委任(1-5職等) | B12: =SUM(C12:O12) -> 0
A13: 雇員 | B13: =SUM(C13:O13) -> 0
A14: 約聘(僱)(2) | B14: =SUM(C14:O14) -> 0
A15: 工員(3) | B15: =SUM(C15:O15) -> 0
A16: 其他(4) | B16: =SUM(C16:O16) -> 0
A17: 按性別分：C=(5)+(6) | B17: =SUM(C17:O17) -> 0 | C17: =SUM(C18:C19) -> 0 | E17: =SUM(E18:E19) -> 0 | F17: =SUM(F18:F19) -> 0 | G17: =SUM(G18:G19) -> 0 | H17: =SUM(H18:H19) -> 0 | I17: =SUM(I18:I19) -> 0 | J17: =SUM(J18:J19) -> 0 | K17: =SUM(K18:K19) -> 0 | L17: =SUM(L18:L19) -> 0 | M17: =SUM(M18:M19) -> 0 | O17: =SUM(O18:O19) -> 0
A18: 男 (5) | B18: =SUM(C18:O18) -> 0
A19: 女 (6) | B19: =SUM(C19:O19) -> 0
A20: 按年齡別分：D=(7)+…+(12) | B20: =SUM(C20:O20) -> 0 | C20: =SUM(C21:C26) -> 0 | E20: =SUM(E21:E26) -> 0 | F20: =SUM(F21:F26) -> 0 | G20: =SUM(G21:G26) -> 0 | H20: =SUM(H21:H26) -> 0 | I20: =SUM(I21:I26) -> 0 | J20: =SUM(J21:J26) -> 0 | K20: =SUM(K21:K26) -> 0 | L20: =SUM(L21:L26) -> 0 | M20: =SUM(M21:M26) -> 0 | O20: =SUM(O21:O26) -> 0
A21: 29歲以下 (7) | B21: =SUM(C21:O21) -> 0
A22: 30-39歲 (8) | B22: =SUM(C22:O22) -> 0
A23: 40-49歲 (9) | B23: =SUM(C23:O23) -> 0
A24: 50-59歲 (10) | B24: =SUM(C24:O24) -> 0
A25: 60-64歲 (11) | B25: =SUM(C25:O25) -> 0
A26: 65歲以上 (12) | B26: =SUM(C26:O26) -> 0

Sheet 30910-01-01-3(續2完)
A1: 公 開 類 | I1: 編製機關 | J1: 澎湖縣湖西鄉公所(清潔隊)
A2: 半 年 報 | B2: 期間終了1個月內編報 | I2: 表 號 | J2: 30910-01-01-3
A3: 澎湖縣湖西鄉環保人員概況(續2完)
A4: 三、廢棄物清運處理單位 | B4: 中華民國 年 月底 | J4: 單位:人
A5: 項 目 別 | B5: 總 計 | C5: 清 運 單 位 | H5: 處 理 單 位
C6: 計 | D6: 垃圾清運 | E6: 水肥清運 | F6: 資源回收 | G6: 其他 | H6: 計 | I6: 垃圾焚化廠 、掩埋場 | J6: 水肥處理廠
A7: 總計：A=B=C=D | B7: =IF(AND(B8=B23,B23=B26,B26=B8),B8,"F") -> 0 | C7: =C9+C15+C16+C22 -> 0 | D7: =IF(AND(D8=D23,D23=D26,D26=D8),D8,"F") -> 0 | E7: =IF(AND(E8=E23,E23=E26,E26=E8),E8,"F") -> 0 | F7: =IF(AND(F8=F23,F23=F26,F26=F8),F8,"F") -> 0 | G7: =IF(AND(G8=G23,G23=G26,G26=G8),G8,"F") -> 0 | H7: =H9+H15+H16+H22 -> 0 | I7: =IF(AND(I8=I23,I23=I26,I26=I8),I8,"F") -> 0 | J7: =IF(AND(J8=J23,J23=J26,J26=J8),J8,"F") -> 0
A8: 按類別分：B=(1)+(2)+(3)+(4) | B8: =B9+B15+B16+B22 -> 0 | C8: =SUM(D8:G8) -> 0 | D8: =SUM(D10:D16)+D22 -> 0 | E8: =SUM(E10:E16)+E22 -> 0 | F8: =SUM(F10:F16)+F22 -> 0 | G8: =SUM(G10:G16)+G22 -> 0 | H8: =SUM(I8:J8) -> 0 | I8: =SUM(I10:I16)+I22 -> 0 | J8: =SUM(J10:J16)+J22 -> 0
A9: 職員(1) | B9: =C9+H9 -> 0 | C9: =SUM(D9:G9) -> 0 | D9: =SUM(D10:D14) -> 0 | E9: =SUM(E10:E14) -> 0 | F9: =SUM(F10:F14) -> 0 | G9: =SUM(G10:G14) -> 0 | H9: =SUM(I9:J9) -> 0 | I9: =SUM(I10:I14) -> 0 | J9: =SUM(J10:J14) -> 0
A10: 特任、比照簡任 | B10: =C10+H10 -> 0 | C10: =SUM(D10:G10) -> 0 | H10: =SUM(I10:J10) -> 0
A11: 簡任(10-14職等) | B11: =C11+H11 -> 0 | C11: =SUM(D11:G11) -> 0 | H11: =SUM(I11:J11) -> 0
A12: 薦任(6-9職等) | B12: =C12+H12 -> 0 | C12: =SUM(D12:G12) -> 0 | H12: =SUM(I12:J12) -> 0
A13: 委任(1-5職等) | B13: =C13+H13 -> 0 | C13: =SUM(D13:G13) -> 0 | H13: =SUM(I13:J13) -> 0
A14: 雇員 | B14: =C14+H14 -> 0 | C14: =SUM(D14:G14) -> 0 | H14: =SUM(I14:J14) -> 0
A15: 約聘(僱)(2) | B15: =C15+H15 -> 0 | C15: =SUM(D15:G15) -> 0 | H15: =SUM(I15:J15) -> 0
A16: 工員(3) | B16: =C16+H16 -> 0 | C16: =SUM(D16:G16) -> 0 | D16: =SUM(D17:D21) -> 0 | E16: =SUM(E17:E21) -> 0 | F16: =SUM(F17:F21) -> 0 | G16: =SUM(G17:G21) -> 0 | H16: =SUM(I16:J16) -> 0 | I16: =SUM(I17:I21) -> 0 | J16: =SUM(J17:J21) -> 0
A17: 隊員 | B17: =C17+H17 -> 0 | C17: =SUM(D17:G17) -> 0 | H17: =SUM(I17:J17) -> 0
A18: 駕駛 | B18: =C18+H18 -> 0 | C18: =SUM(D18:G18) -> 0 | H18: =SUM(I18:J18) -> 0
A19: 技工、工友 | B19: =C19+H19 -> 0 | C19: =SUM(D19:G19) -> 0 | H19: =SUM(I19:J19) -> 0
A20: 臨時工 | B20: =C20+H20 -> 0 | C20: =SUM(D20:G20) -> 0 | H20: =SUM(I20:J20) -> 0
A21: 代賑工 | B21: =C21+H21 -> 0 | C21: =SUM(D21:G21) -> 0 | H21: =SUM(I21:J21) -> 0
A22: 其他(4) | B22: =C22+H22 -> 0 | C22: =SUM(D22:G22) -> 0 | H22: =SUM(I22:J22) -> 0
A23: 按性別分：C=(5)+(6) | B23: =C23+H23 -> 0 | C23: =SUM(D23:G23) -> 0 | D23: =SUM(D24:D25) -> 0 | E23: =SUM(E24:E25) -> 0 | F23: =SUM(F24:F25) -> 0 | G23: =SUM(G24:G25) -> 0 | H23: =SUM(I23:J23) -> 0 | I23: =SUM(I24:I25) -> 0 | J23: =SUM(J24:J25) -> 0
A24: 男 (5) | B24: =C24+H24 -> 0 | C24: =SUM(D24:G24) -> 0 | H24: =SUM(I24:J24) -> 0
A25: 女 (6) | B25: =C25+H25 -> 0 | C25: =SUM(D25:G25) -> 0 | H25: =SUM(I25:J25) -> 0
A26: 按年齡別分：D=(7)+…+(12) | B26: =C26+H26 -> 0 | C26: =SUM(D26:G26) -> 0 | D26: =SUM(D27:D32) -> 0 | E26: =SUM(E27:E32) -> 0 | F26: =SUM(F27:F32) -> 0 | G26: =SUM(G27:G32) -> 0 | H26: =SUM(I26:J26) -> 0 | I26: =SUM(I27:I32) -> 0 | J26: =SUM(J27:J32) -> 0
A27: 29歲以下 (7) | B27: =C27+H27 -> 0 | C27: =SUM(D27:G27) -> 0 | H27: =SUM(I27:J27) -> 0
A28: 30-39歲 (8) | B28: =C28+H28 -> 0 | C28: =SUM(D28:G28) -> 0 | H28: =SUM(I28:J28) -> 0
A29: 40-49歲 (9) | B29: =C29+H29 -> 0 | C29: =SUM(D29:G29) -> 0 | H29: =SUM(I29:J29) -> 0
A30: 50-59歲 (10) | B30: =C30+H30 -> 0 | C30: =SUM(D30:G30) -> 0 | H30: =SUM(I30:J30) -> 0
A31: 60-65歲 (11) | B31: =C31+H31 -> 0 | C31: =SUM(D31:G31) -> 0 | H31: =SUM(I31:J31) -> 0
A32: 65歲以上 (12) | B32: =C32+H32 -> 0 | C32: =SUM(D32:G32) -> 0 | H32: =SUM(I32:J32) -> 0
A33: 填表 | B33: 審核 | D33: 業務主管人員 | G33: 機關首長 | I33: 中華民國 年 月 日編製
D34: 主辦統計人員
A37: 資料來源：依據本所清潔隊及廢棄物清運處理單位(詳編製說明四)實際環保人員(含編制內、非編制內)概況資料編製。
A38: 填表說明：本表編製1式3份，1份自存，1份送主計室，1份送澎湖縣政府環境保護局。

Sheet 30910-02-01-3
A1: 公 開 類 | L1: 編製機關 | M1: 澎湖縣湖西鄉公所
A2: 年 度 報 | B2: 期間開始2.5個月內編報 | L2: 表 號 | M2: 30910-02-01-3
A3: 澎湖縣湖西鄉環境保護預算
G4: __________會計年度
A5: 一、單位預算－經資門合計 | N5: 單位：千元
A6: 單 位 及 業 務 別 | D6: 歲 出 項 目 | M6: 歲 入 項 目
D7: 預 算 數 | M7: 環境部 補助款 | N7: 其他政府 補助款
D8: 合計 | E8: 人事費 | F8: 約用人員 酬金 | G8: 委辦費 | H8: 土地 | I8: 對特種基金 之補助 | J8: 對國內團體 之捐助 | K8: 對清潔隊 之補助 (僅縣政府 環保局需填) | L8: 其他支出
A10: 環保局及所屬單位預算 | B10: 總 計
B11: 一般行政
B12: 綜合規劃
B13: 空氣品質保護
B14: 氣候變遷因應
B15: 噪音及振動防制
B16: 水質保護
B17: 土壤及地下水污染整治
B18: 廢棄物管理
B19: 環境衛生、毒化物管理
B20: 陳情、稽查、糾紛處理
B21: 監測及檢驗
B22: 研究發展
B23: 其他
A24: 鄉 鎮 市 公 所 清 潔 隊 預 算 (僅縣政府環保局需填)
A45: 澎湖縣湖西鄉環境保護預算編製說明 一、統計範圍及對象：本鄉公所清潔隊之單位及附屬單位預算，均為統計對象。 二、統計標準時間：以每年2月底之當年度預算數資料為準。 三、分類標準：(一)縱項目按經資門別、科目別及基金別分。 (二)橫項目按單位別、業務別、基金來源/用途別分。 四、統計項目定義 (一)單位預算 1.環保局及所屬單位預算：係指環境保護（資源）局及所屬機關主管之單位歲出（歲入）預算，包含「對下級機關補助款及對其他機關配合款」及「上級機關補助款 (含自用及轉撥)及其他機關配合款」。 2.鄉鎮市公所清潔隊預算：係指各鄉鎮市公所清潔隊歲出（歲入）預算，包含預算書歲出政事別及歲入來源別中環境保護相關之經常門與資本門等經費 （僅縣政府環保局 需填）。 3.人事費：係指機關內政務人員、法定編制人員、依法令約聘僱人員與技工、工友等現職人員之相關待遇經費，包含薪俸、加給、酬金、加班值班費、獎金、 退休退職離職給付及儲金、保險、各項補助費等，依人員實際所在處室區分。 4.約用人員酬金：係指為協助業務推動所需遴用約用人員辦理相關事務所給付之費用，可以本縣（市）環境保護（資源）局及所屬、鄉鎮市公所預算書中「約用人員酬金」科目為準 ，並依人員實際所在處室區分。 5.委辦費：係指委託其他政府、機關、學校、團體及個人等進行學術研究、辦理機關職掌業務（含媒體政策及業務宣導）等經費。 6.土地：係指公務所需房屋基地、地上物拆遷補償及其他土地購置經費。 7.對國內團體之捐助：包含對企業捐助及對團體捐助，但不包括對團體辦理媒體政策及業務宣導之捐助。 8.其他支出：係指預備金及其他無法歸入之科目。 9.環境部補助款：係指由環境部補助之經費，並納入該年決算者，包含實現數、應收數及保留數。 10其他政府補助款：係指由環境部除外之其他政府機關（構）補助之經費，並納入該年預算者。 11.一般行政：包括預算員額（含機關正、副首長）所需人事費、內部行政支援單位所需工作經費、其他無法歸入特定業務計畫科目項下之一般共同性費用等經費。 12.綜合規劃：包含綜合計畫（企劃）、環境保護業務考核、環境影響評估、教育宣導及環境保護人員培訓等經費。 13.空氣品質保護：包含空氣品質管理、固定污染源與移動污染源空氣污染防制等經費。 14.氣候變遷因應：係指氣候變遷減緩與調適，包含溫室氣體盤查、查驗、登錄、減量、管理、節能減碳、淨零排放、低碳生活及家園等經費。 15.噪音及振動防制：包含噪音、振動及非屬原子能游離輻射之防制等經費。 16.水質保護：包含廢（污）水排放管制、地面水、飲用水管理、海洋污染防治等經費。 17.土壤及地下水污染整治：包含土壤及地下水污染之預防、監測、調查及整治等經費。 18.廢棄物管理：包含一般廢棄物（含水肥）清理、源頭減量、資源回收再利用、事業廢棄物管理、焚化廠管理等經費。 19.環境衛生、毒化物管理：包含環境衛生管理、病媒防治、毒性及關注化學物質管理、環境用藥管理等經費。 20.陳情、稽查、糾紛處理：包含公害污染陳情、環境污染源稽查處分、公害糾紛處理等經費。 21.監測及檢驗：包含環境品質監測、環境污染檢驗及測定等經費。 22.研究發展：包含研究、科技發展等經費。 23.一般建築及設備、資訊軟硬體等經費亦分別歸入對應類別，如無法明確歸於某一類別，則歸入「其他」項。 24.其他：預備金及其他無法歸入對應業務別之經費。
A95: (二)附屬單位預算：係指本縣（市）環境保護（資源）局主管之環境保護基金、環境污染防制基金或屬預算法所定之特別收入基金（僅限非營業部分）。 1.空污基金：係指依據空氣污染防制法規定設置之空氣污染防制基金。 2.水污基金：係指依據水污染防治法規定設置之水污染防治基金。 3.廢棄物清除處理基金：係指依據廢棄物清理法規定設置之一般廢棄物清除處理基金。 4.環境教育基金：係指依據環境教育法規定設置之環境教育基金。 5. 其他主管基金： (1)焚化廠基金：係指依據廢棄物清理法，制定區域性垃圾處理廠（場）管理自治條例，所設置之區域性垃圾處理廠或焚化廠基金。 (2)機場噪音回饋基金：係指依據預算法規定設置之桃園國際機場航空噪音防制費及回饋金基金。 (3)回收（管理）基金：係指依據廢棄物清理法規定設置之資源回收（管理）基金。 (4)綠色能源開發管理基金：係指依據屏東縣綠色能源開發管理自治條例規定設置之綠色能源開發管理基金。 (5)非屬上述基金類別且為本所主管之基金，則註明基金名稱。 6.營建工程空氣污染防制費收入：係指依據空氣污染防制法規定徵收之營建工程空氣污染防制費收入。 7.移動（固定）污染源空氣污染防制費收入：係指依據空氣污染防制法規定，由環境部提撥60%之固定污染源及20%之移動污染源空氣污染防制費分配款 收入。 8.非空污類環保法規徵收收入：係指依據空氣污染防制法以外之其他環保法規規定徵收或提撥之收入屬之，包含依據水污染防治法徵收之水污染防治收入、 廢棄物清理法徵收之回收清除處理收入（含焚化廠）、土壤及地下水污染整治法徵收之污染整治費收入、氣候變遷因應法之碳費收入、其他污染防制及防治收入等。 9.其他徵收及依法分配收入：係指非屬前述之其他徵收及依法分配收入，如違規罰款收入、再生能源發展收入、環保法規之罰鍰提撥收入、依據環境教育法第八條 第二項第一款至第三款規定之環保提撥收入等。 10.環境部補助收入：係指由環境部補助之收入，但不包含提撥60%之固定污染源、20%之移動污染源空氣污染防制費分配款及水污染防治費分配款。 11.用人費用：係指非營業特種基金依預算員額進用現職人員之相關待遇等經費，包括薪資、超時工作報酬、津貼、獎金、退休及卹償金、資遣費、福利費等。 12.計時與計件人員酬金：係指非營業特種基金為協助業務推動進用人員辦理相關事務所給付之費用，可以「計時與計件人員酬金」科目為準。 13.專業服務費：係指委聘專業機構或人員提供服務之費用。 14.提撥環境教育基金：係指各基金提撥環境教育基金之支出，依據環境教育法規定，各級環保機關設立之環境保護基金每年至少提撥百分之五支出預算金額， 以補（捐）助款撥入環境教育基金。 15.捐助國內團體：係指對國內企業、行政法人、財團法人及其他民間團體（不含私校、團體辦理之媒體政策及業務宣導）之捐助。 16.資本支出：係指購置土地、房屋建築、公共建設及設施、機械及交通運輸設備、資訊軟硬體等固定資產、無形資產及投資的費用。 五、資料蒐集方法及編製程序：依據本所清潔隊環境保護預算資料編製。 六、編送對象：本表編製1式3份，1份自存，1份送主計室，1份送澎湖縣政府環境保護局。

Sheet 30910-02-01-3(續1)
A1: 公 開 類 | K1: 編製機關 | L1: 澎湖縣湖西鄉公所
A2: 年 度 報 | B2: 期間開始2.5個月內編報 | K2: 表 號 | L2: 30910-02-01-3
A3: 澎湖縣湖西鄉環境保護預算(續1)
E4: __________會計年度
A5: 二、單位預算－經常門 | M5: 單位：千元
A6: 單 位 及 業 務 別 | D6: 歲 出 項 目 | L6: 歲 入 項 目
D7: 預 算 數 | L7: 環境部 補助款 | M7: 其他政府 補助款
D8: 合計 | E8: 人事費 | F8: 約用人員 酬金 | G8: 委辦費 | H8: 對特種基金 之補助 | I8: 對國內團體 之捐助 | J8: 對清潔隊 之補助 (僅縣政府 環保局需填) | K8: 其他支出
A10: 環保局及所屬單位預算 | B10: 總 計
B11: 一般行政
B12: 綜合規劃
B13: 空氣品質保護
B14: 氣候變遷因應
B15: 噪音及振動防制
B16: 水質保護
B17: 土壤及地下水污染整治
B18: 廢棄物管理
B19: 環境衛生、毒化物管理
B20: 陳情、稽查、糾紛處理
B21: 監測及檢驗
B22: 研究發展
B23: 其他
A24: 鄉 鎮 市 公 所 清 潔 隊 預 算 (僅縣政府環保局需填)

Sheet 30910-02-01-3(續2)
A1: 公 開 類 | H1: 編製機關 | I1: 澎湖縣湖西鄉公所
A2: 年 度 報 | B2: 期間開始2.5個月內編報 | H2: 表 號 | I2: 30910-02-01-3
A3: 澎湖縣湖西鄉環境保護預算(續2)
D4: __________會計年度
A5: 三、單位預算－資本門 | J5: 單位：千元
A6: 單 位 及 業 務 別 | D6: 歲 出 項 目
D7: 預 算 數
D8: 合計 | E8: 委辦費 | F8: 土地 | G8: 對特種基金 之補助 | H8: 對國內團體 之捐助 | I8: 對清潔隊 之補助 (僅縣政府環 保局需填) | J8: 其他 資本支出
A10: 環保局及所屬單位預算 | B10: 總 計
B11: 一般行政
B12: 綜合規劃
B13: 空氣品質保護
B14: 氣候變遷因應
B15: 噪音及振動防制
B16: 水質保護
B17: 土壤及地下水污染整治
B18: 廢棄物管理
B19: 環境衛生、毒化物管理
B20: 陳情、稽查、糾紛處理
B21: 監測及檢驗
B22: 研究發展
B23: 其他
A24: 鄉 鎮 市 公 所 清 潔 隊 預 算 (僅縣政府環保局需填)

Sheet 30910-02-01-3(續3完)
A1: 公 開 類 | F1: 編製機關 | G1: 澎湖縣湖西鄉公所
A2: 年 度 報 | B2: 期間開始2.5個月內編報 | F2: 表 號 | G2: 30910-02-01-3
A3: 澎湖縣湖西鄉環境保護預算 (續3完)
A4: 四、附屬單位預算 | D4: _____會計年度 | G4: 單位：千元
A5: 來 源 / 用 途 別 | C5: 空污基金 | D5: 水污基金 | E5: 廢棄物清除 處理基金 | F5: 環境教育 基 金 | G5: 其他主管基金 (________基金)
A6: 一、基金來源 (A)
A7: (一)徵收及依法分配收入
A8: 1.營建工程空氣污染防制費收入
A9: 2.固定污染源空氣污染防制費收入
A10: 3.移動污染源空氣污染防制費收入
A11: 4.非空污類環保法規徵收收入
A12: 5.其他徵收及依法分配收入
A13: (二)政府撥入收入
A14: 1.環境部補助收入
A15: 2.環保署補助收入
A16: 3.其他政府撥入收入
A17: (三)財產及其他收入
... A30: 三、本期賸餘（短絀） (=A-B)
A31: 填表 | B31: 審核 | C31: 業務主管人員 | E31: 機關首長 | G31: 中華民國 年 月 日編製
C32: 主辦統計人員
A33: 資料來源：依據本所清潔隊環境保護預算資料編製。
A34: 填表說明：1.本表編製1式3份，1份自存，1份送主計室，1份送澎湖縣政府環境保護局。
A35: 2.「其他主管基金」係指表列基金以外之環保局主管基金， 如焚化廠基金、機場噪音回饋基金等，請列舉並註明基金名稱。

Sheet 30910-02-02-3
A1: 公 開 類 | M1: 編製機關 | N1: 澎湖縣湖西鄉公所
A2: 年 度 報 | B2: 期間終了4.5個月內編報 | M2: 表 號 | N2: 30910-02-02-3
A3: 澎湖縣湖西鄉環境保護決算
G4: __________會計年度
A5: 一、單位決算－經資門合計 | O5: 單位：千元
A6: 單 位 及 業 務 別 | D6: 歲 出 項 目 | N6: 歲 入 項 目
D7: 決 算 數 | M7: 折舊 | N7: 環境部 補助款 | O7: 其他政府 補助款
D8: 合計 | E8: 人事費 | F8: 約用人員 酬金 | G8: 委辦費 | H8: 土地 | I8: 對特種基金 之補助 | J8: 對國內團體 之捐助 | K8: 對清潔隊之補助 (僅縣政府環保局需填) | L8: 其他支出
A10: 環保局及所屬單位決算 | B10: 總 計
B11: 一般行政
B12: 綜合規劃
B13: 空氣品質保護
B14: 氣候變遷因應
B15: 噪音及振動防制
B16: 水質保護
B17: 土壤及地下水污染整治
B18: 廢棄物管理
B19: 環境衛生、毒化物管理
B20: 陳情、稽查、糾紛處理
B21: 監測及檢驗
B22: 研究發展
B23: 其他
A24: 鄉 鎮 市 公 所 清 潔 隊 決 算 (僅縣政府環保局需填)
A31: 澎湖縣湖西鄉環境保護決算編製說明 一、統計範圍及對象：本鄉公所清潔隊之單位及附屬單位決算，均為統計對象。 二、統計標準時間：以每年4月底之上年度決算數資料為準。 三、分類標準：(一)縱項目按經資門別、科目別及基金別分。 (二)橫項目按單位別、業務別、基金來源/用途別分。 四、統計項目定義 (一)單位決算 1.環保局及所屬單位決算：係指環境保護（資源）局及所屬機關主管之單位歲出（歲入）決算，包含「對下級機關補助款及對其他機關配合款」及「上級機關補助款(含自用及轉撥) 及其他 機關配合款」。 2.鄉鎮市公所清潔隊決算：係指各鄉鎮市公所清潔隊歲出（歲入）決算，包含決算書歲出政事別及歲入來源別中環境保護相關之經常門與資本門等經費（僅縣政府環保局需填）。 3.人事費：係指機關內政務人員、法定編制人員、依法令約聘僱人員與技工、工友等現職人員之相關待遇經費，包含薪俸、加給、酬金、加班值班費、獎金、退休退職離職給付及儲金、 保險、各項補助費等，依人員實際所在處室區分。 4.約用人員酬金：係指為協助業務推動所需遴用約用人員辦理相關事務所給付之費用，可以本縣（市）環境保護（資源）局及所屬、鄉鎮市公所決算書中「約用人員酬金」科目為準，並依人員實際所在處室區分。 5.委辦費：係指委託其他政府、機關、學校、團體及個人等進行學術研究、辦理機關職掌業務（含媒體政策及業務宣導）等經費。 6.土地：係指公務所需房屋基地、地上物拆遷補償及其他土地購置經費。 7.對國內團體之捐助：包含對企業捐助及對團體捐助，但不包括對團體辦理媒體政策及業務宣導之捐助。 8.折舊：係依國有財產法所訂之財產範圍按使用年限提列之當年成本分攤金額，包含動產及不動產，但不含土地、有價證卷及權利。 9.其他支出：係指預備金及其他無法歸入之科目。 10.環境部補助款：係指由環境部補助之經費，並納入該年決算者，包含實現數、應收數及保留數。 11.其他政府補助款：係指由環境部除外之其他政府機關（構）補助之經費，並納入該年決算者。 12.一般行政：包括預算員額（含機關正、副首長）所需人事費、內部行政支援單位所需工作經費、其他無法歸入特定業務計畫科目項下之一般共同性費用等經費。 13.綜合規劃：包含綜合計畫（企劃）、環境保護業務考核、環境影響評估、教育宣導及環境保護人員培訓等經費。 14.空氣品質保護：包含空氣品質管理、固定污染源與移動污染源空氣污染防制等經費。 15.氣候變遷因應：係指氣候變遷減緩與調適，包含溫室氣體盤查、查驗、登錄、減量、管理、節能減碳、淨零排放、低碳生活及家園等經費。 16.噪音及振動防制：包含噪音、振動、非屬原子能游離輻射之防制等經費。 17.水質保護：包含廢（污）水排放管制、地面水、飲用水管理、海洋污染防治等經費。 18.土壤及地下水污染整治：包含土壤及地下水污染之預防、監測、調查、整治等經費。 19.廢棄物管理：包含一般廢棄物（含水肥）清理、源頭減量、資源回收再利用、事業廢棄物管理等經費。 20.環境衛生、毒化物管理：包含環境衛生管理、病媒防治、毒性及關注化學物質管理、環境用藥管理等經費。 21.陳情、稽查、糾紛處理：包含公害污染陳情、環境污染源稽查處分、公害糾紛處理等經費。 22.監測及檢驗：包含環境品質監測、環境污染檢驗及測定等經費。 21.陳情、稽查、糾紛處理：包含公害污染陳情、環境污染源稽查處分、公害糾紛處理等經費。 22.監測及檢驗：包含環境品質監測、環境污染檢驗及測定等經費。 23.研究發展：包含研究、科技發展等經費。 24.一般建築及設備、資訊軟硬體等經費亦分別歸入對應類別，如無法明確歸於某一類別，則歸入「其他」項。 25.其他：預備金及其他無法歸入對應業務別之經費。
A64: (二)附屬單位決算：係指本縣（市）環境保護（資源）局主管之環境保護基金、環境污染防制基金或屬預算法所定之特別收入基金（僅限非營業部分）。 1.空污基金：係指依據空氣污染防制法規定設置之空氣污染防制基金。 2.水污基金：係指依據水污染防治法規定設置之水污染防治基金。 3.廢棄物清除處理基金：係指依據廢棄物清理法規定設置之一般廢棄物清除處理基金。 4.環境教育基金：係指依據環境教育法規定設置之環境教育基金。 5.其他主管基金： (1)焚化廠基金：係指依據廢棄物清理法，制定區域性垃圾處理廠（場）管理自治條例，所設置之區域性垃圾處理廠或焚化廠基金。 (2)機場噪音回饋基金：係指依據預算法規定設置之桃園國際機場航空噪音防制費及回饋金基金。 (3)回收（管理）基金：係指依據廢棄物清理法規定設置之資源回收（管理）基金。 (4)綠色能源開發管理基金：係指依據屏東縣綠色能源開發管理自治條例規定設置之綠色能源開發管理基金。 (5)非屬上述基金類別且為本縣環境保護局主管之基金，則註明基金名稱。 6.營建工程空氣污染防制費收入：係指依據空氣污染防制法規定徵收之營建工程空氣污染防制費收入。 7.移動（固定）污染源空氣污染防制費收入：係指依據空氣污染防制法規定，由環境部提撥60%之固定污染源及20%之移動污染源空氣污染防制費分配款收入。 8.非空污類環保法規徵收收入：係指依據空氣污染防制法以外之其他環保法規規定徵收之收入屬之，包含依據水污染防治法徵收之水污染防治收入、廢棄物清理法徵收之回收清 除處理收入（含焚化廠）、土壤及地下水污染整治法徵收之污染整治費收入、氣候變遷因應法之碳費收入、其他污染防制及防治收入等。 9.其他徵收及依法分配收入：係指非屬前述之其他徵收及依法分配收入，如違規罰款收入、再生能源發展收入、環保法規之罰鍰提撥收入、依據環境教育法第八條第二項第一款至第三款規定之環保提撥收入等。 10.環境部補助收入：係指由環境部補助之收入，但不包含提撥60%之固定污染源、20%之移動污染源空氣污染防制費分配款及水污染防治費分配款。 11.用人費用：係指非營業特種基金依預算員額進用現職人員之相關待遇等經費，包括薪資、超時工作報酬、津貼、獎金、退休及卹償金、資遣費、福利費等。 12.計時與計件人員酬金：係指非營業特種基金為協助業務推動進用人員辦理相關事務所給付之費用，可以「計時與計件人員酬金」科目為準。 13.專業服務費：係指委聘專業機構或人員提供服務之費用。 14.提撥環境教育基金：係指各基金提撥環境教育基金之支出，依據環境教育法規定，各級環保機關設立之環境保護基金每年至少提撥百分之五支出預算金額，以補（捐）助款撥入環境教 育基金。 15.捐助國內團體：係指對國內企業、行政法人、財團法人及其他民間團體（不含私校、團體辦理之媒體政策及業務宣導）之捐助。 16.資本支出：係指購置土地、房屋建築、公共建設及設施、機械及交通運輸設備、資訊軟硬體等固定資產、無形資產及投資的費用。 五、資料蒐集方法及編製程序：依據本所清潔隊環境保護決算資料編製。 六、編送對象：本表編製1式3份，1份自存，1份送主計室，1份送澎湖縣政府環境保護局。

Sheet 30910-02-02-3(續1)
A1: 公 開 類 | K1: 編製機關 | L1: 澎湖縣湖西鄉公所
A2: 年 度 報 | B2: 期間終了4.5個月內編報 | K2: 表 號 | L2: 30910-02-02-3
A3: 澎湖縣湖西鄉環境保護決算(續1)
E4: __________會計年度
A5: 二、單位決算－經常門 | M5: 單位：千元
A6: 單 位 及 業 務 別 | D6: 歲 出 項 目 | L6: 歲 入 項 目
D7: 決 算 數 | L7: 環境部 補助款 | M7: 其他政府 補助款
D8: 合計 | E8: 人事費 | F8: 約用人員 酬金 | G8: 委辦費 | H8: 對特種基金 之補助 | I8: 對國內團體 之捐助 | J8: 對清潔隊之補助 (僅縣政府環保局需填) | K8: 其他支出
A10: 環保局及所屬單位決算 | B10: 總 計
B11: 一般行政
B12: 綜合規劃
B13: 空氣品質保護
B14: 氣候變遷因應
B15: 噪音及振動防制
B16: 水質保護
B17: 土壤及地下水污染整治
B18: 廢棄物管理
B19: 環境衛生、毒化物管理
B20: 陳情、稽查、糾紛處理
B21: 監測及檢驗
B22: 研究發展
B23: 其他
A24: 鄉 鎮 市 公 所 清 潔 隊 決 算 (僅縣政府環保局需填)

Sheet 30910-02-02-3(續2)
A1: 公 開 類 | I1: 編製機關 | J1: 澎湖縣湖西鄉公所
A2: 年 度 報 | B2: 期間終了4.5個月內編報 | I2: 表 號 | J2: 30910-02-02-3
A3: 澎湖縣湖西鄉環境保護決算(續2)
A4: __________會計年度
A5: 三、單位決算－資本門 | K5: 單位：千元
A6: 單 位 及 業 務 別 | D6: 歲 出 項 目 | K6: 折舊
D7: 決 算 數
D8: 合計 | E8: 委辦費 | F8: 土地 | G8: 對特種基金 之補助 | H8: 對國內團體 之捐助 | I8: 對清潔隊 之補助 (僅縣政府環保局需填) | J8: 其他 資本支出
A10: 環保局及所屬單位決算 | B10: 總 計
B11: 一般行政
B12: 綜合規劃
B13: 空氣品質保護
B14: 氣候變遷因應
B15: 噪音及振動防制
B16: 水質保護
B17: 土壤及地下水污染整治
B18: 廢棄物管理
B19: 環境衛生、毒化物管理
B20: 陳情、稽查、糾紛處理
B21: 監測及檢驗
B22: 研究發展
B23: 其他
A24: 鄉 鎮 市 公 所 清 潔 隊 決 算 (僅縣政府環保局需填)

Sheet 30910-02-02-3(續3完)
A1: 公 開 類 | F1: 編製機關 | G1: 澎湖縣湖西鄉公所
A2: 年 度 報 | B2: 期間終了4.5個月內編報 | F2: 表 號 | G2: 30910-02-02-3
A3: 澎湖縣湖西鄉環境保護決算(續3完)
A4: 四、附屬單位決算 | D4: _____會計年度 | G4: 單位：千元
A5: 來 源 / 用 途 別 | C5: 空污基金 | D5: 水污基金 | E5: 廢棄物清除 處理基金 | F5: 環境教育 基 金 | G5: 其他主管基金 (________基金)
A6: 一、基金來源 (A)
A7: (一)徵收及依法分配收入
A8: 1.營建工程空氣污染防制費收入
A9: 2.固定污染源空氣污染防制費收入
A10: 3.移動污染源空氣污染防制費收入
A11: 4.非空污類徵收或環保提撥收入
A12: 5.其他徵收及依法分配收入
A13: (二)政府撥入收入
A14: 1.環境部補助收入
A15: 2.環保署補助收入
A16: 3.其他政府撥入收入
A17: (三)財產及其他收入
... A31: 四、折舊
A32: 填表 | B32: 審核 | C32: 業務主管人員 | E32: 機關首長 | G32: 中華民國 年 月 日編製
C33: 主辦統計人員
A34: 資料來源：依據本所清潔隊環境保護決算資料編製。
A35: 填表說明：1.本表編製1式3份，1份自存，1份送主計室，1份送澎湖縣政府環境保護局。
A36: 2.「其他主管基金」係指表列基金以外之環保局主管基金， 如焚化廠基金、機場噪音回饋基金等，請列舉並註明基金名稱。

Sheet 30293-01-01-3
A1: 公開類 | O1: 編製機關 | P1: 澎湖縣湖西鄉公所
A2: 年報 | B2: 每年4月15日前編報 | O2: 表號 | P2: 30293-01-01-3
A4: 澎湖縣湖西鄉公所公共造產成果概況
D6: 中華民國 年 | Q6: 單位：新臺幣千元
A7: 造產項目 | B7: 造產種類 | C7: 年底現存量 | E7: 本 年 收 入 | H7: 本 年 支 出 | K7: 事業賸餘 | L7: 事業外賸餘 | M7: 本年賸餘 | N7: 解繳庫數 （含縣市或鄉鎮市區） | O7: 留存事業機關賸餘金額 | P7: 年底現存造產價值估計 | Q7: 歷年累計 總投資額
C8: 單位 | D8: 數 量 | E8: 合 計 | F8: 事業收入 | G8: 事業外收入 | H8: 合 計 | I8: 事業費用 | J8: 事業外費用 | K8: (損失) | L8: (損失) | M8: (短絀)
E9: (1)+(2) | F9: (1) | G9: (2) | H9: (3)+(4) | I9: (3) | J9: (4) | K9: (5)=(1)-(3) | L9: (6)=(2)-(4) | M9: (7)=(5)+(6)
A10: 總 計
A21: 附 註 | B21: 一、累計賸餘分配：A+B________________ 解繳縣市或鄉鎮市庫數：A___________ 留存事業機關賸餘金額：B___________ | F21: 二、造產區域內總土地面積：__________平方公尺 1.觀光育樂事業：__________平方公尺 2.商場：__________________平方公尺 | J21: 3.停車場：__________平方公尺 4.造林：____________平方公尺 5.果樹：____________平方公尺 6.行道樹：______________公里 | M21: 7.作物：___________平方公尺 8.畜牧：___________平方公尺 9.水產：___________平方公尺 10.其他：__________平方公尺
A22: 備 註
Q23: 中華民國 年 月 日編製
A24: 填表 | D24: 審核 | H24: 業務主管人員 | L24: 機關首長
H25: 主辦統計人員
A26: 資料來源：依據本所資料彙編。
A27: 填表說明： | B27: 1.本年賸餘（短絀）＝本年收入合計－本年支出合計＝事業賸餘（損失）＋事業外賸餘（損失）。
B28: 2.本表編製3份，於完成會核程序並經機關長官核章後，1份送主計室，1份自存，1份送縣府民政處。
A29: 澎湖縣湖西鄉公所公共造產成果概況編製說明 一、統計範圍及對象：凡本所依據公共造產獎助及管理辦法之執行案件，均為統計對象。 二、統計標準時間：動態資料以當年1月至12月之事實為準；靜態資料以當年12月底之事實為準。 三、分類標準：橫項依「造產項目」分；縱項依「造產種類」、「年底現存量」、「本年收入」、「本年支出」、「事業賸餘（損失)」、「事業外賸餘（損失)」、「本年賸餘（短絀）」、「解 繳庫數」、「留存事業機關賸餘金額」、「年底現存造產價值估計」及「歷年累計總投資額」分。 四、統計項目定義： （一）公共造產：指因時、因地，就公墓納骨堂、觀光育樂事業、游泳池、商業市場、停車場、造林、果樹、行道樹、作物、畜牧、水產及其他有利地方繁榮兼具經濟價值、便利經營之各種事業 選擇經營之。 （二）造產項目：按(1)公墓納骨堂(2)觀光育樂事業(3)游泳池(4)商業市場(5)停車場(6)造林(7)果樹(8)行道樹(9)作物(10)畜牧(11)水產(12)其他等12項目分別填寫。 （三）造產種類及現存量單位：係指實施公共造產12大造產項目所屬事業名稱或種類名稱： 1.公墓納骨堂：凡往生者經處理後供存放骨灰(骸)，並設有專人管理等均屬之；以上各種類以處為現存量之單位。 2.觀光育樂事業：凡與觀光育樂事業有關，如名勝古蹟、風景區、旅社、球場、遊艇、露營區、活動中心、康樂臺、海水浴場、戲院、遊樂場等均屬之；以上各種類以處、所、座、艘、家等為現 存量之單位。 3.游泳池：以處為現存量之單位。 4.商業市場：凡與商場有關，如各種市場（果菜市場、零售市場、…）、店舖、臨時攤販集中區等均屬之；以上各種類以所、間、處等為現存量之單位。 5.停車場：凡與停車場有關，如立體停車場、寄車處、…等均屬之；以上各種類以處為現存量之單位。 6.造林：凡人工種植之樹木，如松、杉、木麻黃、鐵刀木、…等均屬之；以上各種類以平方公尺為現存量之單位。 7.果樹：凡人工栽植之果樹類，如梅、李、栗、番石榴、…等均屬之；以上各種類以平方公尺為現存量之單位。 8.行道樹：凡人工種植在公路兩旁，不論其為樹木類或果樹類，如蓮霧、芒果、木麻黃、可可、椰子、…等均屬之；以上各種類以公里為現存量之單位。 9.作物：凡人工種植之短期草木作物，如豆、甘藷、香蕉、鳳梨(屬普通作物)、茶樹、香水茅(屬持月作物)、水稻(屬農作物)、…等均屬之；以上各種類以平方公尺為現存量之單位。 10.畜牧：凡與畜牧類有關之畜產者，如養豬、養牛、養羊、養鹿、…等均屬之；以上各種類以頭為現存量之單位。 11.水產：凡與養殖水產類有關者，如養魚、養蝦、蛤蠣、…等均屬之；以上各種類以平方公尺為現存量之單位。 12.其他：凡與前列各項無關者，如育蠶室(平方公尺)、苗圃(平方公尺)、砂石採集(處)、卡車營運(處)、活動中心(處)、公廁出租(間)、大眾浴池(間)、電信代辦所(處)、…等均屬之。 （四）本年收入：指當年各項收益之金額。 （五）本年支出：指當年從事造產而直接支出之各種資金總額（包括預算編列之基金或貸款還款、捐助款等支出數）。 （六）本年賸餘（短絀）＝本年收入合計－本年支出合計＝事業賸餘（損失）＋事業外賸餘（損失）。 （七）解繳庫數係包括解繳縣市或鄉鎮市區庫數。 （八）現存造產價值估計：當年底現存造產依市價估計。 （九）歷年累計總投資額：累計歷年至當年底該項造產種類總投資額。 五、資料蒐集方法及編製程序：依據本所資料彙編。 六、編送對象：本表編製3份，於完成會核程序並經機關長官核章後，1份送主計室，1份自存，1份送縣府民政處。

Sheet 30293-01-02-3
A1: 公開類 | S1: 編製機關 | T1: 澎湖縣湖西鄉公所
A2: 年報 | B2: 每年4月15日前編報 | S2: 表號 | T2: 30293-01-02-3
A4: 澎湖縣湖西鄉公所公共造產經營事業概況
C6: 中華民國 年底 | U6: 單位：平方公尺
A7: 鄉鎮市區別 | B7: 面積 總計 | C7: 公墓納骨堂 | E7: 觀光育樂事業 | G7: 游泳池 | I7: 商業市場 | K7: 停 車 場 | M7: 造 林 | N7: 果 樹 | O7: 行 道 樹 | P7: 作 物 | Q7: 畜 牧 | S7: 水 產 | T7: 其 他
C8: 處數 (處) | D8: 面積 | E8: 處數 (處) | F8: 面積 | G8: 處數 (處) | H8: 面積 | I8: 處數 (處) | J8: 面積 | K8: 處數 (處) | L8: 面積 | M8: 面 積 | N8: 面 積 | O8: 長度 〈公里〉 | P8: 面 積 | Q8: 頭數(頭) | R8: 面積 | S8: 面積 | T8: 處數 (處) | U8: 面積
A23: 備 註
U24: 中華民國 年 月 日編製
A25: 填表 | D25: 審核 | I25: 業務主管人員 | O25: 機關首長
I26: 主辦統計人員
A27: 資料來源：依據本所資料彙編。
A28: 填表說明：本表編製3份，於完成會核程序並經機關長官核章後，1份送主計室，1份自存，1份送縣府民政處。
A30: 澎湖縣湖西鄉公所公共造產經營事業概況編製說明 一、統計範圍及對象：凡本所依據公共造產獎助及管理辦法之執行案件，均為統計對象。 二、統計標準時間：以當年12月底之事實為準。 三、分類標準：橫項依「鄉鎮市區別」分；縱項依「公墓納骨堂」、「觀光育樂事業」、「游泳池」、「商業市場」、「停車場」、「造 林」、「果樹」、「行道樹」、「作物」、「畜牧」、「水產」及「其他」分。 四、統計項目定義： （一）公共造產：係指因時、因地，就公墓納骨堂、觀光育樂事業、游泳池、商業市場、停車場、造林、果樹、行道樹、作物、畜牧、水產及 其他等有利地方繁榮兼具經濟價值、便利經營之各種事業選擇經營之。 五、資料蒐集方法及編製程序：依據本所資料彙編。 六、編送對象：本表編製3份，於完成會核程序並經機關長官核章後，1份送主計室，1份自存，1份送縣府民政處。

Sheet 30293-03-01-3
A1: 公 開 類 | Q1: 編製機關 | S1: 湖西鄉公所
A2: 年 報 | D2: 每年終了後2個月內編報 | Q2: 表 號 | S2: 30293-03-01-3
A3: 澎湖縣湖西鄉辦理調解業務概況
L4: 中華民國 年 | U4: 單位:件
A5: 區 域 別 | C5: 結案件數總計 | F5: 民事結案件數
F6: 合計 | H6: 債權、債務 | J6: 物權 | L6: 親屬 | N6: 繼承 | P6: 商事 | R6: 營建工程 | T6: 其他
C7: 合計 | D7: 成立 | E7: 不成立 | F7: 成立 | G7: 不成立 | H7: 成立 | I7: 不成立 | J7: 成立 | K7: 不成立 | L7: 成立 | M7: 不成立 | N7: 成立 | O7: 不成立 | P7: 成立 | Q7: 不成立 | R7: 成立 | S7: 不成立 | T7: 成立 | U7: 不成立
A8: 湖西鄉
A15: 公 開 類 | Q15: 編製機關 | S15: 湖西鄉公所(民政課)
A16: 年 報 | D16: 每年終了後2個月內編送 | Q16: 表 號 | S16: 30293-03-01-3
A17: 澎湖縣湖西鄉辦理調解業務概況(續完)
L18: 中華民國 年 | U18: 單位:件
A19: 區域別 | B19: 刑事結案件數 | U19: 年底正在調解中未結案件數
B20: 合計 | E20: 妨害風化 | G20: 妨害婚姻及家庭 | I20: 傷害 | K20: 妨害自由名譽信用及秘密 | N20: 竊盜及侵佔詐欺 | Q20: 毀棄損壞 | S20: 其他
B21: 成立 | D21: 不成立 | E21: 成立 | F21: 不成立 | G21: 成立 | H21: 不成立 | I21: 成立 | J21: 不成立 | K21: 成立 | M21: 不成立 | N21: 成立 | P21: 不成立 | Q21: 成立 | R21: 不成立 | S21: 成立 | T21: 不成立
A22: 湖西鄉
A26: 備 註
A27: 填表 | F27: 審核 | L27: 業務主管人員 | P27: 機關首長
L28: 主辦統計人員
R31: 中華民國 年 月 日編製
A32: 資料來源：依據本所調解案件登記簿資料彙編。
A33: 編製說明：本表編製3份，1份送本所主計室，1份送澎湖縣政府民政處，1份自存。
A34: 澎湖縣湖西鄉辦理調解業務概況編製說明
A35: 一、統計範圍及對象：凡依據本所調解條例之執行案件，均為統計對象。
A36: 二、統計標準時間：動態資料以當年1月至12月之事實為準；靜態資料以當年12月底之事實為準。
A37: 三、分類標準：橫項依「鄉鎮市區別」分；縱項依「結案件數總計」、「民事結案件數」、「刑事結案件數」及「年底正在調解中未結案件數」分。
A38: 四、統計科目定義：
A39: （一）民事結案件數：按債權、債務、物權、親屬、繼承、商事、營建工程及其他分。
A40: （二）刑事結案件數：按妨害風化、妨害婚姻及家庭、傷害、妨害自由名譽信用及秘密、竊盜及侵占詐欺、毀棄損壞及其他分。
A41: （三）成立：指當年調解成立之件數。
A42: （四）不成立：指1次或多次調解未達成協議不再調解之當年結案之件數。
A43: （五）本表結案件數總計應與「3311-04-03-3澎湖縣湖西鄉辦理調解方式概況」之調解方式合計欄相符。
... A45: 六、編送對象：本表編製3份，1份送本所主計室，1份送澎湖縣政府民政處，1份自存。

Sheet 30293-03-02-3
A1: 公 開 類 | W1: 編製機關 | Y1: 湖西鄉公所
A2: 年 報 | D2: 每年終了後2個月內編報 | W2: 表 號 | Y2: 30293-03-02-3
A3: 澎湖縣湖西鄉調解委員會組織概況
A4: 中華民國 年底
A5: 區域別 | B5: 鄉鎮市區數 | C5: 委員總人數 | E5: 性別 | G5: 年齡 | K5: 教育程度 | Q5: 行業 | U5: 服務公職 | X5: 委員年資
E6: 男 | F6: 女 | G6: 未滿40歲 | H6: 40-50歲未滿 | I6: 50-60歲未滿 | J6: 60歲以上 | K6: 研究所(含)以上 | L6: 大學校院 | M6: 專科學校 | N6: 高中(職) | O6: 國中 | P6: 國小(含)以下 | Q6: 農、林、漁、牧 | R6: 製造業、水電、燃氣業及營造業 | S6: 商業 | T6: 服務業及其他 | U6: 曾任 公職 | W6: 未曾任公職 | X6: 未滿4年 | Y6: 4-未滿8年 | Z6: 8-未滿16年 | AA6: 16年以上
A7: 湖西鄉
A13: 備 註
A14: 填表 | H14: 審核 | P14: 業務主管人員 | U14: 機關首長
P15: 主辦統計人員
V18: 中華民國 年 月 日編製
A19: 資料來源：依據本所業務資料彙編。
A20: 編製說明：本表編製3份，1份送本所主計室，1份送澎湖縣政府民政處，1份自存。
A21: 澎湖縣湖西鄉調解委員會組織概況編製說明
A22: 一、統計範圍及對象：凡本所之調解委員會組織均為統計對象。
A23: 二、統計標準時間：以當年12月底之事實為準。
A24: 三、分類標準：橫項依「鄉鎮市區別」分；縱項依「鄉鎮市區數」、「委員總人數」、「性別」、「年齡」、「教育程度」、「行業」、「服務公職」及
A25: 「委員年資」分。
A26: 四、統計科目定義（或說明）：
A27: （一）年齡計算方式：以足歲計算。
A28: （二）年資係指在調解委員會任職之年資，以足年計列，但中途離職者，應將該段年資扣除。
A29: 五、資料蒐集方法及編製程序：依據本所業務資料彙編。
A30: 六、編送對象：本表編製3份，1份送本所主計室，1份送澎湖縣政府民政處，1份自存。

Sheet 30293-03-03-3
A1: 公 開 類 | N1: 編製機關 | P1: 澎湖鄉公所
A2: 年 報 | B2: 每年終了後2個月內編報 | N2: 表 號 | P2: 30293-03-03-3
A3: 澎湖縣湖西鄉辦理調解方式概況
A4: 中華民國 年 | P4: 單位：件%
A5: 區域別 | B5: 調 解 方 式 | N5: 協 同 調 解
B6: 合 計 | F6: 委 員 集 體 開 會 調 解 | J6: 委 員 獨 任 調 解
B7: 計 | C7: 成立 | D7: 成立比率 (%) | E7: 不成立 | F7: 計 | G7: 成立 | H7: 成立比率 (%) | I7: 不成立 | J7: 計 | K7: 成立 | L7: 成立比率 (%) | M7: 不成立 | N7: 計 | O7: 成立 | P7: 成立比率 (%) | Q7: 不成立
A9: 湖西鄉
A14: 備 註
A15: 填表 | E15: 審核 | I15: 業務主管人員 | M15: 機關首長
I16: 主辦統計人員
A18: 資料來源：依據本所調解案件登記簿資料彙編。 編製說明：本表編製3份，1份送本所主計室，1份送澎湖縣政府民政處，1份自存。 | M18: 編製日期： 年 月 日
A19: 澎湖縣湖西鄉辦理調解方式概況編製說明
A20: 一、統計範圍及對象：凡依據本所調解條例之執行案件經辦理結案者，均為統計對象。
A21: 二、統計標準時間：以當年1月至12月之事實為準。
A22: 三、分類標準：橫項依「鄉鎮市區別」分；縱項依「調解方式」及「協同調解」分。
A23: 四、統計科目定義：
A24: （一）委員集體開會調解：責任區3人以上為主體之調解案件為委員集體開會調解案件。
A25: （二）委員獨任調解：係指責任區1人為主體進行之調解，惟依法須有女性委員或主席參與者，仍以委員獨任調解計算之。
A26: （三）協同調解：指調解件數中，有相關單位人士參與協同調解者。
A27: （四）成立：指當年調解成立之件數。
A28: （五）不成立：指1次或多次調解未達成協議不再調解之當年結案之件數。
A29: （六）本表調解方式合計欄應與「3311-04-01-3澎湖縣湖西鄉辦理調解業務概況」之結案件數總計相符。
A30: 五、資料蒐集方法及編製程序：依據本所調解案件登記簿資料彙編。
A31: 六、編送對象：本表編製3份，1份送本所主計室，1份送澎湖縣政府民政處，1份自存。

Sheet 30294-04-01-3
A1: 公開類 | T1: 編製機關 | V1: 湖西鄉公所
A2: 年 報 | B2: 每年終了後4個月內編報 | T2: 表 號 | V2: 30294-04-01-3
A3: 澎湖縣湖西鄉公墓設施概況
A4: 中華民國 年
B5: 公私立別 | C5: 總 計 | G5: 經 規 劃 並 啟 用 者 | S5: 未 經 規 劃 者
C6: 年底處數 | F6: 年底土地面積 (平方公尺) | G6: 年底處數 | H6: 年底土 地面積 (平方公尺) | I6: 年底已 使用面積 (平方公尺) | J6: 年底未 使用面積 (平方公尺) | K6: 年底可使用墓基總數(座) | L6: 年底已使用墓基總數(座) | M6: 本年墓基使用數(座) | N6: 年底尚未使用墓基數(座) | O6: 本年埋葬數 | Q6: 本年遷出數 | S6: 年底處數 | T6: 年底土 地面積 (平方公尺) | U6: 本年埋葬數 | W6: 本年遷出數
C7: 合計 | D7: 開放中 | E7: 已停用 | O7: 屍體數(具) | P7: 骨灰數(個) | Q7: 骨骸數(個) | R7: 骨灰數(個) | U7: 屍體數(具) | V7: 骨灰數(個) | W7: 骨骸數(個) | X7: 骨灰數(個)
A8: 總計 | B8: 合計
B9: 公立
B10: 私立
B11: 合計
B12: 公立
B13: 私立
B14: 合計
B15: 公立
B16: 私立
A17: 備 註
A18: 填表 | G18: 審核 | L18: 業務主管人員 | T18: 機關首長
L19: 主辦統計人員
A21: 資料來源：依據本所業務登記資料彙編。 | V21: 中華民國 年 月 日編製
A22: 填表說明：1.本表編製3份，1份送本所主計室，1份送澎湖縣政府民政處，1份自存。
B23: 2.所轄如有以土葬之墓基供埋葬骨灰使用，則會產生1墓基有多個骨灰盒(罐)之情況，年度埋葬數會大於年度墓基使用數。
A24: 澎湖縣湖西鄉公墓設施概況編製說明
A25: 一、統計範圍及對象：凡本所範圍內，依法設置及管理之公私立公墓，均為統計對象。
A26: 二、統計標準時間：動態資料以當年1月至12月之事實為準；靜態資料以當年12月底之事實為準。
A27: 三、分類標準：橫項依「公私立別」分；縱項依「經規劃並啟用者」及「未經規劃者」分。
A28: 四、統計科目定義：
A29: （一）公墓：係指公立或私立供公眾營葬屍體、埋藏骨灰或供樹葬之設施（含已禁葬公墓）。
A30: （二）經規劃：已完成墓基、對外通道、公共衛生設備、排水系統、墓道標誌、停車場及其他必要之設施者。
A31: （三）未經規劃：指未具備前（二）項之各種公共設施。
A32: （四）開放中：係指設施營運中，受理民眾申請埋葬或骨灰（骸）存放。
A33: （五）已停用：係指設施已禁葬或不再提供骨灰（骸）存放服務。
A34: （六）年底可使用墓基總數：指當年底公墓內可供埋葬之總墓基座數。
A35: （七）本年墓基使用數：指公墓內本年實際埋葬使用之墓基座數。
... A42: 六、編送對象：本表編製3份，1份送本所主計室，1份送澎湖縣政府民政處，1份自存。

Sheet 30294-04-02-3
A1: 公 開 類 | Q1: 編製機關 | R1: 湖西鄉公所
A2: 年 報 | C2: 每年終了後4個月內編報 | Q2: 表 號 | R2: 30294-04-02-3
A3: 澎湖縣湖西鄉骨灰(骸)存放設施概況
A4: 中華民國 年
B5: 公私立別 | C5: 年底處數 | F5: 年 底 最 大 容 量 | I5: 年底已使用量 （含本年納入數量） | L5: 年 底 尚 未 使 用 量 | O5: 本 年 納 入 數 量 | R5: 本 年 遷 出 數 量
C6: 合計 | D6: 開放中 | E6: 已停用 | F6: 合 計 （位） | G6: 骨 骸 （位） | H6: 骨 灰 （位） | I6: 合 計 （位） | J6: 骨 骸 （位） | K6: 骨 灰 （位） | L6: 合 計 （位） | M6: 骨骸 （位） | N6: 骨 灰 （位） | O6: 合 計 （位） | P6: 骨 骸 （位） | Q6: 骨 灰 （位） | R6: 合 計 （位） | S6: 骨 骸 （位） | T6: 骨 灰 （位）
A7: 總計 | B7: 合計
B8: 公立
B9: 私立
B10: 計
B11: 公立
B12: 私立
B13: 計
B14: 公立
B15: 私立
B16: 計
B17: 公立
B18: 私立
A19: 填表 | F19: 審核 | K19: 業務主管人員 | P19: 機關首長
K20: 主辦統計人員
A22: 資料來源：依據本所業務登記資料彙編。 | R22: 中華民國 年 月 日編製
A23: 填表說明：本表編製3份，1份送本所主計室，1份送澎湖縣政府民政處，1份自存。
A24: 澎湖縣湖西鄉骨灰(骸)存放設施概況編製說明
A25: 一、統計範圍及對象：凡本所範圍內，依法設置及管理之公私立骨灰(骸)存放設施，均為統計對象。
A26: 二、統計標準時間：動態資料以當年1月至12月之事實為準；靜態資料以當年12月底之事實為準。
A27: 三、分類標準：橫項依「公私立別」分；縱項依「年底處數」、「年底最大容量」、「年底已使用量」、「年底尚未使用量」、「本年納入數量」
A28: 及「本年遷出數量」分。
A29: 四、統計科目定義：
A30: （一）骨灰(骸)存放設施：指供存放骨灰(骸)之納骨堂(塔)、納骨牆或其他形式之存放設施，但不包括未依法設置供家族使用之靈骨堂、
A31: 無主墳墓之萬善堂、宗教建築物附設之靈骨堂。
A32: （二）年底處數
A33: 1.開放中：係指設施營運中，受理民眾申請骨灰（骸）存放。
A34: 2.已停用：係指設施不再提供骨灰（骸）存放服務。
... A38: 六、編送對象：本表編製3份，1份送本所主計室，1份送澎湖縣政府民政處，1份自存。

Sheet 30294-04-03-3
A1: 公 開 類 | R1: 編製機關 | T1: 湖西鄉公所
A2: 年 報 | B2: 每年終了後4個月內編報 | R2: 表 號 | T2: 30294-04-03-3
A3: 澎湖縣湖西鄉殯葬管理業務概況
A4: 中華民國 年底
B5: 本年環保葬件數（件） | H5: 年底公立公墓收費狀況 | J5: 年底公立公墓 管理人員 | N5: 年底公立各級單位 殯葬業務承辦人員 | R5: 本年核發埋葬火化 許可證明 | V5: 本年殯葬設施違反殯葬法規處分件數（件）
B6: 非公墓內（灑葬） | F6: 公墓內
B7: 公園、 綠地等 | D7: 海洋 | F7: 樹葬 | H7: 有收費 公墓數 （個） | I7: 未收費 公墓數 （個） | J7: 專任 （人） | L7: 兼任 (人) | M7: 兼任 （人） | N7: 專任 （人） | P7: 兼任 (人) | Q7: 兼任 （人） | R7: 埋葬屍體（件） | T7: 火化屍體或骨骸（件）
B8: 男 | C8: 女 | D8: 男 | E8: 女 | F8: 男 | G8: 女 | J8: 男 | K8: 女 | L8: 男 | M8: 女 | N8: 男 | O8: 女 | P8: 男 | Q8: 女 | R8: 男 | S8: 女 | T8: 男 | U8: 女
A9: 總計
A16: 備 註
A17: 填表 | G17: 審核 | J17: 業務主管人員 | R17: 機關首長
J18: 主辦統計人員
S21: 中華民國 年 月 日編製
A22: 資料來源：依據本所業務登記資料彙編。
A23: 填表說明：1. 本表編製3份，1份送本所主計室，1份送澎湖縣政府民政處，1份自存。
A24: 2.本年環保葬件數、本年殯葬設施違反法規處分件數係指公、私立殯葬管理業務均為統計範圍。
A25: 澎湖縣湖西鄉殯葬管理業務概況編製說明
A26: 一、統計範圍及對象：凡本所依法所為殯葬管理業務，均為統計對象。
A27: 二、統計標準時間：動態資料以當年1月至12月之事實為準；靜態資料以當年12月底之事實為準。
A28: 三、分類標準：縱項依「本年環保葬件數」、「年底公立公墓收費狀況」、「年底公立公墓管理人員」、「年底公立各級單位殯葬業務承辦人員」
A29: 、「本年核發埋葬火化許可證明」及「本年殯葬設施違反殯葬法規處分件數」分，其中「本年環保葬件數」、「年底公立公墓管理人員」、
A30: 「年底公立各級單位殯葬業務承辦人員」及「本年核發埋葬火化許可證明」再依性別分。
A31: 四、統計科目定義：
A32: （一）公墓：係指公立或私立供公眾營葬屍體、埋藏骨灰或供樹葬之設施。
A33: （二）公墓管理人員：即從事公墓清潔、維護、管理及違規案件查報之工作人員。「專任」係指專職於公墓管理工作正式職員；「兼任」則為
... A39: 六、編送對象：本表編製3份，1份送本所主計室，1份送澎湖縣政府民政處，1份自存。

Sheet 附錄二
A20: 附錄二、澎湖縣湖西鄉公所公務統計表冊細部權責區分表

Sheet 權責區分表 
A1: 澎湖縣湖西鄉公所公務統計表冊細部權責區分表
A2: 報 告 表 | G2: 整 理 表 (視需要訂定) | I2: 登 記 冊
A3: 表 號 | B3: 表 名 | C3: 編報週期 | D3: 發布單位 | E3: 審查單位 | F3: 編製單位 | G3: 表 名 | H3: 編製單位 | I3: 名稱 | J3: 編製單位
A4: 11242-02-04-3 | B4: 澎湖縣湖西鄉實施耕地三七五減租成果增減原因 | C4: 年度報 | D4: 本所 | E4: 主計室 | F4: 民政課 | I4: 耕地三七五租約登記簿 | J4: 民政課
A5: 11242-02-02-3 | B5: 澎湖縣湖西鄉實施耕地三七五減租後承租人承買耕地面積及人數 | C5: 年度報 | D5: 本所 | E5: 主計室 | F5: 民政課 | I5: 耕地三七五租約登記簿 | J5: 民政課
A6: 11242-02-01-3 | B6: 澎湖縣湖西鄉實施耕地三七五減租成果 | C6: 年度報 | D6: 本所 | E6: 主計室 | F6: 民政課 | I6: 耕地三七五租約登記簿 | J6: 民政課
A7: 11242-05-01-3 | B7: 澎湖縣湖西鄉各級租佃委員會調解調處案件 | C7: 年度報 | D7: 本所 | E7: 主計室 | F7: 民政課 | I7: 租佃委員會調解調處登記簿 | J7: 民政課
A8: 30293-01-01-3 | B8: 澎湖縣湖西鄉公所公共造產成果概況 | C8: 年度報 | D8: 本所 | E8: 主計室 | F8: 民政課 | J8: 民政課
A9: 30293-01-02-3 | B9: 澎湖縣湖西鄉公所公共造產經營事業概況 | C9: 年度報 | D9: 本所 | E9: 主計室 | F9: 民政課 | J9: 民政課
A10: 30293-03-01-3 | B10: 澎湖縣湖西鄉辦理調解方式概況 | C10: 年度報 | D10: 本所 | E10: 主計室 | F10: 民政課 | I10: 調解案件登記簿 | J10: 民政課
A11: 30293-03-02-3 | B11: 澎湖縣湖西鄉調解委員會組織概況 | C11: 年度報 | D11: 本所 | E11: 主計室 | F11: 民政課 | I11: 無 | J11: 民政課
A12: 30293-03-03-3 | B12: 澎湖縣湖西鄉辦理調解方式概況 | C12: 年度報 | D12: 本所 | E12: 主計室 | F12: 民政課 | I12: 調解案件登記簿 | J12: 民政課
