Workbook
Name \c: #REF!
Name \c: #REF!
Name \c: #REF!
Name \c: #REF!
Name \c: #REF!
Name \c: #REF!
Name \c: #REF!
Name \C1: #REF!
Name \C1: #REF!
Name \C1: #REF!
Name \C1: #REF!
Name \C1: #REF!
Name \C1: #REF!
Name \C1: #REF!
Name \d: #REF!
Name \d: #REF!
Name \d: #REF!
Name \d: #REF!
Name \d: #REF!
Name \d: #REF!
Name \d: #REF!
Name \l: #REF!
Name \l: #REF!
Name \l: #REF!
Name \l: #REF!
Name \l: #REF!
Name \m: #REF!
Name \m: #REF!
Name \m: #REF!
Name \m: #REF!
Name \m: #REF!
Name _00: #REF!
Name _00: #REF!
Name _00: #REF!
Name _00: #REF!
Name _00: #REF!
Name _00: #REF!
Name _11: #REF!
Name _11: #REF!
Name _11: #REF!
Name _11: #REF!
Name _11: #REF!
Name _pp1: #REF!
Name _pp1: #REF!
Name _pp1: #REF!
Name _pp1: #REF!
Name _pp1: #REF!
Name _PRN1: #REF!
Name _PRN1: #REF!
Name _PRN1: #REF!
Name _PRN1: #REF!
Name _PRN1: #REF!
Name _PRN2: #REF!
Name _PRN2: #REF!
Name _PRN2: #REF!
Name _PRN2: #REF!
Name _PRN2: #REF!
Name A: #REF!
Name A: #REF!
Name A: #REF!

Sheet 附錄一
A9: 附錄一、澎湖縣湖西鄉公所公務統計報表程式
J22: 8

Sheet 一覽表
A1: 民政課公務統計報表程式一覽表
A2: 表 號 | B2: 表 名 | C2: 表 期 | D2: 頁 次
A3: 1112-02-06-3 | B3: 澎湖縣湖西鄉實施耕地三七五減租成果增減原因 | C3: 年報
A4: 1112-02-07-3 | B4: 澎湖縣湖西鄉實施耕地三七五減租後佃農購買耕地面積戶數 | C4: 年報
A5: 1112-02-08-3 | B5: 澎湖縣湖西鄉實施耕地三七五減租成果 | C5: 年報
A6: 1112-06-01-3 | B6: 澎湖縣湖西鄉各級租佃委員會調解調處案件 | C6: 年報
A7: 3311-04-01-3 | B7: 澎湖縣湖西鄉辦理調解業務概況 | C7: 年報
A8: 3311-04-02-3 | B8: 澎湖縣湖西鄉調解委員會組織概況 | C8: 年報
A9: 3311-04-03-3 | B9: 澎湖縣湖西鄉辦理調解方式概況 | C9: 年報
A10: 3312-04-01-3 | B10: 澎湖縣湖西鄉公墓設施概況 | C10: 年報
A11: 3312-04-02-3 | B11: 澎湖縣湖西鄉骨灰(骸)存放設施概況 | C11: 年報
A12: 3312-04-03-3 | B12: 澎湖縣湖西鄉殯葬管理業務概況 | C12: 年報
A13: 社會課公務統計報表程式一覽表
A14: 表 號 | B14: 表 名 | C14: 表 期 | D14: 頁 次
A15: 10730-04-07-3 | B15: 澎湖縣湖西鄉列冊需關懷獨居老人人數及服務概況 | C15: 季報
A16: 11140-01-01-3 | B16: 澎湖縣湖西鄉推行社區發展工作概況 | C16: 年報
A17: 10730-04-03-3 | B17: 澎湖縣湖西鄉老人福利服務成果(一)-文康中心及長青學苑 | C17: 半年報
A21: 建設課公務統計報表程式一覽表
A22: 表 號 | B22: 表 名 | C22: 表 期 | D22: 頁 次
A23: 1113-01-01-3 | B23: 澎湖縣湖西鄉農耕土地面積 | C23: 年報
A24: 2224-01-01-3 | B24: 澎湖縣湖西鄉有效農機使用證之農機數量 | C24: 年報
A25: 2522-09-20-3 | B25: 澎湖縣湖西鄉鄉道公路養護工程成果 | C25: 年報
A26: 2522-09-23-3 | B26: 澎湖縣湖西鄉鄉道公路新建及改善工程完成數量 | C26: 年報
A27: 1113-05-01-3 | B27: 澎湖縣湖西鄉治山防災整體治理工程 | C27: 年報
A28: 1140-00-04-3 | B28: 澎湖縣湖西鄉天然災害水土保持設施損失 | C28: 年(臨時)報
A29: 2229-02-01-3 | B29: 澎湖縣湖西鄉農路改善及維護工程 | C29: 年報
A30: 2234-01-01-3 | B30: 澎湖縣湖西鄉森林災害報告 | C30: 即刻報
A31: 清潔隊公務統計報表程式一覽表
A32: 表 號 | B32: 表 名 | C32: 表 期 | D32: 頁 次
A33: 1135-01-02-3 | B33: 澎湖縣湖西鄉資源回收成果統計 | C33: 月報
A34: 1135-01-03-3 | B34: 澎湖縣湖西鄉一般垃圾及廚餘清理狀況 | C34: 月報
A35: 1135-01-05-3 | B35: 澎湖縣湖西鄉垃圾處理場(廠)及垃圾回收清除車輛統計 | C35: 半年報
A36: 1135-01-08-3 | B36: 澎湖縣湖西鄉水肥清運處理狀況 | C36: 半年報
A37: 1136-01-01-3 | B37: 澎湖縣湖西鄉公共場所一般環境衛生管理工作成果 | C37: 半年報
A38: 1139-07-01-3 | B38: 澎湖縣湖西鄉環保人員概況 | C38: 半年報
A39: 1139-08-01-3 | B39: 澎湖縣湖西鄉環境保護預算概況 | C39: 年度報
A40: 1139-08-02-3 | B40: 澎湖縣湖西鄉環境保護決算概況 | C40: 年度報
A41: 財政課公務統計報表程式一覽表
A42: 20902-00-02-3 | B42: 澎湖縣湖西鄉公庫收支 | C42: 月報

Sheet 1112-02-06-3
A1: 公 開 類 | M1: 編製機關 | N1: 澎湖縣湖西鄉公所(民政課)
A2: 年 報 | C2: 每年終了後1個月內編報 | M2: 表 號 | N2: 1112-02-06-3
A4: 澎湖縣湖西鄉實施耕地三七五減租成果增減原因
A5: 中華民國 年
A6: 增減原因 | C6: 承租人人數 | G6: 出租人人數 | K6: 土地筆數 | L6: 租約件數 | M6: 租 約 面 積 (公頃)
C7: 計 | D7: 男 | E7: 女 | F7: 非自然人 | G7: 計 | H7: 男 | I7: 女 | J7: 非自然人 | K7: (筆) | L7: (件)
A8: 上年底原有數
A9: 增加 原因 | B9: 合計
B10: 新訂租約
B11: 租約變更
B12: 分(補)訂租約
B13: 農(市)地重劃變更
B14: 更正
B15: 其他
A16: 減少 原因 | B16: 合計
B17: 承租人承買
B18: 收回變更使用
B19: 軍公徵收及公共設施使用
B20: 租約變更
B21: 收回自耕
B22: 終止(註銷)租約
B23: 農(市)地重劃變更
B24: 權屬變更
B25: 更正
B26: 其他
A27: 本年底應有數
A29: 填表 | C29: 審核 | K29: 業務主管人員 | N29: 機關首長
K30: 主辦統計人員
A31: 資料來源：依據各鄉鎮市區公所填報資料編製。
A32: 填表說明：本表編製3份，1份送本所主計室，1份送澎湖縣政府財政處，1份自存。 | N32: 中華民國 年 月 日編製
A34: 澎湖縣湖西鄉實施耕地三七五減租成果增減原因編製說明
A36: 一、統計範圍及對象：凡在本鄉境內訂有三七五租約之土地，均為統計之對象。
A37: 二、統計標準時間：靜態資料以當年12月底之事實為準，動態資料以當年1月1日至12月底之事實為準。
A38: 三、分類標準：
A39: （一）按增減原因分。
A40: （二）按承租人人數、出租人人數、土地筆數、租約件數及租約面積分。
A41: 四、統計項目定義：
A42: （一）承租人:向出租人承租田地以為耕種之承耕者。
A43: （二）出租人:土地所有權人。
A44: （三）面積均以公頃為單位，至小數點以下4位數。
...

Sheet 1112-02-07-3
A1: 公 開 類 | E1: 編製機關 | F1: 澎湖縣湖西鄉公所(民政課)
A2: 年 報 | B2: 每年終了後1個月內編報 | E2: 表 號 | F2: 1112-02-07-3
A4: 澎湖縣湖西鄉實施耕地三七五減租後承租人承買耕地面積及人數
A5: 中華民國 年
B6: 承 買 耕 地 面 積 (公頃) | F6: 承買耕地承租人人數
A7: 鄉鎮市區別 | F7: (人)
B8: 本年 | D8: 累計至本年底止 | F8: 本年 | G8: 累計至本年底止
A9: 總 計
A22: 填表 | B22: 審核 | D22: 業務主管人員 | E22: 機關首長
D23: 主辦統計人員
A24: 資料來源：依據各鄉鎮市區公所佃農購買耕地申請書及三七五減租登記資料彙編。
A25: 填表說明：本表編製3份，1份送本所主計室，1份送澎湖縣政府財政處，1份自存。
G26: 中華民國 年 月 日編製
A28: 澎湖縣湖西鄉實施耕地三七五減租後承租人承買耕地面積及人數編製說明
A30: 一、統計範圍及對象：凡依據耕地三七五減租條例規定之執行案件，均為統計之對象。
A31: 二、統計標準時間：靜態資料以當年12月底之事實為準，動態資料以當年1月1日至12月底之事實為準。
A32: 三、分類標準：
A33: （一）按鄉鎮市區別分。
A34: （二）按承買耕地面積及承買耕地承租人人數分。
A35: 四、統計項目定義：
A36: （一）承買耕地面積：承租人購買其所訂定三七五租約土地之面積。
A37: （二）承租人：向出租人承租田地以為耕種之承耕者。
A38: 五、資料蒐集方法及編製程序：依據本公所佃農購買耕地申請書及三七五減租登記簿資料彙編。
A39: 六、編送對象：本表編製3份，1份送本所主計室，1份送澎湖縣政府財政處，1份自存。

Sheet 1112-02-08-3
A1: 公 開 類 | M1: 編製機關 | N1: 澎湖縣湖西鄉公所(民政課)
A2: 年 報 | B2: 每年終了後1個月內編報 | M2: 表 號 | N2: 1112-02-08-3
A4: 澎湖縣湖西鄉實施耕地三七五減租成果
A5: 中華民國 年底
A6: 鄉鎮市區別 | B6: 承租人人數 (人) | F6: 出租人人數 (人) | J6: 土地筆數 | K6: 租約件數 | L6: 租 約 面 積 (公頃)
B7: 計 | C7: 男 | D7: 女 | E7: 非自然人 | F7: 計 | G7: 男 | H7: 女 | I7: 非自然人 | J7: (筆) | K7: (件)
A8: 總 計
A26: 填表 | C26: 審核 | J26: 業務主管人員 | M26: 機關首長
J27: 主辦統計人員
A28: 資料來源：依據各鄉鎮市區公所三七五減租登記簿資料彙編。
A29: 填表說明：本表編製3份，1份送本所主計室，1份送澎湖縣政府財政處，1份自存。
O30: 中華民國 年 月 日編製
A33: 澎湖縣湖西鄉實施耕地三七五減租成果編製說明
A35: 一、統計範圍及對象：凡依據耕地三七五減租條例規定之執行案件，均為統計之對象。
A36: 二、統計標準時間：自實施三七五減租至當年12月底之靜態資料為準。
A37: 三、分類標準：
A38: （一）按鄉鎮市區別分。
A39: （二）按承租人人數、出租人人數、土地筆數、租約件數及租約面積分類。
A40: 四、統計項目定義：
A41: （一）承租人：向地主承租田地以為耕種之承耕者。
A42: （二）出租人：土地所有權人。
A43: 五、資料蒐集方法及編製程序：依據本公所三七五減租登記簿資料彙編。
A44: 六、編送對象：本表編製3份，1份送本所主計室，1份送澎湖縣政府財政處，1份自存。

Sheet 1112-06-01-3
A1: 公開類 | P1: 編製機關 | R1: 澎湖縣湖西鄉公所(民政課)
A2: 年 報 | C2: 每年終了後1個月內編報 | P2: 表 號 | R2: 1112-06-01-3
A4: 澎湖縣湖西鄉各級租佃委員會調解調處案件
A5: 中華民國 年 | T5: 單位:件
A6: 租佃委員會別 | D6: 總計 | F6: 租額糾紛 | H6: 災歉減免地租 | J6: 正產副產糾紛 | L6: 租期糾紛 | N6: 租約面積糾紛 | P6: 田寮或基地 租佃糾紛 | R6: 減租條例 第16條糾紛 | T6: 其他
D7: 成立 | E7: 不成立 | F7: 成立 | G7: 不成立 | H7: 成立 | I7: 不成立 | J7: 成立 | K7: 不成立 | L7: 成立 | M7: 不成立 | N7: 成立 | O7: 不成立 | P7: 成立 | Q7: 不成立 | R7: 成立 | S7: 不成立 | T7: 成立 | U7: 不成立
A8: 總 計
A9: 市、縣(市)租佃委員會
A10: 鄉鎮市區租佃委員會 | B10: 合 計
A23: 備 註
A25: 填表 | G25: 審核 | L25: 業務主管人員 | Q25: 機關首長
L26: 主辦統計人員
A27: 資料來源：依據本府及鄉鎮市區租佃委員會調解調處案件登記簿資料彙編。
A28: 填表說明：本表編製3份，1份送本所主計室，1份送澎湖縣政府財政處，1份自存。
U29: 中華民國 年 月 日編製
A31: 澎湖縣湖西鄉各級租佃委員會調解調處案件編製說明
A33: 一、統計範圍及對象：凡在本鄉(市)境內各級租佃委員會調解調處案件，均為統計對象。
A34: 二、統計標準時間：以當年1月1日至12月底之事實為準。
A35: 三、分類標準：
A36: (一)以糾紛類別分為:租額糾紛、災歉減免地租、正產副產糾紛、租期糾紛、租約面積糾紛、田寮或基地租佃糾紛、減租條例第16條 糾紛及其他等項。
A37: (二)以組織分為:市、縣(市) 租佃委員會 、鄉鎮市區租佃委員會。
A38: 四、統計項目定義：不屬表列各類調解或調處案件應全部列入「其他」內，但必須在備註欄內說明為何種案件及其個別數量。
A39: 五、資料蒐集方法及編製程序：依據本鄉租佃委員會調解調處案件登記簿資料彙編。
A40: 六、編送對象：本表編製3份，1份送本所主計室，1份送澎湖縣政府財政處，1份自存。

Sheet 1113-01-01-3
A1: 公開類 | H1: 編製機關 | I1: 湖西鄉公所（建設課）
A2: 年 報 | B2: 次年3月底前填報 | H2: 表 號 | I2: 1113─01─01─3
A4: 澎 湖 縣 湖 西 鄉 農 耕 土 地 面 積
D7: 中華民國 年 | K7: 單位 : 公頃
A8: 地 區 別 | D8: 耕作地 | J8: 長期休閒地
C9: 總 計 | D9: 合計 | E9: 短期耕作地 | I9: 長期耕作地
E10: 小計 | F10: 水稻 | G10: 水稻以外之短期作 | H10: 短期休閒
A12: 總 計
A20: 填表 | C20: 審核 | E20: 業務主管人員 | H20: 機關首長
E21: 主辦統計人員
I24: 中華民國 年 月 日編製
A25: 資料來源：依據本所經辦人員查報資料編製。
A26: 填表說明:本表編製3份，1份自存，1份送主計室，1份送澎湖縣政府農漁局。

Sheet 1113-05-01-3
A1: 公 開 類 | G1: 編製機關 | H1: 澎湖縣湖西鄉公所(建設課)
A2: 年 度 報 | B2: 年度終了後2月內填報 | G2: 表 號 | H2: 1113-05-01-3
A4: 澎湖縣湖西鄉治山防災整體治理工程
B6: 中華民國 年度 | I6: 單位：新台幣元
A7: 工程名稱 | B7: 地點 | C7: 總 工 程 費 （按 經 費 來 源 分） | G7: 工 作 數 量
B8: （鄉鎮別） | C8: 總 計 | D8: 中 央 | E8: 縣 （市） | F8: 其 他 | G8: 防砂壩（座） | H8: 整流（公尺） | I8: 固床工（座）
A9: 合 計

Sheet 1113-05-01-3(續完)
A1: 公 開 類 | I1: 編製機關 | J1: 澎湖縣湖西鄉公所(建設課)
A2: 年 度 報 | B2: 年度終了後2月內填報 | I2: 表 號 | J2: 1113-05-01-3
A4: 澎湖縣湖西鄉治山防災整體治理工程(續完)
A6: 中華民國 年度 | K6: 單位：新台幣元
A7: 工程名稱 | B7: 地點 | C7: 工 作 數 量
B8: （鄉鎮別） | C8: 護岸（公尺） | D8: 魚道（座） | E8: 蝕溝控制（公尺） | F8: 崩塌地處理（公頃） | G8: 植生綠美化（平方公尺） | H8: 生物通道（座） | I8: 其他（座、塊、公尺、公頃、平方公尺）
A9: 合 計
A27: 資料來源：根據湖西鄉年度內完工治山防災等工程結算書，未完工者以發包金額或發包後實際需要工程費填報。
A28: 填表說明：本表編製1式3份，1份送主計室，1份送自存，1份送澎湖縣林務公園管理所。
A31: 填表 | C31: 審核 | E31: 業務主管人員 | H31: 機關首長 | J31: 中華民國 年 月 日編製
E33: 主辦統計人員
A45: 澎湖縣湖西鄉治山防災整體治理工程編製說明
A47: 一、統計範圍及對象：凡在本鄉境內辦理治山防災工程者均為統計對象。
A49: 二、統計標準時間：以會計年度期間之事實為準。
A51: 三、分類標準：按工程名稱、地點、總工程費（按經費來源分）及工作數量。
A53: 四、統計項目定義：總工程費係指本年度已完工者以決算金額，未完工者以發包後實際需要工程費填報，惟不含管理費在內。
A55: 五、資料蒐集方法及編製程序：依本公所轄內相關工程資料編製。
A57: 六、編送對象：本表編製1式3份，1份送主計室，1份自存，1份送澎湖縣林務公園管理所。

Sheet 1135-01-02-3
A1: 公 | B1: 開 | C1: 類 | D1: 期間終了20日內編製 | F1: 編製機關 | I1: 湖西鄉公所(清潔隊)
A2: 月 | B2: 報 | F2: 表 | H2: 號 | I2: 1135－01－02－3
A3: 澎湖縣湖西鄉資源回收成果統計
A4: 中華民國 年 月 單位：公斤
A5: 項 目 別 | D5: 總 計 | E5: 按清運單位分
E6: 環保單位 自行清運 | G6: 環保單位 委託清運 | J6: 公私處所自行 或委託清運
A7: 總 計
A8: 紙 類
A9: 紙容器
A10: 鋁箔包
A11: 鋁容器
A12: 鐵容器
A13: 其他金屬製品
A14: 塑膠容器
A15: 包裝用發泡塑膠
A16: 其他塑膠製品
A17: 輪 胎
A18: 玻璃容器
... A94: (十八)照明光源：指公告應回收之白熾燈泡(燈帽直徑2.6公分以上)、含汞照明光源及發光二 極體(即LED)照明光源。含汞照明光源 包括直管日光燈、環管日光燈、安定器內藏式 螢光燈泡、緊密型螢光燈管、高強度照明燈管、冷陰極燈、感應式螢光燈及其 他含汞 燈。發光二極體照明光源包括直管型、環管型、安定器內藏式型及緊密型。 (十九)乾電池：指以化學能直接轉換成電能，組裝前單只重量小於一公斤，密閉式之小型電 池，包括一次電池及二次電池，如圓筒、方筒、鈕釦型及組裝型之鹼性電池、鋰電 池、鎳鎘電池、鎳氫電池及水銀電池等。 (二十)鉛蓄電池：包括發動活塞引擎用及其他鉛酸蓄電池，如電瓶。 (二十一)家電：指公告應回收之電子電器物品，包括電視機、電冰箱、洗衣機、冷暖氣機、 電風扇等，及其他大小型家電，如電熱水瓶、電磁爐、電鍋、飲水機、微波爐、烤 箱、咖啡機、吹風機、吸塵器、電暖器、錄放影機等。 (二十二)資訊物品：指公告應回收之資訊物品，包括筆記型電腦、平板電腦及用於個人電腦 之主機板、硬式磁碟機、電源器、機殼、 顯示器、印表機、鍵盤等。 (二十三)行動電話(含充電器)：指行動電話及其充電器(包括座充及旅充)。 (二十四)農藥容器及特殊環境用藥容器：指以塑膠、玻璃、金屬、紙、鋁箔或其他經行政院 環境保護署公告之單一或複合材質製成，用以直接裝填成品農藥或特殊環境用藥之 容器。 (二十五)食用油：指可供食用之動植物油脂。 (二十六)其他：指無法直接歸類之回收項目，如巨大垃圾等，或直轄市、縣（市）主管機關 增訂並報請中央主管機關備查之其他一般廢棄物回收項目，如潤滑油、塑膠袋等。 (二十七)本表皆以公斤為單位，若無法得其實際重量，請至「生活廢棄物質管理資訊系統」 主管機關頁面>點選「常見問題區」中「資源回收項目重量折算標準」可供參考， 網址：http://hwms.epa.gov.tw/。 五、資料蒐集方法及編製程序： 依據本公所提報之資源回收成果報告月報表資料彙總編製。 六、編送對象：本表編製 1 式 3 份，1 份送會計單位，1 份自存，1 份送縣(市)政府環境保護局。

Sheet 1135-01-03-3
A1: 公 | B1: 開 | C1: 類 | D1: 期間終了1個月內編報 | F1: 編製機關 | I1: 湖西鄉公所(清潔隊)
A2: 月 | B2: 報 | F2: 表 | H2: 號 | I2: 1135-01-03-3
A3: 澎湖縣湖西鄉一般垃圾及廚餘清理狀況
A4: 中華民國 年 月 單位：公噸
A5: 項 目 別 | F5: 一般垃圾 | J5: 廚 餘 | L5: 廚 餘
I6: 事業員工 生活垃圾 | K6: 非例行性 排出垃圾
A7: 產生量 | D7: 總計
D8: 環保單位自行清運
D9: 環保單位委託清運
D10: 公私處所自行或委託清運
A11: 處理量 | D11: 總計
D12: 本月產生垃圾
D13: 過去暫存垃圾
D14: 焚化 | E14: 計
E15: 本月產生垃圾
E16: 過去暫存垃圾
D17: 衛生掩埋 | E17: 計
E18: 本月產生垃圾
E19: 過去暫存垃圾
D20: 回收再利用 | E20: 堆 肥
E21: 養 豬
E22: 其他廚餘再利用
A23: 本月新增暫存量
A24: 填表 審核 業務主管人員 機關首長
A25: 主辦統計人員 中華民國 年 月 日編製
A26: 資料來源：依據本公所提報之一般垃圾及廚餘清理狀況資料彙總編製。
A27: 填表說明：本表編製1式3份，1份送會計單位，1份自存，1份送縣(市)政府環境保護局。
A30: 澎湖縣湖西鄉一般垃圾及廚餘清理狀況編製說明 一、統計範圍及對象：本鄉之一般垃圾及廚餘清理狀況均為統計對象。 二、統計標準時間：以每月1日至月底之事實為準。 三、分類標準：(一)按一般垃圾及廚餘分。 (二)按產生量、處理量及本月新增暫存量分，其中產生量按清運單位別分，處理量按處理方式別分。 四、統計項目定義： (一) 一般垃圾：指由家戶、公共場所及其他產生源所產生資源垃圾、有害垃圾及廚餘以外之一般廢棄物，包括非例行性排出垃圾 、 無法回收之巨大垃圾，但不包括海灘（漂)垃圾。家戶係指民眾居住處，其垃圾由垃圾車沿街清運收受者；公共場所如社 區、公園、街道、河堤、人行道、水溝及髒亂點等；其他 產生源如學校、公務機關、風景遊樂區、慈善團體、辦公大樓、 夜市、市場、非公告事業之營業場所及事業員工生活產生者等。 (二)非例行性排出垃圾：包括集中燃燒之紙錢、非例行性大型活動垃圾、工程美化垃圾、天然災害垃圾及小型農事垃圾。 (三) 廚餘：指由家戶、公共場所、其他產生源所拋棄之生、熟食物及其殘渣或經主管機關公告之有機性一般廢棄物。 (四) 環保單位自行清運：為公所自行清運之垃圾量。 (五) 環保單位委託清運：為公所委託公民營廢棄物清除機構清運之垃圾量。 (六) 公私處所自行或委託清運：為公私處所自行或委託公民營廢棄物清除機構清運至處理場(廠)之垃圾量。公私處所如社區、學 校、機 關團體、一般住宅大樓、辦公大樓及其他非公告事業之營業場所等。 (七) 焚化:指利用焚化爐高溫燃燒，將垃圾轉變為安定之氣體或物質(例如：固體再生燃料SRF)之處理方法，又分為焚化本月產生之 一般垃圾及焚化過去暫存之一 般垃圾。 (八) 衛生掩埋：指將垃圾掩埋於以不透水材質或低滲水性土壤所構築，並設有滲出水、廢氣收集及處理設施及地下水監測裝置掩 埋場之 處理方法，又分為掩埋本月產生之一般垃圾及掩埋過去暫存之一般垃圾。 (九) 回收再利用：指將廚餘資源化變為產品或再生物料之後續使用行為。凡經由清潔隊或公民營機構收集之廚餘，以下列方法處 理再利用者均應計入，包括： 1.堆肥：指將廚餘回收後經生物醱酵作用轉化成安定之腐植質或土壤改良劑之處理方法。 2.養豬：指將廚餘回收後送至養豬場或標售，經高溫蒸煮後作為養豬飼料之處理方法。 3.其他廚餘再利用：非採上述二種方法處理之廚餘回收再利用數量，例如：製成家禽飼料、厭氧發酵及黑水虻幼蟲食用 等。 (十) 本月新增暫存量：指本月新增暫時堆置或貯存之一般垃圾量。 五、資料蒐集方法及編製程序：依據本鄉清潔隊提報之一般垃圾及廚餘清理資料彙總編製。 六、編送對象：本表編製1式3份，1份送會計單位，1份自存，1份送縣(市)政府環境保護局。

Sheet 1135-01-05-3
A1: 公 開 類 | G1: 編製機關 | H1: 湖西鄉公所(清潔隊)
A2: 半 年 報 | B2: 期間終了1個月內編報 | G2: 表 號 | H2: 1135-01-05-3
A3: 澎湖縣湖西鄉垃圾處理場(廠)及垃圾回收清除車輛統計
A4: 中 華 民 國 年 月底
A5: 項 目 別 | F5: 總 計
A6: 垃圾處理場(廠)(座) | B6: 總 計
B7: 焚 化 廠
B8: 衛 生 掩 埋 場
B9: 堆 肥 場
B10: 堆 置 場
A11: 垃圾回收清除車輛︵輛︶ | B11: 總 計
B12: 子 母 式 垃 圾 車
B13: 密 封 式 垃 圾 車
B14: 框式垃圾車 | C14: 計
C15: 資 源 (含 廚 餘) 回 收 垃 圾 車
C16: 其 它
B17: 水 肥 車
B18: 清 溝 ( 溝 泥 ) 車
B19: 掃 (洗) 街 車
A20: 填表 | B20: 審核 | D20: 業務主管人員 | F20: 機關首長
D21: 主辦統計人員 | F21: 中華民國 年 月 日編製
A24: 資料來源：依據本公所之垃圾處理場（廠）及垃圾回收清除車輛資料編製。
A25: 填表說明：本表編製1式3份，1份送主計室，1份自存，1份送澎湖縣政府環境保護局統計室。

Sheet 1135-01-08-03
A2: 公 開 類 | J2: 編 製 機 關 | L2: 湖西鄉公所(清潔隊)
A3: 半 年 報 | C3: 期間終了1個月內編報 | J3: 表 號 | L3: 1135-01-08-03
A4: 澎湖縣湖西鄉 水 肥 清 運 處 理 狀 況
A5: 中 華 民 國 年 月 至 月
B6: 項 目 別 | G6: 總 計 | H6: 澎西鄉
B8: 期末清運區戶籍人口數(人)
B9: 指定清除地區 | D9: 月底戶籍人口數 (人)
D10: 月底現住人口數 (人)
C11: 總 計
D12: 環保單位自行清運
D13: 環保單位委託清運
D14: 公私處所自行或委託清運
D15: 水 肥 處 理 廠
D16: 污水處理廠(含水肥投入站、截流站水肥投入口)
D17: 垃圾掩埋場之滲出水處理廠(含垃圾掩埋場)
D18: 再利用(堆肥或其他)
D19: 分 | E19: 其他(含打包出售曠野燃燒等)
B20: 平 均 每 日 垃 圾 清 運 量 （公 噸）
C21: 總 計
C22: 環保單位清運車輛
C23: 公民營廢物清除機構清運車輛
C24: 機 動 車
C25: 溝 泥 車
C26: 掃 街 車
C27: 噴 射 沖 溝 吸 泥 車
C28: 資 源 回 收 車
C29: 手 拉 車 及 小 型 搬 運 車
C30: 灑 水 洗 街 車
C31: 消 毒 車
C32: 壓 實 機
... C42: 總 計
E43: 一 級 處 理
E44: 二 級 處 理
E45: 三 級 處 理
C46: 再利用
B47: 水 肥 清 理 經 費 （千 元）
A48: 填表 | E48: 審核 | G48: 業務主管人員 | J48: 機關首長
G49: 主辦統計人員
M50: 中華民國 年 月 日編製
A51: 資料來源：依據本所提報之水肥清運處理狀況資料編製。
...

Sheet 1136-01-01-3
A1: 公 開 類 | F1: 編製機關 | G1: 湖西鄉公所(清潔隊)
A2: 半 年 報 | B2: 期間終了1個月內編報 | F2: 表 號 | G2: 1136-01-01-3
A3: 澎湖縣湖西鄉公共場所一般環境衛生管理工作成果
A4: 中 華 民 國 年 月 至 月
F5: 總 計
A6: 風景名勝遊樂地區、公民營市場、鐵公路、客運車站環境衛生督導 | B6: 期 末 列 管 處 所 數 (處)
B7: 抽 查 數 | D7: (處次)
B8: 輔 導 改 善 數 | D8: (處次)
B9: 告 發 取 締 | D9: (處次)
A10: 排 水 溝 幹支線清整 | B10: 長 度 | D10: (公尺)
B11: 清 除 淤 泥 | D11: (公噸)
A12: 公 廁 衛 生 管 理 | B12: 現有建檔管理 公廁數量 | C12: 建檔管理座數 | E12: (座)
C13: 廁所個數 (個) (1)=(2)+(3)+(4)
D14: 男廁 (個) | E14: 小計(2)
E15: 座式
E16: 蹲式
E17: 小便斗
D18: 女廁 (個) | E18: 小計(3)
E19: 座式
E20: 蹲式
D21: 不分男女(個) (4)
B22: 現有建檔管理公廁 督導檢驗及抽查數 | C22: 次 數 | E22: (次)
C23: 座 數 | E23: (座)
B24: 公廁維修 情 形 | C24: 新 建 | E24: (座)
C25: 改 建 | E25: (座)
C26: 整 修 | E26: (座)
B27: 流動廁所 | C27: 現有數量 | E27: (座)
C28: 支 援 | E28: (車次)
C29: 租 借 | E29: (座次)
A30: 填表 | B30: 審核 | E30: 業務主管人員 | F30: 機關長官
E31: 主辦統計人員
G32: 中華民國 年 月 日編製
A35: 資料來源：依據本所業務資料編製。
A36: 填表說明：本表編製一式3份，一份自存，一份送主計室，一份送澎湖縣政府環境保護局。

Sheet 1139-07-01-3 
A1: 公 開 類 | I1: 編製機關 | J1: 湖西鄉公所(清潔隊)
A2: 半 年 報 | B2: 期間終了1個月內編報 | I2: 表 號 | J2: 1139-07-01-3
A3: 澎湖縣湖西鄉環保人員概況
B4: 中華民國 年 月底 | J4: 單位:人
A5: 項 目 別 | B5: 廢棄物清運處理單位(含所清潔隊、廢棄物處理廠(場)等)
B6: 總 計 | C6: 清 運 單 位 | H6: 處 理 單 位
C7: 計 | D7: 垃圾清運 | E7: 水肥清運 | F7: 資源回收 | G7: 其他(含消毒、割草、拆除違規廣告、拖吊廢機動車輛等) | H7: 計 | I7: 垃圾焚化廠、 掩埋廠 | J7: 水肥處理廠
A8: 總計：A=B=C=D | B8: =IF(AND(B9=B24,B24=B27,B27=B9),B9,"F") -> 0 | C8: =C10+C16+C17+C23 -> 0 | D8: =IF(AND(D9=D24,D24=D27,D27=D9),D9,"F") -> 0 | E8: =IF(AND(E9=E24,E24=E27,E27=E9),E9,"F") -> 0 | F8: =IF(AND(F9=F24,F24=F27,F27=F9),F9,"F") -> 0 | G8: =IF(AND(G9=G24,G24=G27,G27=G9),G9,"F") -> 0 | H8: =H10+H16+H17+H23 -> 0 | I8: =IF(AND(I9=I24,I24=I27,I27=I9),I9,"F") -> 0 | J8: =IF(AND(J9=J24,J24=J27,J27=J9),J9,"F") -> 0
A9: 按類別分：B=(1)+(2)+(3)+(4) | B9: =B10+B16+B17+B23 -> 0 | C9: =SUM(D9:G9) -> 0 | D9: =SUM(D11:D17)+D23 -> 0 | E9: =SUM(E11:E17)+E23 -> 0 | F9: =SUM(F11:F17)+F23 -> 0 | G9: =SUM(G11:G17)+G23 -> 0 | H9: =SUM(I9:J9) -> 0 | I9: =SUM(I11:I17)+I23 -> 0 | J9: =SUM(J11:J17)+J23 -> 0
A10: 職員(1) | B10: =C10+H10 -> 0 | C10: =SUM(D10:G10) -> 0 | D10: =SUM(D11:D15) -> 0 | E10: =SUM(E11:E15) -> 0 | F10: =SUM(F11:F15) -> 0 | G10: =SUM(G11:G15) -> 0 | H10: =SUM(I10:J10) -> 0 | I10: =SUM(I11:I15) -> 0 | J10: =SUM(J11:J15) -> 0
A11: 特任、比照簡任 | B11: =C11+H11 -> 0 | C11: =SUM(D11:G11) -> 0 | E11: 0 | H11: =SUM(I11:J11) -> 0
A12: 簡任(10-14職等) | B12: =C12+H12 -> 0 | C12: =SUM(D12:G12) -> 0 | H12: =SUM(I12:J12) -> 0
A13: 薦任(6-9職等) | B13: =C13+H13 -> 0 | C13: =SUM(D13:G13) -> 0 | H13: =SUM(I13:J13) -> 0
A14: 委任(1-5職等) | B14: =C14+H14 -> 0 | C14: =SUM(D14:G14) -> 0 | H14: =SUM(I14:J14) -> 0
A15: 雇員 | B15: =C15+H15 -> 0 | C15: =SUM(D15:G15) -> 0 | H15: =SUM(I15:J15) -> 0
A16: 約聘(僱)(2) | B16: =C16+H16 -> 0 | C16: =SUM(D16:G16) -> 0 | H16: =SUM(I16:J16) -> 0
A17: 工員(3) | B17: =C17+H17 -> 0 | C17: =SUM(D17:G17) -> 0 | D17: =SUM(D18:D22) -> 0 | E17: =SUM(E18:E22) -> 0 | F17: =SUM(F18:F22) -> 0 | G17: =SUM(G18:G22) -> 0 | H17: =SUM(I17:J17) -> 0 | I17: =SUM(I18:I22) -> 0 | J17: =SUM(J18:J22) -> 0
A18: 隊員 | B18: =C18+H18 -> 0 | C18: =SUM(D18:G18) -> 0 | H18: =SUM(I18:J18) -> 0
A19: 駕駛 | B19: =C19+H19 -> 0 | C19: =SUM(D19:G19) -> 0 | H19: =SUM(I19:J19) -> 0
A20: 技工、工友 | B20: =C20+H20 -> 0 | C20: =SUM(D20:G20) -> 0 | H20: =SUM(I20:J20) -> 0
A21: 臨時工 | B21: =C21+H21 -> 0 | C21: =SUM(D21:G21) -> 0 | H21: =SUM(I21:J21) -> 0
A22: 代賑工 | B22: =C22+H22 -> 0 | C22: =SUM(D22:G22) -> 0 | H22: =SUM(I22:J22) -> 0
A23: 駐衛警察(4) | B23: =C23+H23 -> 0 | C23: =SUM(D23:G23) -> 0 | D23: 0 | E23: 0 | F23: 0 | G23: 0 | H23: =SUM(I23:J23) -> 0
A24: 按性別分：C=(5)+(6) | B24: =C24+H24 -> 0 | C24: =SUM(D24:G24) -> 0 | D24: =SUM(D25:D26) -> 0 | E24: =SUM(E25:E26) -> 0 | F24: =SUM(F25:F26) -> 0 | G24: =SUM(G25:G26) -> 0 | H24: =SUM(I24:J24) -> 0 | I24: =SUM(I25:I26) -> 0 | J24: =SUM(J25:J26) -> 0
A25: 男 (5) | B25: =C25+H25 -> 0 | C25: =SUM(D25:G25) -> 0 | H25: =SUM(I25:J25) -> 0
A26: 女 (6) | B26: =C26+H26 -> 0 | C26: =SUM(D26:G26) -> 0 | H26: =SUM(I26:J26) -> 0
A27: 按年齡別分：D=(7)+(8)+(9)+(10)+(11)+(12) | B27: =C27+H27 -> 0 | C27: =SUM(D27:G27) -> 0 | D27: =SUM(D28:D33) -> 0 | E27: =SUM(E28:E33) -> 0 | F27: =SUM(F28:F33) -> 0 | G27: =SUM(G28:G33) -> 0 | H27: =SUM(I27:J27) -> 0 | I27: =SUM(I28:I33) -> 0 | J27: =SUM(J28:J33) -> 0
A28: 29歲以下 (7) | B28: =C28+H28 -> 0 | C28: =SUM(D28:G28) -> 0 | D28: 0 | H28: =SUM(I28:J28) -> 0
A29: 30-39歲 (8) | B29: =C29+H29 -> 0 | C29: =SUM(D29:G29) -> 0 | H29: =SUM(I29:J29) -> 0
A30: 40-49歲 (9) | B30: =C30+H30 -> 0 | C30: =SUM(D30:G30) -> 0 | H30: =SUM(I30:J30) -> 0
A31: 50-59歲 (10) | B31: =C31+H31 -> 0 | C31: =SUM(D31:G31) -> 0 | H31: =SUM(I31:J31) -> 0
A32: 60-65歲 (11) | B32: =C32+H32 -> 0 | C32: =SUM(D32:G32) -> 0 | H32: =SUM(I32:J32) -> 0
A33: 65歲以上 (12) | B33: =C33+H33 -> 0 | C33: =SUM(D33:G33) -> 0 | H33: =SUM(I33:J33) -> 0

Sheet 1139-07-01-3(續1)
A1: 公 開 類 | H1: 編製機關 | I1: 湖西鄉公所(清潔隊)
A2: 半 年 報 | B2: 期間終了1個月內編報 | H2: 表 號 | I2: 1139-07-01-3
A3: 澎湖縣湖西鄉環保人員概況(續1完)
B4: 中華民國 年 月底 | I4: 單位:人
A5: 類 別 | B5: 總 計 | E5: 清潔隊 (不包括廢棄物清運處理單位) | H5: 廢棄物清運處理單位
B6: 計 | C6: 男 | D6: 女 | E6: 計 | F6: 男 | G6: 女 | H6: 計 | I6: 男 | J6: 女
A7: 總計 | B7: =+C7+D7 -> 0 | C7: =SUM(C9:C16) -> 0 | D7: =SUM(D9:D16) -> 0 | E7: =SUM(F7:G7) -> 0 | F7: =IF(F9+F10+F11+F12+F13+F14+F15+F16=[1]表一!B19,F9+F10+F11+F12+F13+F15+F14+F16,"F") -> 0 | G7: =IF(G9+G10+G11+G12+G13+G14+G15+G16=[1]表一!B20,G9+G10+G11+G12+G13+G15+G14+G16,"F") -> 0 | H7: =SUM(I7:J7) -> 0 | I7: =IF(I9+I10+I11+I12+I13+I14+I15+I16=[1]表二!B25,I9+I10+I11+I12+I13+I15+I14+I16,"F") -> 0 | J7: =IF(J9+J10+J11+J12+J13+J14+J15+J16=[1]表二!B26,J9+J10+J11+J12+J13+J15+J14+J16,"F") -> 0
A8: 職員 | B8: =SUM(C8:D8) -> 0 | C8: =SUM(C9:C13) -> 0 | D8: =SUM(D9:D13) -> 0 | E8: =SUM(F8:G8) -> 0 | F8: =SUM(F9:F13) -> 0 | G8: =SUM(G9:G13) -> 0 | H8: =SUM(I8:J8) -> 0 | I8: =SUM(I9:I13) -> 0 | J8: =SUM(J9:J13) -> 0
A9: 特任、比照簡任 | B9: =SUM(C9:D9) -> 0 | C9: =+F9+I9 -> 0 | D9: =+G9+J9 -> 0 | E9: =IF(F9+G9=[1]表一!B10,F9+G9,"F") -> 0 | H9: =IF(I9+J9=[1]表二!B11,I9+J9,"F") -> 0
A10: 簡任(10職等以上) | B10: =SUM(C10:D10) -> 0 | C10: =+F10+I10 -> 0 | D10: =+G10+J10 -> 0 | E10: =IF(F10+G10=[1]表一!B11,F10+G10,"F") -> 0 | H10: =IF(I10+J10=[1]表二!B12,I10+J10,"F") -> 0
A11: 薦任(6-9職等) | B11: =SUM(C11:D11) -> 0 | C11: =+F11+I11 -> 0 | D11: =+G11+J11 -> 0 | E11: =IF(F11+G11=[1]表一!B12,F11+G11,"F") -> 0 | H11: =IF(I11+J11=[1]表二!B13,I11+J11,"F") -> 0
A12: 委任(1-5職等) | B12: =SUM(C12:D12) -> 0 | C12: =+F12+I12 -> 0 | D12: =+G12+J12 -> 0 | E12: =IF(F12+G12=[1]表一!B13,F12+G12,"F") -> 0 | H12: =IF(I12+J12=[1]表二!B14,I12+J12,"F") -> 0
A13: 雇員 | B13: =SUM(C13:D13) -> 0 | C13: =+F13+I13 -> 0 | D13: =+G13+J13 -> 0 | E13: =IF(F13+G13=[1]表一!B14,F13+G13,"F") -> 0 | H13: =IF(I13+J13=[1]表二!B15,I13+J13,"F") -> 0
A14: 約聘(僱) | B14: =SUM(C14:D14) -> 0 | C14: =+F14+I14 -> 0 | D14: =+G14+J14 -> 0 | E14: =IF(F14+G14=[1]表一!B15,F14+G14,"F") -> 0 | H14: =IF(I14+J14=[1]表二!B16,I14+J14,"F") -> 0
A15: 工員 | B15: =SUM(C15:D15) -> 0 | C15: =+F15+I15 -> 0 | D15: =+G15+J15 -> 0 | E15: =IF(F15+G15=[1]表一!B16,F15+G15,"F") -> 0 | H15: =IF(I15+J15=[1]表二!B17,I15+J15,"F") -> 0
A16: 駐衛警察 | B16: =SUM(C16:D16) -> 0 | C16: =+F16+I16 -> 0 | D16: =+G16+J16 -> 0 | E16: =IF(F16+G16=[1]表一!B17,F16+G16,"F") -> 0 | H16: =IF(I16+J16=[1]表二!B23,I16+J16,"F") -> 0
A17: 填表 | B17: 審核 | D17: 業務主管人員 | G17: 機關首長 | I17: 中華民國 年 月 日編製
D18: 主辦統計人員
A20: 填表說明：本表編製1式3份，1份送主計室，1份自存，1份送澎湖縣政府環境保護局。

Sheet 1139-08-01-3
A1: 公 開 類 | F1: 編製機關 | G1: 湖西鄉公所(清潔隊)
A2: 年 度 報 | B2: 期間開始2.5個月內編報 | F2: 表 號 | G2: 1139-08-01-3
A3: 澎湖縣湖西鄉環境保護預算概況
A4: __________會計年度
A5: 一、單位預算－經資門合計 | G5: 單位：千元
A6: 單 位 及 業 務 性 質 別
D7: 預算數總計 | E7: 對特種基金之補助 | F7: 對鄉鎮市公所清潔隊之補助 (僅縣政府環保局需填)
A9: 環保局及所屬單位歲出預算 | B9: 總 計 | D9: =SUM(D10:D23) -> 0 | E9: =SUM(E10:E23) -> 0 | F9: =SUM(F10:G23) -> 0
B10: 一 般 行 政
B11: 綜 合 計 畫
B12: 研 究 發 展
B13: 空 氣 品 質 保 護
B14: 溫 室 氣 體 減 量 管 理
B15: 噪 音 振 動 管 制
B16: 水 質 保 護
B17: 土壤及地下水污染整治
B18: 廢 棄 物 管 理
B19: 環境衛生及毒化物管理
B20: 管制考核、稽查、檢驗及糾紛處理
B21: 環 境 監 測 及 資 訊
... B23: 其 他
A25: 鄉 鎮 市 公 所 清 潔 隊 歲 出 預 算 (僅縣政府環保局需填)

Sheet 1139-08-01-3(續1)
A1: 公 開 類 | F1: 編製機關 | G1: 湖西鄉公所(清潔隊)
A2: 年 度 報 | B2: 期間開始2.5個月內編報 | F2: 表 號 | G2: 1139-08-01-3
A3: 澎湖縣湖西鄉環境保護預算概況 (續1)
A4: __________會計年度
A5: 二、單位預算－經常門 | G5: 單位：千元
A6: 單 位 及 業 務 性 質 別
D7: 預算數總計 | E7: 對特種基金之補助 | F7: 對鄉鎮市公所清潔隊之補助 (僅縣政府環保局需填)
A9: 環保局及所屬單位歲出預算 | B9: 總 計 | D9: =SUM(D10:D22) -> 0 | E9: =SUM(E10:E22) -> 0 | F9: =SUM(F10:G22) -> 0
B10: 一 般 行 政
B11: 綜 合 計 畫
B12: 研 究 發 展
B13: 空 氣 品 質 保 護
B14: 溫 室 氣 體 減 量 管 理
B15: 噪 音 振 動 管 制
B16: 水 質 保 護
B17: 土壤及地下水污染整治
B18: 廢 棄 物 管 理
B19: 環境衛生及毒化物管理
B20: 管制考核、稽查、檢驗及糾紛處理
B21: 環 境 監 測 及 資 訊
B22: 其 他
A24: 鄉 鎮 市 公 所 清 潔 隊 歲 出 預 算 (僅縣政府環保局需填)
A25: 環保局及所屬、鄉鎮市公所清潔隊污染防治附帶收入

Sheet 1139-08-01-3(續2)
A1: 公 開 類 | F1: 編製機關 | G1: 湖西鄉公所(清潔隊)
A2: 年 度 報 | B2: 期間開始2.5個月內編報 | F2: 表 號 | G2: 1139-08-01-3
A3: 澎湖縣湖西鄉環境保護預算概況 (續2)
A4: __________會計年度
A5: 三、單位預算－資本門 | G5: 單位：千元
A6: 單 位 及 業 務 性 質 別
D7: 預算數總計 | E7: 對特種基金之補助 | F7: 對鄉鎮市公所清潔隊之補助 (僅縣政府環保局需填)
A9: 環保局及所屬單位歲出預算 | B9: 總 計 | D9: =SUM(D10:D23) -> 0 | E9: =SUM(E10:E23) -> 0 | F9: =SUM(F10:G23) -> 0
B10: 一 般 行 政
B11: 綜 合 計 畫
B12: 研 究 發 展
B13: 空 氣 品 質 保 護
B14: 溫 室 氣 體 減 量 管 理
B15: 噪 音 振 動 管 制
B16: 水 質 保 護
B17: 土壤及地下水污染整治
B18: 廢 棄 物 管 理
B19: 環境衛生及毒化物管理
B20: 管制考核、稽查、檢驗及糾紛處理
B21: 環 境 監 測 及 資 訊
... B23: 其 他
A25: 鄉 鎮 市 公 所 清 潔 隊 歲 出 預 算 (僅縣政府環保局需填)

Sheet 1139-08-01-3(續完)
A1: 公 開 類 | F1: 編製機關 | G1: 湖西鄉公所(清潔隊)
A2: 年 度 報 | B2: 期間開始2.5個月內編報 | F2: 表 號 | G2: 1139-08-01-3
A3: 澎湖縣湖西鄉環境保護預算概況 (續3完)
A4: 四、附屬單位預算 | D4: _____會計年度 | G4: 單位：千元
A5: 來 源 用 途 別 | C5: 空污基金 | D5: 水污基金 | E5: 廢棄物清除 處理基金 | F5: 環境教育 基 金 | G5: 其他主管基金 (________基金)
A6: 一、基金來源 (A) | C6: =C7+C14+C18 -> 0 | D6: =D7+D14+D18 -> 0 | E6: =E7+E14+E18 -> 0 | F6: =F7+F14+F18 -> 0 | G6: =G7+G14+G18 -> 0
A7: (一)徵收及依法分配收入 | C7: =C8+C13 -> 0 | D7: =D8+D13 -> 0 | E7: =E8+E13 -> 0 | F7: =F8+F13 -> 0 | G7: =G8+G13 -> 0
A8: 1.徵收或環保提撥收入 | C8: =SUM(C9:C11) -> 0
A9: (1)營建工程空氣污染防制費收入
A10: (2)固定污染源空氣污染防制費收入
A11: (3)移動污染源空氣污染防制費收入
A12: (4)非空污類徵收或環保提撥收入
A13: 2.其他徵收及依法分配收入
A14: (二)政府撥入收入 | C14: =SUM(C15:C17) -> 0 | D14: =SUM(D15:D17) -> 0 | E14: =SUM(E15:E17) -> 0 | F14: =SUM(F15:F17) -> 0 | G14: =SUM(G15:G17) -> 0
A15: 1.環保局撥款收入
A16: 2.環保署補助收入
A17: 3.其他政府撥入收入
A18: (三)財產及其他收入 | C18: =SUM(C19:C20) -> 0 | D18: =SUM(D19:D20) -> 0 | E18: =SUM(E19:E20) -> 0 | F18: =SUM(F19:F20) -> 0 | G18: =SUM(G19:G20) -> 0
A19: 1.污染防治附帶收入
A20: 2.其他財產及其他收入
A21: 二、基金用途 (B) | C21: =C22+C26 -> 0 | D21: =D22+D26 -> 0 | E21: =E22+E26 -> 0 | F21: =F22+F26 -> 0 | G21: =G22+G26 -> 0
A22: (一)經常支出 | C22: =SUM(C23:C25) -> 0 | D22: =SUM(D23:D25) -> 0 | E22: =SUM(E23:E25) -> 0 | F22: =SUM(F23:F25) -> 0 | G22: =SUM(G23:G25) -> 0
A23: 1.補助各鄉鎮市公所清潔隊業務費用 (僅縣政府環保局需填)
A24: 2.提撥環境教育基金
A25: 3.其他經常支出
A26: (二)資本支出
A27: 三、本期賸餘（短絀） (=A-B) | C27: =C6-C21 -> 0 | D27: =D6-D21 -> 0 | E27: =E6-E21 -> 0 | F27: =F6-F21 -> 0 | G27: =G6-G21 -> 0
A28: 填表 | B28: 審核 | C28: 業務主管人員 | E28: 機關首長 | G28: 中華民國 年 月 日編製
C29: 主辦統計人員
A30: 資料來源：依據本縣（市）政府環境保護（資源）局及所屬、鄉鎮市公所清潔隊環境保護預算資料編製。
A31: 填表說明：1.本表編製1式3份，1份自存，1份送主計室，1份送澎湖縣政府環境保護局。
A32: 2.「其他主管基金」係指表列基金以外之環保局主管基金， 如焚化廠基金、機場噪音回饋基金等，請列舉並註明基金名稱。

Sheet 1139-08-02-3
A1: 公 開 類 | F1: 編製機關 | G1: 湖西鄉公所(清潔隊)
A2: 年 度 報 | B2: 期間終了4.5個月內編報 | F2: 表 號 | G2: 1139-08-02-3
A3: 澎湖縣湖西鄉環境保護決算概況
A4: __________會計年度
A5: 一、單位決算－經資門合計 | G5: 單位：千元
A6: 單 位 及 業 務 性 質 別
D7: 決算數總計 | E7: 對特種基金之補助 | F7: 對鄉鎮市公所清潔隊之補助 (僅縣政府環保局需填)
A9: 環保局及所屬單位歲出決算 | B9: 總 計 | D9: =SUM(D10:D23) -> 0 | E9: =SUM(E10:E23) -> 0 | F9: =SUM(F10:G23) -> 0
B10: 一 般 行 政
B11: 綜 合 計 畫
B12: 研 究 發 展
B13: 空 氣 品 質 保 護
B14: 溫 室 氣 體 減 量 管 理
B15: 噪 音 振 動 管 制
B16: 水 質 保 護
B17: 土壤及地下水污染整治
B18: 廢 棄 物 管 理
B19: 環境衛生及毒化物管理
B20: 管制考核、稽查、檢驗及糾紛處理
B21: 環 境 監 測 及 資 訊
... B23: 其 他
A25: 鄉 鎮 市 公 所 清 潔 隊 歲 出 決 算 (僅縣政府環保局需填)

Sheet 1139-08-02-3(續1)
A1: 公 開 類 | F1: 編製機關 | G1: 湖西鄉公所(清潔隊)
A2: 年 度 報 | B2: 期間終了4.5個月內編報 | F2: 表 號 | G2: 1139-08-02-3
A3: 澎湖縣湖西鄉環境保護決算概況 (續1)
A4: __________會計年度
A5: 二、單位決算－經常門 | G5: 單位：千元
A6: 單 位 及 業 務 性 質 別
D7: 決算數總計 | E7: 對特種基金之補助 | F7: 對鄉鎮市公所清潔隊之補助 (僅縣政府環保局需填)
A9: 環保局及所屬單位歲出決算 | B9: 總 計 | D9: =SUM(D10:D22) -> 0 | E9: =SUM(E10:E22) -> 0 | F9: =SUM(F10:G22) -> 0
B10: 一 般 行 政
B11: 綜 合 計 畫
B12: 研 究 發 展
B13: 空 氣 品 質 保 護
B14: 溫 室 氣 體 減 量 管 理
B15: 噪 音 振 動 管 制
B16: 水 質 保 護
B17: 土壤及地下水污染整治
B18: 廢 棄 物 管 理
B19: 環境衛生及毒化物管理
B20: 管制考核、稽查、檢驗及糾紛處理
B21: 環 境 監 測 及 資 訊
B22: 其 他
A24: 鄉 鎮 市 公 所 清 潔 隊 歲 出 決 算 (僅縣政府環保局需填)
A25: 環保局及所屬、鄉鎮市公所清潔隊污染防治附帶收入

Sheet 1139-08-02-3(續2)
A1: 公 開 類 | F1: 編製機關 | G1: 湖西鄉公所(清潔隊)
A2: 年 度 報 | B2: 期間終了4.5個月內編報 | F2: 表 號 | G2: 1139-08-02-3
A3: 澎湖縣湖西鄉環境保護決算概況 (續2)
A4: __________會計年度
A5: 三、單位決算－資本門 | G5: 單位：千元
A6: 單 位 及 業 務 性 質 別
D7: 決算數總計 | E7: 對特種基金之補助 | F7: 對鄉鎮市公所清潔隊之補助 (僅縣政府環保局需填)
A9: 環保局及所屬單位歲出決算 | B9: 總 計 | D9: =SUM(D10:D23) -> 0 | E9: =SUM(E10:E23) -> 0 | F9: =SUM(F10:G23) -> 0
B10: 一 般 行 政
B11: 綜 合 計 畫
B12: 研 究 發 展
B13: 空 氣 品 質 保 護
B14: 溫 室 氣 體 減 量 管 理
B15: 噪 音 振 動 管 制
B16: 水 質 保 護
B17: 土壤及地下水污染整治
B18: 廢 棄 物 管 理
B19: 環境衛生及毒化物管理
B20: 管制考核、稽查、檢驗及糾紛處理
B21: 環 境 監 測 及 資 訊
... B23: 其 他
A25: 鄉 鎮 市 公 所 清 潔 隊 歲 出 決 算 (僅縣政府環保局需填)

Sheet 1139-08-02-3(續完)
A1: 公 開 類 | F1: 編製機關 | G1: 湖西鄉公所(清潔隊)
A2: 年 度 報 | B2: 期間終了4.5個月內編報 | F2: 表 號 | G2: 1139-08-02-3
A3: 澎湖縣湖西鄉環境保護決算概況 (續3完)
A4: 四、附屬單位決算 | D4: _____會計年度 | G4: 單位：千元
A5: 來 源 用 途 別 | C5: 空污基金 | D5: 水污基金 | E5: 廢棄物清除 處理基金 | F5: 環境教育 基 金 | G5: 其他主管基金 (________基金)
A6: 一、基金來源 (A) | C6: =C7+C14+C18 -> 0 | D6: =D7+D14+D18 -> 0 | E6: =E7+E14+E18 -> 0 | F6: =F7+F14+F18 -> 0 | G6: =G7+G14+G18 -> 0
A7: (一)徵收及依法分配收入 | C7: =C8+C13 -> 0 | D7: =D8+D13 -> 0 | E7: =E8+E13 -> 0 | F7: =F8+F13 -> 0 | G7: =G8+G13 -> 0
A8: 1.徵收或環保提撥收入 | C8: =SUM(C9:C11) -> 0
A9: (1)營建工程空氣污染防制費收入
A10: (2)固定污染源空氣污染防制費收入
A11: (3)移動污染源空氣污染防制費收入
A12: (4)非空污類徵收或環保提撥收入
A13: 2.其他徵收及依法分配收入
A14: (二)政府撥入收入 | C14: =SUM(C15:C17) -> 0 | D14: =SUM(D15:D17) -> 0 | E14: =SUM(E15:E17) -> 0 | F14: =SUM(F15:F17) -> 0 | G14: =SUM(G15:G17) -> 0
A15: 1.環保局撥款收入
A16: 2.環保署補助收入
A17: 3.其他政府撥入收入
A18: (三)財產及其他收入 | C18: =SUM(C19:C20) -> 0 | D18: =SUM(D19:D20) -> 0 | E18: =SUM(E19:E20) -> 0 | F18: =SUM(F19:F20) -> 0 | G18: =SUM(G19:G20) -> 0
A19: 1.污染防治附帶收入
A20: 2.其他財產及其他收入
A21: 二、基金用途 (B) | C21: =C22+C26 -> 0 | D21: =D22+D26 -> 0 | E21: =E22+E26 -> 0 | F21: =F22+F26 -> 0 | G21: =G22+G26 -> 0
A22: (一)經常支出 | C22: =SUM(C23:C25) -> 0 | D22: =SUM(D23:D25) -> 0 | E22: =SUM(E23:E25) -> 0 | F22: =SUM(F23:F25) -> 0 | G22: =SUM(G23:G25) -> 0
A23: 1.補助各鄉鎮市公所清潔隊業務費用 (僅縣政府環保局需填)
A24: 2.提撥環境教育基金
A25: 3.其他經常支出
A26: (二)資本支出
A27: 三、本期賸餘（短絀） (=A-B) | C27: =C6-C21 -> 0 | D27: =D6-D21 -> 0 | E27: =E6-E21 -> 0 | F27: =F6-F21 -> 0 | G27: =G6-G21 -> 0
A28: 填表 | B28: 審核 | C28: 業務主管人員 | E28: 機關首長 | G28: 中華民國 年 月 日編製
C29: 主辦統計人員
A30: 資料來源：依據本縣（市）政府環境保護（資源）局及所屬、鄉鎮市公所清潔隊環境保護決算資料編製。
A31: 填表說明：1.本表編製1式3份，1份自存，1份送主計室，1份送澎湖縣政府環境保護局。
A32: 2.「其他主管基金」係指表列基金以外之環保局主管基金， 如焚化廠基金、機場噪音回饋基金等，請列舉並註明基金名稱。

Sheet 1140-00-04-3
A1: 公開類 | F1: 編制機關 | G1: 湖西鄉公所(建設課)
A2: 年（臨時）報 | B2: 年報於每年二月底前編報 | F2: 表號 | G2: 1140-00-04-3
A3: 澎湖縣湖西鄉天然災害水土保持設施損失情形
D6: 中華民國 年（ 月 日至 月 日） | G6: 單位：新台幣千元
A7: 災害種類 （災害名稱） | C7: 災害發生時間 | D7: 總損失金額 | E7: 水土保持 | G7: 備註
E8: 農路及產業道路損失 | F8: 治山防災損失
A9: 總計 | C9: -
A10: 地震 | B10: 計 （災害名稱）
A11: 颱風 | B11: 計 （災害名稱）
A12: 水災 | B12: 計 （災害名稱）
A13: 其他災害 | B13: 計 （災害名稱）
A14: 資料來源：依據每次災後災情報告彙整。
A15: 填表說明:本表編製三份，先送主計室會核登記抽存一份，一份自存，一份送澎湖縣政府農漁局。
A16: 填表 | C16: 審核 | D16: 業務主管人員 | E16: 機關首長 | G16: 中華民國 年 月 日
D17: 主辦統計人員

Sheet 2224-01-01-3 
A2: 公 開 類 | L2: 編製機關 | M2: 湖西鄉公所（建設課）
A3: 年 報 | B3: 次年3月底前填報 | L3: 表 號 | M3: 2224-01-01-3
A4: 澎 湖 縣 湖 西 鄉 有 效 農 機 使 用 證 之 農 機 數 量
F5: 中華民國 年底 | M5: 單位：台
A6: 區域別 | B6: 項別 | C6: 耕耘機 | D6: 曳引機 | E6: 插秧機 | F6: 動力中耕管理機 | G6: 動力割草機 | H6: 背負式(動力噴霧機、施肥機) | I6: 定置式動力噴霧機 | L6: ……等其他機型
A9: 總 計 | B9: 合計
A32: 填表 | D32: 審核 | G32: 業務主管人員 | L32: 機關首長
G33: 主辦統計人員
L34: 中華民國 年 月 日編製
A35: 資料來源：依據本鄉農機證照及農機用油管理資訊系統登載之有效農機量統計結果編製。
A36: 填表說明：本表編製3份，1份送本所主計室，1份送澎湖縣政府農漁局，1份自存。
A37: 澎湖縣湖西鄉有效農機使用證之農機數量編製說明
A38: 一、統計範圍及對象：以本鄉所轄地區農機證照及農機用油管理資訊系統登載之各式農機資料為統計對象。
A39: 二、統計標準時間：以每年十二月三十一日之事實為準。
A40: 三、分類標準：依農機種類及主要用途、機型等分為耕耘機、曳引機、插秧機、動力中耕管理機、動力割草機、背負式（動力噴霧 機、施肥機）、定置式動力噴霧機
A41: 、自走式噴霧車、抽水機、水稻聯合收穫機、脫殼（粒）機、農地動力搬運車、動力採茶機、雜糧聯合收穫機、甘蔗採收機、動力剪枝機、乾燥機、茶葉調製
A42: 機（組）、蔬果分級機等。
A43: 四、統計項目定義：
A44: (一)耕耘機：俗稱「鐵牛」，係藉動力碎土、鬆土、平土等耕耘農地之機器，其馬力較曳引機小許多。
A45: (二)曳引機：有動力引擎，可拖拉機件，附掛犁、耙、中耕器等用以犁田整地、播種、施肥等之機器。
A46: (三)插秧機：有動力裝備，可自動將培育好之秧苗，按一定距離插植於田間之機器。
... A64: 六、編送對象：本表編製3份，1份送本所主計室，1份送澎湖縣政府農漁局，1份自存。

Sheet 2229-02-01-3
A1: 公開類 | G1: 編制機關 | H1: 湖西鄉公所(建設課)
A2: 年度報 | B2: 年度終了後二個月填報 | G2: 表號 | H2: 2229-02-01-3
A3: 澎湖縣湖西鄉農路改善及維護工程
G5: 單位：道路總長度：公里
D6: 中華民國 年度 | G6: 總工程費：新台幣元
A7: 工程名稱 | B7: 地點 | C7: 道路總長度 | E7: 總工程費（按經費來源）
C8: 改善 | D8: 維護 | E8: 總計 | F8: 中央 | G8: 縣 | H8: 其他
A9: 合計 | C9: -
A14: 資料來源：根據本鄉年度內完工農路改善、維護等工程結算書，未完工者以發包金額或發包後實際需要工程費填報資料編製。
A15: 填表說明:本表編製三份，先送主計室會核登記抽存一份，一份自存，一份送澎湖縣政府農漁局。
A16: 填表 | B16: 審核 | D16: 業務主管人員 | F16: 機關首長 | G16: 中華民國 年 月 日編製
D17: 主辦統計人員

Sheet 2234-01-01-3
A1: 公開類 | L1: 編製機關 | M1: 澎湖縣湖西鄉公所(建設課)
A2: 即刻報 | B2: 災害發現後15日內編報 | L2: 表 號 | M2: 2234-01-01-3
E4: 澎湖縣湖西鄉森林災害報告
E8: 中華民國 年 月
A9: 災害種類 | B9: 災害年月日 | C9: 發現年月日 | D9: 災害地點 | E9: 所有別 | F9: 面 積 | H9: 數 量 | L9: 價 值 | N9: 原因
F10: 被害 | G10: 剷除收回 | H10: 樹種 | I10: 單位 | J10: 被害 | K10: 損失 | L10: 被害 | M10: 損失
A31: 資料來源:依據本鄉公所每次發現災害報告之資料編製。
A32: 填表說明：1.本表編製3份，於完成會核程序並經機關長官核章後，1份送主計室，1份自存，1份送澎湖縣林務公園管理所。
A33: 2.「災害地點」應填列鄉（市）。
A34: 3.「面積」以公頃計列至小數第4位止，5位以下四捨五入，但未達0.0001公頃者以0.0000公頃計列，無面積時則以「-」填列。
A35: 4.「數量單位」林木以立方公尺計列至小數2位止，3位以下四捨五入，不能計出材積時，以公斤或株計算；幼苗（苗圃地上之苗木屬之）、幼齡木（出栽後，撫育期間之幼木，通常
A36: 為樹高度高於1公尺，但樹徑小於10公分之幼樹屬之）以株數；竹以支數；副產物以公斤計列之。
A38: 填表 | C38: 審核 | F38: 業務主管人員 | J38: 機關首長 | L38: 中華民國 年 月 日編製
F40: 主辦統計人員
A41: 澎湖縣湖西鄉森林災害報告編製說明
A42: 一、 統計範圍及對象：本鄉轄區內之林業用地或依非都市土地使用管制規則規定適用林業用地管制之土地、林木、竹林及副產物遇有發生災害，無論其所有權屬於國有、公有或私有，均為統計對象。 二、 統計標準時間：以災害發生之事實為準。 三、 分類標準：按災害種類、所有別、面積（被害、剷除收回）、數量（樹種、單位、被害、損失）、價值（被害、損失）等分類。 四、 統計項目定義： （一） 災害種類： 1.火災：指森林焚燒所引起之災害。 2.竊取主副產物：指森林主、副產物被他人以不法所有意圖而竊取者，稱之。 3.濫墾：指在林地內任意開墾耕種其他農作物，影響水土保持之不法行為。 4.其他：不屬於前3類之災害如颱風、水災、震災、旱災、病蟲害等。 （二） 所有別：指森林所有權屬，如國有、公有、私有。 (三) 被害面積：以實際受損害面積填報，以森林火災而言，森林主產物遭燃燒受損之面積（扣除草生地、岩石、裸地等）。 (四) 剷除收回面積：係指發現新濫墾而且立即剷除收回者。 (五) 被害數量：乃指林地內之森林主、副產物遭莠民非法砍伐、採取之總額數量（如立方公尺、公斤、株、支、叢等）。 (六) 損失數量：以「被害數量」減去「遺留現場或扣案贓物之森林主、副產物、殘材等數量」計列。 (七) 被害價值：以「被害數量」 x「市價」總額計列（即不扣除犯罪成本之總額）。特殊工藝或園藝觀賞木，以當期工藝或園藝查定價值計列；幼齡木則以造林費用價比例換算【造林總費用 x（被害株數/現存造林木總株數）】，另被害造林木如數量過多且可估算面積者，則以【造林總費用 x（被害面積/造林面積）】計算，且上述兩者皆採取擇高計算；至於租地造林部分之造林費用價，依造林當年度之造林貸款核定標準換算計列。 (八) 損失價值：以「損失數量」x「市價」總額計列（即不扣除犯罪成本之總額）。特殊工藝或園藝觀賞木，以當期工藝或園藝查定價值計列；幼齡木則以造林費用價比例換算【造林總費用 x（損失株數/現存造林木總株數）】，另損失造林木如數量過多且可估算面積者，則以【造林總費用 x（損失面積/造林面積）】計算，且上述兩者皆採取擇高計算；至於租地造林部分之造林費用價，依造林當年度之造林貸款核定標準換算計列。 五、 資料蒐集方法及編製程序：依據鄉公所每次發現災害報告之資料編製。 六、 編送對象：本表編製3份，1份送主計室，1份自存，1份送澎湖縣林務公園管理所。

Sheet 2522-09-20-3
A1: 公 開 類 | M1: 編製機關 | O1: 湖西鄉公所(建設課)
A2: 年 報 | B2: 次年2月底前編報 | M2: 表 號 | O2: 2522-09-20-3
A3: 澎湖縣湖西鄉鄉道公路養護工程成果
A4: 中華民國 年
A5: 路 線 編 號 | C5: 清除坍方或 流失路基填方 (立方公尺) | D5: 整理路肩 或路邊割草 (平方公尺) | E5: 疏修邊溝 (公尺) | F5: 撒舖砂石料 (立方公尺) | G5: 路面填補或加封 (平方公尺) | H5: 橋梁維修 (座) | I5: 箱涵或涵管疏修 | K5: 修復坡體 穩定設施 (平方公尺) | L5: 修復坡面 保護設施 (平方公尺) | N5: 護欄整修 (公尺) | P5: 標誌換裝 (面)
I6: 數量(座) (座) | J6: 長度(公尺) (公尺)
A7: 總 計
A26: 附 註
A27: 填表 | D27: 審核 | G27: 業務主管人員 | K27: 機關首長 | N27: 中華民國 年 月 日編製
G28: 主辦統計人員
A30: 資料來源：根據各項工程之結算書編製。
A31: 填表說明：本表應編製3份，1份送本所主計室，1份自存，1份送澎湖縣政府工務處。
A34: 澎湖縣湖西鄉鄉道公路養護工程成果編製說明
A36: 一、統計範圍及對象：以本所鄉道公路養護工程為統計對象。
A37: 二、統計標準時間：以每年1月1日至12月底之事實為準。
A38: 三、分類標準：橫項目依路線編號分。
A39: 縱項目依清除坍方或流失路基填方、整理路肩或路邊割草、疏修邊溝、撒舖砂石料、路面填補或加封、橋梁維修、箱涵或涵管疏修、修復坡體穩定設施、修復
A40: 坡面保護設施、護欄整修、標誌換裝分。
A41: 四、統計項目定義：
A42: (一)坍方：係指山表層之土壤或岩石，因受震動或內力不平衡致使發生墜落，滑動或流動移位現象。
A43: (二)路基：係指承受路面之土壤部分，其幅度包括路基有效寬度及為使路基穩定所形成填挖土之邊坡。
A44: (三)路肩：係指路基有效寬減除車道寬及行車分隔設施寬所餘兩側之路基面。
... A56: 六、編送對象：本表應編製3份，1份送本所主計室，1份自存，1份送澎湖縣政府工務處。

Sheet 2522-09-23-3
A1: 公 開 類 | N1: 編製機關 | P1: 湖西鄉公所(建設課)
A2: 年 報 | B2: 次年2月底前編報 | N2: 表 號 | P2: 2522-09-23-3
A3: 澎湖縣湖西鄉鄉道公路新建及改善工程完成數量
A4: 中華民國 年
A5: 路 線 編 號 | C5: 新建高級路面 (公尺) | D5: 新建碎石路面 (公尺) | E5: 拓寬及改善高級路面 (平方公尺) | F5: 路基土石方 (立方公尺) | G5: 坡體穩定設施 | H5: 坡面保護設施 (平方公尺) | I5: 新建橋梁 | K5: 拓寬橋梁 | M5: 箱涵或涵管 | O5: 隧道
G6: (平方公尺) | I6: 數量 (座) | J6: 長度 (公尺) | K6: 數量 (座) | L6: 長度 (公尺) | M6: 數量 (座) | N6: 長度 (公尺) | O6: 數量 (座) | Q6: 長度 (公尺)
A7: 總 計
A26: 附 註
A27: 填表 | D27: 審核 | H27: 業務主管人員 | K27: 機關首長 | N27: 中華民國 年 月 日編製
H28: 主辦統計人員
A30: 資料來源︰依據各項工程決算書彙編。
A31: 填表說明︰本表應編製3份，1份送本所主計室，1份自存，1份送澎湖縣政府工務處。
A35: 澎湖縣湖西鄉鄉道公路新建及改善工程完成數量編製說明
A37: 一、統計範圍及對象：以本所鄉道公路新建及改善等工程完成數量為統計對象。
A38: 二、統計標準時間：以每年1月1日至12月底之事實為準。
A39: 三、分類標準：橫項目依路線編號分。
A40: 縱項目依新建高級路面、新建碎石路面、拓寬及改善高級路面、路基土石方、坡體穩定設施、坡面保護設施、新建橋梁、拓寬橋梁、箱涵或涵管、隧道分。
A41: 四、統計項目定義：
A42: (一)高級路面：係指用柏油、瀝青混凝土等材料舖設而成之路面。
A43: (二)碎石路面：係指利用碎石子舖設而成之路面。
A44: (三)路基土石方：係指新建路基填挖土石方及急彎陡坡之改善拓寬修復等之土石方。
A45: (四)坡體穩定設施 :防止邊坡之坡體滑動、或為已呈現不穩定之邊坡增進其穩定程度、或改善已破壞道路之損壞狀況等設施，常見有重力式擋土牆、懸臂式 擋土牆、扶臂式擋土牆、格框式擋土牆、加勁擋土牆、擋土排樁、地錨、土/岩釘或其他等。
... A52: 六、編送對象：本表應編製3份，1份送本所主計室，1份自存，1份送澎湖縣政府工務處。

Sheet 3311-04-01-3
A1: 公 開 類 | Q1: 編製機關 | S1: 湖西鄉公所(民政課)
A2: 年 報 | D2: 每年終了後2個月內編報 | Q2: 表 號 | S2: 3311-04-01-3
A3: 澎湖縣湖西鄉辦理調解業務概況
L4: 中華民國 年 | U4: 單位:件
A5: 區 域 別 | C5: 結案件數總計 | F5: 民事結案件數
F6: 合計 | H6: 債權、債務 | J6: 物權 | L6: 親屬 | N6: 繼承 | P6: 商事 | R6: 營建工程 | T6: 其他
C7: 合計 | D7: 成立 | E7: 不成立 | F7: 成立 | G7: 不成立 | H7: 成立 | I7: 不成立 | J7: 成立 | K7: 不成立 | L7: 成立 | M7: 不成立 | N7: 成立 | O7: 不成立 | P7: 成立 | Q7: 不成立 | R7: 成立 | S7: 不成立 | T7: 成立 | U7: 不成立
A8: 湖西鄉
A15: 公 開 類 | Q15: 編製機關 | S15: 湖西鄉公所(民政課)
A16: 年 報 | D16: 每年終了後2個月內編送 | Q16: 表 號 | S16: 3311-04-01-3
A17: 澎湖縣湖西鄉辦理調解業務概況(續完)
L18: 中華民國 年 | U18: 單位:件
A19: 區域別 | B19: 刑事結案件數 | U19: 年底正在調解中未結案件數
B20: 合計 | E20: 妨害風化 | G20: 妨害婚姻及家庭 | I20: 傷害 | K20: 妨害自由名譽信用及秘密 | N20: 竊盜及侵佔詐欺 | Q20: 毀棄損壞 | S20: 其他
B21: 成立 | D21: 不成立 | E21: 成立 | F21: 不成立 | G21: 成立 | H21: 不成立 | I21: 成立 | J21: 不成立 | K21: 成立 | M21: 不成立 | N21: 成立 | P21: 不成立 | Q21: 成立 | R21: 不成立 | S21: 成立 | T21: 不成立
A22: 湖西鄉
A26: 備 註
A27: 填表 | F27: 審核 | L27: 業務主管人員 | P27: 機關首長
L28: 主辦統計人員
R31: 中華民國 年 月 日編製
A32: 資料來源：依據本所調解案件登記簿資料彙編。
A33: 編製說明：本表編製3份，1份送本所主計室，1份送澎湖縣政府民政處，1份自存。
A34: 澎湖縣湖西鄉辦理調解業務概況編製說明
A35: 一、統計範圍及對象：凡依據本所調解條例之執行案件，均為統計對象。
A36: 二、統計標準時間：動態資料以當年1月至12月之事實為準；靜態資料以當年12月底之事實為準。
A37: 三、分類標準：橫項依「鄉鎮市區別」分；縱項依「結案件數總計」、「民事結案件數」、「刑事結案件數」及「年底正在調解中未結案件數」分。
A38: 四、統計科目定義：
A39: （一）民事結案件數：按債權、債務、物權、親屬、繼承、商事、營建工程及其他分。
A40: （二）刑事結案件數：按妨害風化、妨害婚姻及家庭、傷害、妨害自由名譽信用及秘密、竊盜及侵占詐欺、毀棄損壞及其他分。
A41: （三）成立：指當年調解成立之件數。
A42: （四）不成立：指1次或多次調解未達成協議不再調解之當年結案之件數。
A43: （五）本表結案件數總計應與「3311-04-03-3澎湖縣湖西鄉辦理調解方式概況」之調解方式合計欄相符。
... A45: 六、編送對象：本表編製3份，1份送本所主計室，1份送澎湖縣政府民政處，1份自存。

Sheet 3311-04-02-3
A1: 公 開 類 | W1: 編製機關 | Y1: 湖西鄉公所(民政課)
A2: 年 報 | D2: 每年終了後2個月內編報 | W2: 表 號 | Y2: 3311-04-02-3
A3: 澎湖縣湖西鄉調解委員會組織概況
A4: 中華民國 年底
A5: 區域別 | B5: 鄉鎮市區數 | C5: 委員總人數 | E5: 性別 | G5: 年齡 | K5: 教育程度 | Q5: 行業 | U5: 服務公職 | X5: 委員年資
E6: 男 | F6: 女 | G6: 未滿40歲 | H6: 40-50歲未滿 | I6: 50-60歲未滿 | J6: 60歲以上 | K6: 研究所(含)以上 | L6: 大學校院 | M6: 專科學校 | N6: 高中(職) | O6: 國中 | P6: 國小(含)以下 | Q6: 農、林、漁、牧 | R6: 製造業、水電、燃氣業及營造業 | S6: 商業 | T6: 服務業及其他 | U6: 曾任 公職 | W6: 未曾任公職 | X6: 未滿4年 | Y6: 4-未滿8年 | Z6: 8-未滿16年 | AA6: 16年以上
A7: 湖西鄉
A13: 備 註
A14: 填表 | H14: 審核 | P14: 業務主管人員 | U14: 機關首長
P15: 主辦統計人員
V18: 中華民國 年 月 日編製
A19: 資料來源：依據本所業務資料彙編。
A20: 編製說明：本表編製3份，1份送本所主計室，1份送澎湖縣政府民政處，1份自存。
A21: 澎湖縣湖西鄉調解委員會組織概況編製說明
A22: 一、統計範圍及對象：凡本所之調解委員會組織均為統計對象。
A23: 二、統計標準時間：以當年12月底之事實為準。
A24: 三、分類標準：橫項依「鄉鎮市區別」分；縱項依「鄉鎮市區數」、「委員總人數」、「性別」、「年齡」、「教育程度」、「行業」、「服務公職」及
A25: 「委員年資」分。
A26: 四、統計科目定義（或說明）：
A27: （一）年齡計算方式：以足歲計算。
A28: （二）年資係指在調解委員會任職之年資，以足年計列，但中途離職者，應將該段年資扣除。
A29: 五、資料蒐集方法及編製程序：依據本所業務資料彙編。
A30: 六、編送對象：本表編製3份，1份送本所主計室，1份送澎湖縣政府民政處，1份自存。

Sheet 3311-04-03-3
A1: 公 開 類 | N1: 編製機關 | P1: 澎湖鄉公所(民政課)
A2: 年 報 | B2: 每年終了後2個月內編報 | N2: 表 號 | P2: 3311-04-03-3
A3: 澎湖縣湖西鄉辦理調解方式概況
A4: 中華民國 年 | P4: 單位：件%
A5: 區域別 | B5: 調 解 方 式 | N5: 協 同 調 解
B6: 合 計 | F6: 委 員 集 體 開 會 調 解 | J6: 委 員 獨 任 調 解
B7: 計 | C7: 成立 | D7: 成立比率 (%) | E7: 不成立 | F7: 計 | G7: 成立 | H7: 成立比率 (%) | I7: 不成立 | J7: 計 | K7: 成立 | L7: 成立比率 (%) | M7: 不成立 | N7: 計 | O7: 成立 | P7: 成立比率 (%) | Q7: 不成立
A9: 湖西鄉
A14: 備 註
A15: 填表 | E15: 審核 | I15: 業務主管人員 | M15: 機關首長
I16: 主辦統計人員
A18: 資料來源：依據本所調解案件登記簿資料彙編。 編製說明：本表編製3份，1份送本所主計室，1份送澎湖縣政府民政處，1份自存。 | M18: 編製日期： 年 月 日
A19: 澎湖縣湖西鄉辦理調解方式概況編製說明
A20: 一、統計範圍及對象：凡依據本所調解條例之執行案件經辦理結案者，均為統計對象。
A21: 二、統計標準時間：以當年1月至12月之事實為準。
A22: 三、分類標準：橫項依「鄉鎮市區別」分；縱項依「調解方式」及「協同調解」分。
A23: 四、統計科目定義：
A24: （一）委員集體開會調解：責任區3人以上為主體之調解案件為委員集體開會調解案件。
A25: （二）委員獨任調解：係指責任區1人為主體進行之調解，惟依法須有女性委員或主席參與者，仍以委員獨任調解計算之。
A26: （三）協同調解：指調解件數中，有相關單位人士參與協同調解者。
A27: （四）成立：指當年調解成立之件數。
A28: （五）不成立：指1次或多次調解未達成協議不再調解之當年結案之件數。
A29: （六）本表調解方式合計欄應與「3311-04-01-3澎湖縣湖西鄉辦理調解業務概況」之結案件數總計相符。
A30: 五、資料蒐集方法及編製程序：依據本所調解案件登記簿資料彙編。
A31: 六、編送對象：本表編製3份，1份送本所主計室，1份送澎湖縣政府民政處，1份自存。

Sheet 3312-04-01-3
A1: 公開類 | T1: 編製機關 | V1: 湖西鄉公所(民政課)
A2: 年 報 | B2: 每年終了後4個月內編報 | T2: 表 號 | V2: 3312-04-01-3
A3: 澎湖縣湖西鄉公墓設施概況
A4: 中華民國 年
B5: 公私立別 | C5: 總 計 | G5: 經 規 劃 並 啟 用 者 | S5: 未 經 規 劃 者
C6: 年底處數 | F6: 年底土地面積 (平方公尺) | G6: 年底處數 | H6: 年底土 地面積 (平方公尺) | I6: 年底已 使用面積 (平方公尺) | J6: 年底未 使用面積 (平方公尺) | K6: 年底可使用墓基總數(座) | L6: 年底已使用墓基總數(座) | M6: 本年墓基使用數(座) | N6: 年底尚未使用墓基數(座) | O6: 本年埋葬數 | Q6: 本年遷出數 | S6: 年底處數 | T6: 年底土 地面積 (平方公尺) | U6: 本年埋葬數 | W6: 本年遷出數
C7: 合計 | D7: 開放中 | E7: 已停用 | O7: 屍體數(具) | P7: 骨灰數(個) | Q7: 骨骸數(個) | R7: 骨灰數(個) | U7: 屍體數(具) | V7: 骨灰數(個) | W7: 骨骸數(個) | X7: 骨灰數(個)
A8: 總計 | B8: 合計
B9: 公立
B10: 私立
B11: 合計
B12: 公立
B13: 私立
B14: 合計
B15: 公立
B16: 私立
A17: 備 註
A18: 填表 | G18: 審核 | L18: 業務主管人員 | T18: 機關首長
L19: 主辦統計人員
A21: 資料來源：依據本所業務登記資料彙編。 | V21: 中華民國 年 月 日編製
A22: 填表說明：1.本表編製3份，1份送本所主計室，1份送澎湖縣政府民政處，1份自存。
B23: 2.所轄如有以土葬之墓基供埋葬骨灰使用，則會產生1墓基有多個骨灰盒(罐)之情況，年度埋葬數會大於年度墓基使用數。
A24: 澎湖縣湖西鄉公墓設施概況編製說明
A25: 一、統計範圍及對象：凡本所範圍內，依法設置及管理之公私立公墓，均為統計對象。
A26: 二、統計標準時間：動態資料以當年1月至12月之事實為準；靜態資料以當年12月底之事實為準。
A27: 三、分類標準：橫項依「公私立別」分；縱項依「經規劃並啟用者」及「未經規劃者」分。
A28: 四、統計科目定義：
A29: （一）公墓：係指公立或私立供公眾營葬屍體、埋藏骨灰或供樹葬之設施（含已禁葬公墓）。
A30: （二）經規劃：已完成墓基、對外通道、公共衛生設備、排水系統、墓道標誌、停車場及其他必要之設施者。
A31: （三）未經規劃：指未具備前（二）項之各種公共設施。
A32: （四）開放中：係指設施營運中，受理民眾申請埋葬或骨灰（骸）存放。
A33: （五）已停用：係指設施已禁葬或不再提供骨灰（骸）存放服務。
A34: （六）年底可使用墓基總數：指當年底公墓內可供埋葬之總墓基座數。
A35: （七）本年墓基使用數：指公墓內本年實際埋葬使用之墓基座數。
... A42: 六、編送對象：本表編製3份，1份送本所主計室，1份送澎湖縣政府民政處，1份自存。

Sheet 3312-04-02-3
A1: 公 開 類 | Q1: 編製機關 | R1: 湖西鄉公所(民政課)
A2: 年 報 | C2: 每年終了後4個月內編報 | Q2: 表 號 | R2: 3312-04-02-3
A3: 澎湖縣湖西鄉骨灰(骸)存放設施概況
A4: 中華民國 年
B5: 公私立別 | C5: 年底處數 | F5: 年 底 最 大 容 量 | I5: 年底已使用量 （含本年納入數量） | L5: 年 底 尚 未 使 用 量 | O5: 本 年 納 入 數 量 | R5: 本 年 遷 出 數 量
C6: 合計 | D6: 開放中 | E6: 已停用 | F6: 合 計 （位） | G6: 骨 骸 （位） | H6: 骨 灰 （位） | I6: 合 計 （位） | J6: 骨 骸 （位） | K6: 骨 灰 （位） | L6: 合 計 （位） | M6: 骨骸 （位） | N6: 骨 灰 （位） | O6: 合 計 （位） | P6: 骨 骸 （位） | Q6: 骨 灰 （位） | R6: 合 計 （位） | S6: 骨 骸 （位） | T6: 骨 灰 （位）
A7: 總計 | B7: 合計
B8: 公立
B9: 私立
B10: 計
B11: 公立
B12: 私立
B13: 計
B14: 公立
B15: 私立
B16: 計
B17: 公立
B18: 私立
A19: 填表 | F19: 審核 | K19: 業務主管人員 | P19: 機關首長
K20: 主辦統計人員
A22: 資料來源：依據本所業務登記資料彙編。 | R22: 中華民國 年 月 日編製
A23: 填表說明：本表編製3份，1份送本所主計室，1份送澎湖縣政府民政處，1份自存。
A24: 澎湖縣湖西鄉骨灰(骸)存放設施概況編製說明
A25: 一、統計範圍及對象：凡本所範圍內，依法設置及管理之公私立骨灰(骸)存放設施，均為統計對象。
A26: 二、統計標準時間：動態資料以當年1月至12月之事實為準；靜態資料以當年12月底之事實為準。
A27: 三、分類標準：橫項依「公私立別」分；縱項依「年底處數」、「年底最大容量」、「年底已使用量」、「年底尚未使用量」、「本年納入數量」
A28: 及「本年遷出數量」分。
A29: 四、統計科目定義：
A30: （一）骨灰(骸)存放設施：指供存放骨灰(骸)之納骨堂(塔)、納骨牆或其他形式之存放設施，但不包括未依法設置供家族使用之靈骨堂、
A31: 無主墳墓之萬善堂、宗教建築物附設之靈骨堂。
A32: （二）年底處數
A33: 1.開放中：係指設施營運中，受理民眾申請骨灰（骸）存放。
A34: 2.已停用：係指設施不再提供骨灰（骸）存放服務。
... A38: 六、編送對象：本表編製3份，1份送本所主計室，1份送澎湖縣政府民政處，1份自存。

Sheet 3312-04-03-3
A1: 公 開 類 | R1: 編製機關 | T1: 湖西鄉公所(民政課)
A2: 年 報 | B2: 每年終了後4個月內編報 | R2: 表 號 | T2: 3312-04-03-3
A3: 澎湖縣湖西鄉殯葬管理業務概況
A4: 中華民國 年底
B5: 本年環保葬件數（件） | H5: 年底公立公墓收費狀況 | J5: 年底公立公墓 管理人員 | N5: 年底公立各級單位 殯葬業務承辦人員 | R5: 本年核發埋葬火化 許可證明 | V5: 本年殯葬設施違反殯葬法規處分件數（件）
B6: 非公墓內（灑葬） | F6: 公墓內
B7: 公園、 綠地等 | D7: 海洋 | F7: 樹葬 | H7: 有收費 公墓數 （個） | I7: 未收費 公墓數 （個） | J7: 專任 （人） | L7: 兼任 (人) | M7: 兼任 （人） | N7: 專任 （人） | P7: 兼任 (人) | Q7: 兼任 （人） | R7: 埋葬屍體（件） | T7: 火化屍體或骨骸（件）
B8: 男 | C8: 女 | D8: 男 | E8: 女 | F8: 男 | G8: 女 | J8: 男 | K8: 女 | L8: 男 | M8: 女 | N8: 男 | O8: 女 | P8: 男 | Q8: 女 | R8: 男 | S8: 女 | T8: 男 | U8: 女
A9: 總計
A16: 備 註
A17: 填表 | G17: 審核 | J17: 業務主管人員 | R17: 機關首長
J18: 主辦統計人員
S21: 中華民國 年 月 日編製
A22: 資料來源：依據本所業務登記資料彙編。
A23: 填表說明：1. 本表編製3份，1份送本所主計室，1份送澎湖縣政府民政處，1份自存。
A24: 2.本年環保葬件數、本年殯葬設施違反法規處分件數係指公、私立殯葬管理業務均為統計範圍。
A25: 澎湖縣湖西鄉殯葬管理業務概況編製說明
A26: 一、統計範圍及對象：凡本所依法所為殯葬管理業務，均為統計對象。
A27: 二、統計標準時間：動態資料以當年1月至12月之事實為準；靜態資料以當年12月底之事實為準。
A28: 三、分類標準：縱項依「本年環保葬件數」、「年底公立公墓收費狀況」、「年底公立公墓管理人員」、「年底公立各級單位殯葬業務承辦人員」
A29: 、「本年核發埋葬火化許可證明」及「本年殯葬設施違反殯葬法規處分件數」分，其中「本年環保葬件數」、「年底公立公墓管理人員」、
A30: 「年底公立各級單位殯葬業務承辦人員」及「本年核發埋葬火化許可證明」再依性別分。
A31: 四、統計科目定義：
A32: （一）公墓：係指公立或私立供公眾營葬屍體、埋藏骨灰或供樹葬之設施。
A33: （二）公墓管理人員：即從事公墓清潔、維護、管理及違規案件查報之工作人員。「專任」係指專職於公墓管理工作正式職員；「兼任」則為
... A39: 六、編送對象：本表編製3份，1份送本所主計室，1份送澎湖縣政府民政處，1份自存。

Sheet 10730-04-03-3 
A1: 公開類
A2: 半年報 | B2: 每半年終了後1個月內編送
A3: 澎湖縣湖西鄉老人福利服務成果(一)-文康中心及長青學苑
A4: 中華民國 年 半年（ 月至 月）
A5: 一、老人福利服務（文康活動）中心 | P5: 單位：個、人次
A6: 項目別 | B6: 合計 | G6: 全縣性老人文康中心 | J6: 鄉鎮市區老人文康中心 | M6: 社區型老人文康中心 (長壽俱樂部) | P6: 其他類型老人活動場所 (老人會暨其他團體)
A7: 中心數 (單位數)
A8: 參加人次
A10: 二、長青學苑辦理成果 | R10: 單位：所、班、人次
A11: 期底所數 (所) | B11: 本期開班 班數(班) | C11: 本期開班 參加人次 | D11: 1.參加人次按族群別分 | J11: 2.參加人次按教育程度分 | P11: 3.參加人次按年齡分
D12: 一般 | G12: 原住民 | J12: 不識字 | K12: 識字 | P12: 55~未 滿65歲 | Q12: 65~未 滿70歲 | R12: 70歲 以上
D13: 合計 | E13: 男 | F13: 女 | G13: 合計 | H13: 男 | I13: 女 | K13: 自修 | L13: 國民小學 | M13: 國中 (初中) | N13: 高中(職) | O13: 大專 以上
A15: 填表 | C15: 審核 | G15: 業務主管人員 | K15: 機關首長 | O15: 中華民國 年 月 日編製
G16: 主辦統計人員
A18: 資料來源：依據本所業務登記資料彙編。
A19: 填表說明：本表編製3份，1份送主計室，1份送澎湖縣政府社會處，1份自存。
A27: 澎湖縣湖西鄉老人福利服務成果(一)-文康中心及長青學苑編製說明
A28: 一、統計範圍及對象：凡本鄉老人福利(文康活動)中心及開辦老人進修、研習單位所辦理之業務，均為統計對象。
A29: 二、統計標準時間：動態（本期）資料上半年以1至6月、下半年以7至12月之事實為準；靜態（期底）資料以6月底、12月底之事實為準。
A30: 三、分類標準：依「老人福利服務(文康活動)中心」、「長青學苑辦理成果」分。
A31: 四、統計項目定義：
A32: (一)老人福利服務(文康活動)中心：包含辦理老人福利服務業務或提供老人福利服務諮詢者。
A33: (二)長青學苑：凡是提供55歲以上中、高齡者多元的學習之機會與管道，且每班課程達24小時以上，並連續滿12週，皆屬之。
A34: 1.所數：係指開辦老人進修、研習之單位。若1所學苑有2處以上授課地點者,請依實際授課地點數計算。
A35: 2.開班班數：係以開班時間點統計，以避免跨統計時間點，有重複計算之虞。
A36: 3.參加人次：係為參加活動內容累計參加人數，主要係統計各類老人活動場所之執行成果，其參加人次之計算，不限活動是否接受中央政府或地方政府補助之活動。
... A42: 六、編送對象：本表編製3份，1份送主計室，1份送澎湖縣政府社會處，1份自存。

Sheet 10730-04-07-3
A1: 公開類
A2: 季報 | B2: 每季終了後10日內編送
A3: 澎湖縣湖西鄉列冊需關懷獨居老人人數及服務概況
J4: 中華民國 年第 季( 月至 月) | AB4: 單位:人、人次
A5: 項目別 | C5: 期底獨居老人人數(人) (含 具 原 住 民、榮民(眷) 身 分) | L5: 具榮民(眷) 身分獨居 老人人數 | O5: 具原住民 身分獨居 老人人數 | R5: 本期死亡人數 | U5: 本 期 服 務 成 果 (人次) | AA5: 期底安裝緊急救援連線人數 (人) | AB5: 本期轉介進住機構人數 (人)
C6: 總 計 | F6: 中(低)收入 | I6: 一 般 老 人 | U6: 合計 | V6: 電話 問安 | W6: 關懷 訪視 | X6: 居家 服務 | Y6: 餐飲 服務 | Z6: 陪同 就醫
C7: 合計 | D7: 男 | E7: 女 | F7: 合計 | G7: 男 | H7: 女 | I7: 合計 | J7: 男 | K7: 女 | L7: 合計 | M7: 男 | N7: 女 | O7: 合計 | P7: 男 | Q7: 女 | R7: 合計 | S7: 男 | T7: 女
A8: 總 計 | B8: 合計
B9: 65～69歲
B10: 70～74歲
B11: 75～79歲
B12: 80～84歲
B13: 85歲以上
A14: 湖西鄉 | B14: 合計
B15: 65～69歲
B16: 70～74歲
B17: 75～79歲
B18: 80～84歲
B19: 85歲以上
A20: 填表 | F20: 審核 | L20: 業務主管人員 | S20: 機關首長 | Y20: 中華民國 年 月 日編製
L21: 主辦統計人員
A23: 資料來源：依據各村(里)所報獨居老人資料彙編。
A24: 填表說明：本表編製3份，1份送主計室，1份送縣政府社會處彙整，1份自存。

Sheet 11140-01-01-3
A1: 公開類 | S1: 編製機關 | U1: 湖西鄉公所(社會課) | X1: 公開類 | AM1: 編製機關 | AO1: 湖西鄉公所(社會課)
A2: 年報 | B2: 每年終了後2個月內編送 | S2: 表 號 | U2: 11140-01-01-3 | X2: 年報 | Y2: 每年終了後2個月內編送 | AM2: 表 號 | AO2: 11140-01-01-3
A3: 澎湖縣湖西鄉推行社區發展工作概況 本表共2頁，第1頁 | X3: 澎湖縣湖西鄉推行社區發展工作概況 本表共2頁，第2頁
A4: 中華民國 年 | X4: 中華民國 年
A5: 村里別 | B5: 社區發展協會數 | C5: 社區 戶數 | D5: 社區 人口數 | E5: 理監事人數 | Q5: 社區發展協會會員數 | T5: 設置社區生產建設基金 | U5: 實際使用經費(元) | X5: 村里別 | Y5: 社區活動中心(幢) | AC5: 社區發展工作項目
E6: 合計 | H6: 理事長 | K6: 理事(不含理事長) | N6: 監事 | U6: 合 計 | V6: 政府 補助款 | W6: 社區 自籌款 | AC6: 教育訓練 | AE6: 社區內部組織 | AM6: 辦理社區照顧關懷據點 | AN6: 社區 圖書室 | AO6: 社區 刊物 | AP6: 服務成果
E7: 合計 | F7: 男 | G7: 女 | H7: 合計 | I7: 男 | J7: 女 | K7: 合計 | L7: 男 | M7: 女 | N7: 合計 | O7: 男 | P7: 女 | Q7: 合計 | R7: 男 | S7: 女 | Y7: 合計 | Z7: 原建 (未作修擴建) | AA7: 新建 | AB7: 修擴建 | AC7: 辦理社區幹部訓練 | AD7: 辦理社區觀摩 | AE7: 社區長壽俱樂部 | AF7: 社區成長教室 | AG7: 社區守望相助隊 | AH7: 社區民俗藝文康樂班隊 | AI7: 社區志願服務 | AP7: 福利服務或活動 | AQ7: 其他 服務
AI8: 團隊 | AJ8: 志工數
AJ9: 合計 | AK9: 男 | AL9: 女
B10: (個) | C10: (戶) | D10: (人) | E10: (人) | F10: (人) | G10: (人) | H10: (人) | I10: (人) | J10: (人) | K10: (人) | L10: (人) | M10: (人) | N10: (人) | O10: (人) | P10: (人) | Q10: (人) | R10: (人) | S10: (人) | T10: (個) | AC10: (人次) | AD10: (人次) | AE10: (處) | AF10: (班) | AG10: (隊) | AH10: (隊) | AI10: (隊) | AJ10: (人) | AK10: (人) | AL10: (人) | AM10: (處) | AN10: (處) | AO10: (期) | AP10: (受益人次) | AQ10: (受益人次)
A11: 總計 | X11: 總計
A30: 備註 | X30: 備註
X31: 填表 | AB31: 審核 | AG31: 業務主管人員 | AL31: 機關首長
AG32: 主辦統計人員
X34: 資料來源：依據本所轄內已成立社區發展協會所報工作概況資料審核彙編。 | AM34: 中華民國 年 月 日編製
X35: 填表說明：1.本表編製3份，1份送本所主計室，1份送澎湖縣政府社會處，1份自存。
X36: 2.本表所填資料以已成立社區發展協會為準，不包含未成立社區發展協會資料。
A37: 澎湖縣湖西鄉推行社區發展工作概況編製說明
A38: 一、統計範圍及對象：凡在本所內已成立社區發展協會之社區，均為統計對象。
A39: 二、統計標準時間：動態資料以1至12月事實為準；靜態資料以12月底之事實為準。
A40: 三、分類標準：橫項依「村里別」分；縱項依「社區發展協會數」、「社區戶數」、「社區人口數」、「理監事人數」、「社區發展協會會員數」、「設置社區生
A41: 產建設基金」、「實際使用經費」、「社區活動中心(幢)」及「社區發展工作項目」分。
A42: 四、統計項目定義：
A43: (一)社區：依「社區發展工作綱要」第2條規定，係指「經鄉(鎮、市、區)社區發展主管機關劃定，供為依法設立社區發展協會，推動社區發展工作之組織與活
A44: 動區域」。
A45: (二)社區發展協會：係指經主管機關劃定，依法成立之社區發展協會。
A46: (三)社區戶數：係指社區劃定範圍內所有戶數。
A47: (四)社區人口數：係指社區劃定範圍內所有人口數。
A48: (五)社區發展協會會員：由社區居民自動申請加入社區發展協會為之會員人數。
... A76: 六、編送對象：本表編製3份，1份送本所主計室，1份送澎湖縣政府社會處，1份自存。

Sheet 20902-00-02-3
A1: 公 開 類 | M1: 編製機關 | N1: 湖西鄉公所(財政課)
A2: 月 報 | D2: 次月二十日前編報，十二月份於次年一月底前編報 | M2: 表 號 | N2: 20902-00-02-3
A3: 澎湖縣湖西鄉公庫收支
F4: 中華民國 年 月 | N4: 單位：新臺幣千元
A5: 科 目 別 | F5: 合 計 | H5: 小計(不含特別預算) | J5: 本 年 度 收 入 | L5: 以 前 年 度 收 入 | N5: 特 別 預 算 收 入
F6: 本 月 | G6: 累 計 | H6: 本 月 | I6: 累 計 | J6: 本 月 | K6: 累 計 | L6: 本 月 | M6: 累 計 | N6: 本 月 | O6: 累 計
A7: 收入總計
B8: 經資門合計
B9: 經常門小計
C10: …
C11: …
C12: …
B13: 資本門小計
C14: …
C15: …
C16: …
B17: 融資性庫款收入
C18: …
C19: …
B20: 預算外庫款收入
C21: …
C22: …
C23: …
A24: 上期結存
A25: 收入總計＋上期結存
A28: 公 開 類 | M28: 編製機關 | N28: 湖西鄉公所(財政課)
A29: 月 報 | D29: 次月二十日前編報，十二月份於次年一月底前編報 | M29: 表 號 | N29: 20902-00-02-3
A30: 澎湖縣湖西鄉公庫收支
F31: 中華民國 年 月 | N31: 單位：新臺幣千元
A32: 科 目 別 | F32: 合 計 | H32: 小計(不含特別預算) | J32: 本 年 度 支 出 | L32: 以 前 年 度 支 出 | N32: 特 別 預 算 支 出
F33: 本 月 | G33: 累 計 | H33: 本 月 | I33: 累 計 | J33: 本 月 | K33: 累 計 | L33: 本 月 | M33: 累 計 | N33: 本 月 | O33: 累 計
A34: 支出總計
B35: 經資門合計
B36: 經常門小計
C37: …
B38: 資本門小計
C39: …
B40: 融資性庫款支出
C41: …
C42: …
...

Sheet 附錄二
A20: 附錄二、澎湖縣湖西鄉公所公務統計表冊細部權責區分表

Sheet 權責區分表 
A1: 澎湖縣湖西鄉公所公務統計表冊細部權責區分表
A2: 報 告 表 | G2: 整 理 表 (視需要訂定) | I2: 登 記 冊
A3: 表 號 | B3: 表 名 | C3: 編報週期 | D3: 發布單位 | E3: 審查單位 | F3: 編製單位 | G3: 表 名 | H3: 編製單位 | I3: 名稱 | J3: 編製單位
A4: 1112-02-06-3 | B4: 澎湖縣湖西鄉實施耕地三七五減租成果增減原因 | C4: 年報 | D4: 本所 | E4: 主計室 | F4: 民政課 | I4: 耕地三七五租約登記簿 | J4: 民政課
A5: 1112-02-07-3 | B5: 澎湖縣湖西鄉實施耕地三七五減租後佃農購買耕地面積戶數 | C5: 年報 | D5: 本所 | E5: 主計室 | F5: 民政課 | I5: 耕地三七五租約登記簿 | J5: 民政課
A6: 1112-02-08-3 | B6: 澎湖縣湖西鄉實施耕地三七五減租成果 | C6: 年報 | D6: 本所 | E6: 主計室 | F6: 民政課 | I6: 耕地三七五租約登記簿 | J6: 民政課
A7: 1112-06-01-3 | B7: 澎湖縣湖西鄉各級租佃委員會調解調處案件 | C7: 年報 | D7: 本所 | E7: 主計室 | F7: 民政課 | I7: 耕地三七五租約登記簿 | J7: 民政課
A8: 1113-01-01-3 | B8: 澎湖縣湖西鄉農耕土地面積 | C8: 年報 | D8: 本所 | E8: 主計室 | F8: 建設課 | I8: 無 | J8: 建設課
A9: 1113-05-01-3 | B9: 澎湖縣湖西鄉治山防災整體治理工程 | C9: 年報 | D9: 本所 | E9: 主計室 | F9: 建設課 | I9: 無 | J9: 建設課
A10: 1135-01-02-3 | B10: 澎湖縣湖西鄉資源回收成果統計 | C10: 月報 | D10: 本所 | E10: 主計室 | F10: 清潔隊 | I10: 1.資源回收成果統計表 2.資源回收登記簿 | J10: 清潔隊
A11: 1135-01-03-3 | B11: 澎湖縣湖西鄉一般垃圾及廚餘清理狀況 | C11: 月報 | D11: 本所 | E11: 主計室 | F11: 清潔隊 | I11: 地磅記錄單 | J11: 清潔隊
A12: 1135-01-05-3 | B12: 澎湖縣湖西鄉垃圾處理場(廠)及垃圾回收清除車輛統計 | C12: 半年報 | D12: 本所 | E12: 主計室 | F12: 清潔隊 | I12: 無 | J12: 清潔隊
A13: 1135-01-08-3 | B13: 澎湖縣湖西鄉水肥清運處理狀況 | C13: 半年報 | D13: 本所 | E13: 主計室 | F13: 清潔隊 | I13: 無 | J13: 清潔隊
A14: 1136-01-01-3 | B14: 澎湖縣湖西鄉公共場所一般環境衛生管理工作成果 | C14: 半年報 | D14: 本所 | E14: 主計室 | F14: 清潔隊 | I14: 無 | J14: 清潔隊
A15: 1139-07-01-3 | B15: 澎湖縣湖西鄉環保人員概況 | C15: 半年報 | D15: 本所 | E15: 主計室 | F15: 清潔隊 | I15: 無 | J15: 清潔隊
... A34: 20902-00-02-3 | B34: 澎湖縣湖西鄉公庫收支 | C34: 月報 | D34: 本所 | E34: 主計室 | F34: 財政課 | I34: 無 | J34: 財政課
